Workbook

Sheet 基本資訊
C2: 計量SWOT分析工具(quanSWOT) 3.1 葉連祺設計 2023.12.17
B3: 使用說明:
B4: 1.本程式採取TOWS理念,進行SWOT分項和交互項作用分析(TOWS分析)
B5: 2.請依據工作表編號順序, 進行(1)設定項目名稱,(2)評定SWOT項目,檢視分析結果,(6)評選四類因應策略,(7)輸出TOWS方格
B6: 3.本程式採取菁英決策方式, 設定至多10位評定者,SWOT各向度至多設定10項
B7: 4.各項目評定作用值建議得採用1~7表示影響性程度,1是最小值,7是最大值, 使用者可自行設定
B8: 5.採取兩向度評定值平均的乘積為交互作用值, 並以該值平方根值為交互作用校正值, 數值越大表示交互影響程度越大
B9: 6.請在色塊區域內輸入資料,不要輸入資料至其他白色區域,也請勿隨意修改本程式內部設定, 以免造成分析結果不正確
B10: 7.使用前可清除1.設定項目名稱,2.評定項目兩工作表內色塊區域的資料值, 以利輸入新資料, 而其他工作表內容請勿更動
B11: 8.本程式得免費使用,但請尊重智慧財產權
B12: 9.提醒本程式依據交互作用值提出排序較前的交互作用項建議, 但是未必都合理具意義, 需要使用者審視項目後作決定
B13: 10.為增進交互作用項分析值的合理性, 建議設定交互作用項目的權重值((0~1), 0表示該作用項無效, 其他<=1值表示權重值
B15: 分析結果綜合資訊:
C16: 評估項數 | D16: 評定者數 | E16: 最大評定值 | F16: 最小評定值 | G16: 評定值平均 | H16: 排序 | I16: 評定值標準差 | J16: 評定項數 | K16: 評定值差異大項數 | L16: 說明
B17: 優勢(S) | C17: =COUNT('2.評定項目'!C2:C11) -> 5 | D17: =MAX('2.評定項目'!P2:P11) -> 2 | E17: =MAX('2.評定項目'!E2:N11) -> 6 | F17: =MIN('2.評定項目'!E2:N11) -> 3 | G17: =IF(C17=0,0,AVERAGE('2.評定項目'!E2:N11)) -> 4.6 | H17: =IF(G17=0,0,RANK(G17,G$17:G$20)) -> 1 | I17: =IF(C17=0,0,STDEVA('2.評定項目'!E2:N11)) -> 1.1737878 | J17: =COUNT('2.評定項目'!E2:N11) -> 10 | K17: =SUM('2.評定項目'!V2:V11) -> 2 | L17: =IF(K17>0,"提醒評定者意見較分歧","") -> 提醒評定者意見較分歧
B18: 劣勢(W) | C18: =COUNT('2.評定項目'!C12:C21) -> 5 | D18: =MAX('2.評定項目'!P12:P21) -> 2 | E18: =MAX('2.評定項目'!E12:N21) -> 6 | F18: =MIN('2.評定項目'!E12:N21) -> 2 | G18: =IF(C18=0,0,AVERAGE('2.評定項目'!E3:N12)) -> 4.3 | H18: =IF(G18=0,0,RANK(G18,G$17:G$20)) -> 2 | I18: =IF(C18=0,0,STDEVA('2.評定項目'!E3:N12)) -> 1.4181365 | J18: =COUNT('2.評定項目'!E12:N21) -> 10 | K18: =SUM('2.評定項目'!V12:V21) -> 1 | L18: =IF(K18>0,"提醒評定者意見較分歧","") -> 提醒評定者意見較分歧
B19: 機會(O) | C19: =COUNT('2.評定項目'!C22:C31) -> 5 | D19: =MAX('2.評定項目'!P22:P31) -> 2 | E19: =MAX('2.評定項目'!E22:N31) -> 7 | F19: =MIN('2.評定項目'!E22:N31) -> 1 | G19: =IF(C19=0,0,AVERAGE('2.評定項目'!E4:N13)) -> 4 | H19: =IF(G19=0,0,RANK(G19,G$17:G$20)) -> 4 | I19: =IF(C19=0,0,STDEVA('2.評定項目'!E4:N13)) -> 1.3333333 | J19: =COUNT('2.評定項目'!E22:N31) -> 10 | K19: =SUM('2.評定項目'!V22:V31) -> 1 | L19: =IF(K19>0,"提醒評定者意見較分歧","") -> 提醒評定者意見較分歧
B20: 威脅(T) | C20: =COUNT('2.評定項目'!C32:C41) -> 4 | D20: =MAX('2.評定項目'!P32:P41) -> 2 | E20: =MAX('2.評定項目'!E32:N41) -> 6 | F20: =MIN('2.評定項目'!E32:N41) -> 3 | G20: =IF(C20=0,0,AVERAGE('2.評定項目'!E5:N14)) -> 4.3 | H20: =IF(G20=0,0,RANK(G20,G$17:G$20)) -> 2 | I20: =IF(C20=0,0,STDEVA('2.評定項目'!E5:N14)) -> 1.2516656 | J20: =COUNT('2.評定項目'!E32:N41) -> 8 | K20: =SUM('2.評定項目'!V32:V41) -> 1 | L20: =IF(K20>0,"提醒評定者意見較分歧","") -> 提醒評定者意見較分歧
B21: 整體 | C21: =SUM(C17:C20) -> 19 | D21: =MAX(D17:D20) -> 2 | E21: =MAX(E17:E20) -> 7 | F21: =MIN(F17:F20) -> 1 | G21: =IF(C21=0,0,AVERAGE('2.評定項目'!E6:N15)) -> 4.4
B22: 綜合影響 | G22: =SQRT((G17-G18)^2+(G19-G20)^2)*(IF((G17-G18)>=0,1,-1))*(IF((G19-G20)>=0,1,-1)) -> -0.42426407 | H22: ='8.可視化分析'!D6 -> -45.° | I22: ='8.可視化分析'!E6 -> 優勢-威脅(ST)區域
C24: 交互項數 | D24: 評定者數 | E24: 最大作用值 | F24: 最小作用值 | G24: 作用值平均 | H24: 排序 | I24: 作用值標準差 | J24: 說明
B25: 優勢-機會(S-O) | C25: =COUNT('3.SWOT方格調整'!D14:M23) -> 25 | D25: =D17 -> 2 | E25: =MAX('4.校正SWOT方格'!D14:M23) -> 5.9791304 | F25: =MIN('4.校正SWOT方格'!D14:M23) -> 2.4494897 | G25: =IF(C25=0,0,AVERAGE('4.校正SWOT方格'!D14:M23)) -> 4.2731477 | H25: =IF(C25=0,0,RANK(G25,G$25:G$28)) -> 1 | I25: =IF(C25=0,0,STDEV('4.校正SWOT方格'!D14:M23)) -> 1.0508967 | J25: =IF(G25=0,"",IF(G25>=G$29,"提醒綜合作用值高於四向度綜合作用值平均","")) -> 提醒綜合作用值高於四向度綜合作用值平均
B26: 優勢-威脅(S-T) | C26: =COUNT('3.SWOT方格調整'!N14:W23) -> 20 | D26: =D18 -> 2 | E26: =MAX('4.校正SWOT方格'!N13:W23) -> 5.5 | F26: =MIN('4.校正SWOT方格'!N13:W23) -> 3.4641016 | G26: =IF(C26=0,0,AVERAGE('4.校正SWOT方格'!D15:M24)) -> 4.1172626 | H26: =IF(C26=0,0,RANK(G26,G$25:G$28)) -> 3 | I26: =IF(C26=0,0,STDEV('4.校正SWOT方格'!D15:M24)) -> 1.0743937 | J26: =IF(G26=0,"",IF(G26>=G$29,"提醒綜合作用值高於四向度綜合作用值平均",""))
B27: 劣勢-機會(W-O) | C27: =COUNT('3.SWOT方格調整'!D24:M33) -> 25 | D27: =D19 -> 2 | E27: =MAX('4.校正SWOT方格'!D24:M33) -> 6.244998 | F27: =MIN('4.校正SWOT方格'!D24:M33) -> 2.4494897 | G27: =IF(C27=0,0,AVERAGE('4.校正SWOT方格'!D16:M25)) -> 3.9710004 | H27: =IF(C27=0,0,RANK(G27,G$25:G$28)) -> 4 | I27: =IF(C27=0,0,STDEV('4.校正SWOT方格'!D16:M25)) -> 1.0363978 | J27: =IF(G27=0,"",IF(G27>=G$29,"提醒綜合作用值高於四向度綜合作用值平均",""))
B28: 劣勢-威脅(W-T) | C28: =COUNT('3.SWOT方格調整'!N24:W33) -> 20 | D28: =D20 -> 2 | E28: =MAX('4.校正SWOT方格'!N24:W33) -> 5.7445626 | F28: =MIN('4.校正SWOT方格'!N24:W33) -> 3.4641016 | G28: =IF(C28=0,0,AVERAGE('4.校正SWOT方格'!D17:M26)) -> 4.1268856 | H28: =IF(C28=0,0,RANK(G28,G$25:G$28)) -> 2 | I28: =IF(C28=0,0,STDEV('4.校正SWOT方格'!D17:M26)) -> 1.035221 | J28: =IF(G28=0,"",IF(G28>=G$29,"提醒綜合作用值高於四向度綜合作用值平均",""))
B29: 整體 | C29: =SUM(C25:C28) -> 90 | D29: =MAX(D25:D28) -> 2 | E29: =MAX(E25:E28) -> 6.244998 | F29: =MIN(F25:F28) -> 2.4494897 | G29: =IF(C29=0,0,AVERAGE('4.校正SWOT方格'!D18:M27)) -> 4.1686459
A31: 排序 | B31: 綜合優先項目 | C31: 作用值 | D31: S,W項 | E31: O,T項 | F31: 策略類型
A32: 1 | B32: =IF(ISBLANK('6.SWOT優先交互項'!B15),"",'6.SWOT優先交互項'!B15) -> W4O1 | C32: =IF(ISBLANK('6.SWOT優先交互項'!C15),"",'6.SWOT優先交互項'!C15) -> 6.244998 | D32: =IF(ISBLANK('6.SWOT優先交互項'!E15),"",'6.SWOT優先交互項'!E15) -> 外語教學師資不足需向外招聘 | E32: =IF(ISBLANK('6.SWOT優先交互項'!F15),"",'6.SWOT優先交互項'!F15) -> 教育局積極補助學校設備更新供專案申請 | F32: =IF(ISBLANK('6.SWOT優先交互項'!H15),"",'6.SWOT優先交互項'!H15) -> 改善弱點(W,O)
A33: 2 | B33: =IF(ISBLANK('6.SWOT優先交互項'!B16),"",'6.SWOT優先交互項'!B16) -> S4O1 | C33: =IF(ISBLANK('6.SWOT優先交互項'!C16),"",'6.SWOT優先交互項'!C16) -> 5.9791304 | D33: =IF(ISBLANK('6.SWOT優先交互項'!E16),"",'6.SWOT優先交互項'!E16) -> 家長和社區關心和樂意協助學校 | E33: =IF(ISBLANK('6.SWOT優先交互項'!F16),"",'6.SWOT優先交互項'!F16) -> 教育局積極補助學校設備更新供專案申請 | F33: =IF(ISBLANK('6.SWOT優先交互項'!H16),"",'6.SWOT優先交互項'!H16) -> 積極推展(S,O)
A34: 3 | B34: =IF(ISBLANK('6.SWOT優先交互項'!B17),"",'6.SWOT優先交互項'!B17) -> W4O4 | C34: =IF(ISBLANK('6.SWOT優先交互項'!C17),"",'6.SWOT優先交互項'!C17) -> 5.7445626 | D34: =IF(ISBLANK('6.SWOT優先交互項'!E17),"",'6.SWOT優先交互項'!E17) -> 外語教學師資不足需向外招聘 | E34: =IF(ISBLANK('6.SWOT優先交互項'!F17),"",'6.SWOT優先交互項'!F17) -> 教育局推動優秀退休教師參與學校教學協助方案 | F34: =IF(ISBLANK('6.SWOT優先交互項'!H17),"",'6.SWOT優先交互項'!H17) -> 改善弱點(W,O)
A35: 4 | B35: =IF(ISBLANK('6.SWOT優先交互項'!B18),"",'6.SWOT優先交互項'!B18) -> W4T1 | C35: =IF(ISBLANK('6.SWOT優先交互項'!C18),"",'6.SWOT優先交互項'!C18) -> 5.7445626 | D35: =IF(ISBLANK('6.SWOT優先交互項'!E18),"",'6.SWOT優先交互項'!E18) -> 外語教學師資不足需向外招聘 | E35: =IF(ISBLANK('6.SWOT優先交互項'!F18),"",'6.SWOT優先交互項'!F18) -> 社區學齡入學兒童數逐年降低增加招生難度 | F35: =IF(ISBLANK('6.SWOT優先交互項'!H18),"",'6.SWOT優先交互項'!H18) -> 迴避威脅(W,T)
A36: 5 | B36: =IF(ISBLANK('6.SWOT優先交互項'!B19),"",'6.SWOT優先交互項'!B19) -> S2O1 | C36: =IF(ISBLANK('6.SWOT優先交互項'!C19),"",'6.SWOT優先交互項'!C19) -> 5.7008771 | D36: =IF(ISBLANK('6.SWOT優先交互項'!E19),"",'6.SWOT優先交互項'!E19) -> 教師高度樂業願意積極參與校務 | E36: =IF(ISBLANK('6.SWOT優先交互項'!F19),"",'6.SWOT優先交互項'!F19) -> 教育局積極補助學校設備更新供專案申請 | F36: =IF(ISBLANK('6.SWOT優先交互項'!H19),"",'6.SWOT優先交互項'!H19) -> 積極推展(S,O)
A37: 6 | B37: =IF(ISBLANK('6.SWOT優先交互項'!B20),"",'6.SWOT優先交互項'!B20) -> S5O1 | C37: =IF(ISBLANK('6.SWOT優先交互項'!C20),"",'6.SWOT優先交互項'!C20) -> 5.7008771 | D37: =IF(ISBLANK('6.SWOT優先交互項'!E20),"",'6.SWOT優先交互項'!E20) -> 學校特色教學團隊強且成果多 | E37: =IF(ISBLANK('6.SWOT優先交互項'!F20),"",'6.SWOT優先交互項'!F20) -> 教育局積極補助學校設備更新供專案申請 | F37: =IF(ISBLANK('6.SWOT優先交互項'!H20),"",'6.SWOT優先交互項'!H20) -> 積極推展(S,O)
A38: 7 | B38: =IF(ISBLANK('6.SWOT優先交互項'!B21),"",'6.SWOT優先交互項'!B21) -> S4O4 | C38: =IF(ISBLANK('6.SWOT優先交互項'!C21),"",'6.SWOT優先交互項'!C21) -> 5.5 | D38: =IF(ISBLANK('6.SWOT優先交互項'!E21),"",'6.SWOT優先交互項'!E21) -> 家長和社區關心和樂意協助學校 | E38: =IF(ISBLANK('6.SWOT優先交互項'!F21),"",'6.SWOT優先交互項'!F21) -> 教育局推動優秀退休教師參與學校教學協助方案 | F38: =IF(ISBLANK('6.SWOT優先交互項'!H21),"",'6.SWOT優先交互項'!H21) -> 積極推展(S,O)
A39: 8 | B39: =IF(ISBLANK('6.SWOT優先交互項'!B22),"",'6.SWOT優先交互項'!B22) -> S4T1 | C39: =IF(ISBLANK('6.SWOT優先交互項'!C22),"",'6.SWOT優先交互項'!C22) -> 5.5 | D39: =IF(ISBLANK('6.SWOT優先交互項'!E22),"",'6.SWOT優先交互項'!E22) -> 家長和社區關心和樂意協助學校 | E39: =IF(ISBLANK('6.SWOT優先交互項'!F22),"",'6.SWOT優先交互項'!F22) -> 社區學齡入學兒童數逐年降低增加招生難度 | F39: =IF(ISBLANK('6.SWOT優先交互項'!H22),"",'6.SWOT優先交互項'!H22) -> 降低傷害(S,T)
A40: 9 | B40: =IF(ISBLANK('6.SWOT優先交互項'!B23),"",'6.SWOT優先交互項'!B23) -> W4T3 | C40: =IF(ISBLANK('6.SWOT優先交互項'!C23),"",'6.SWOT優先交互項'!C23) -> 5.4772256 | D40: =IF(ISBLANK('6.SWOT優先交互項'!E23),"",'6.SWOT優先交互項'!E23) -> 外語教學師資不足需向外招聘 | E40: =IF(ISBLANK('6.SWOT優先交互項'!F23),"",'6.SWOT優先交互項'!F23) -> 家長關心外語學習促成學生參加課後外語補習人數漸增 | F40: =IF(ISBLANK('6.SWOT優先交互項'!H23),"",'6.SWOT優先交互項'!H23) -> 迴避威脅(W,T)
A41: 10 | B41: =IF(ISBLANK('6.SWOT優先交互項'!B24),"",'6.SWOT優先交互項'!B24) -> S1O1 | C41: =IF(ISBLANK('6.SWOT優先交互項'!C24),"",'6.SWOT優先交互項'!C24) -> 5.4083269 | D41: =IF(ISBLANK('6.SWOT優先交互項'!E24),"",'6.SWOT優先交互項'!E24) -> 專任教師學歷高且專業力強 | E41: =IF(ISBLANK('6.SWOT優先交互項'!F24),"",'6.SWOT優先交互項'!F24) -> 教育局積極補助學校設備更新供專案申請 | F41: =IF(ISBLANK('6.SWOT優先交互項'!H24),"",'6.SWOT優先交互項'!H24) -> 積極推展(S,O)

Sheet 1.設定項目名稱
B1: 優勢 | C1: 項目 | D1: 劣勢 | E1: 項目 | F1: 機會 | G1: 項目 | H1: 威脅 | I1: 項目 | O1: `
A2: 1 | B2: S1 | C2: 專任教師學歷高且專業力強 | D2: W1 | E2: 教師年齡偏高多數屆臨退休 | F2: O1 | G2: 教育局積極補助學校設備更新供專案申請 | H2: T1 | I2: 社區學齡入學兒童數逐年降低增加招生難度 | K2: S1 | L2: =IF(ISBLANK(C2),"",C2) -> 專任教師學歷高且專業力強 | N2: O1 | O2: =IF(ISBLANK(G2),"",G2) -> 教育局積極補助學校設備更新供專案申請
A3: 2 | B3: S2 | C3: 教師高度樂業願意積極參與校務 | D3: W2 | E3: 經濟不利條件學生偏多需要協助 | F3: O2 | G3: 民間團體培育外語師資尋求合作意願高 | H3: T2 | I3: 他校轉型實驗學校吸引本校生轉學就讀形成競爭 | K3: S2 | L3: =IF(ISBLANK(C3),"",C3) -> 教師高度樂業願意積極參與校務 | N3: O2 | O3: =IF(ISBLANK(G3),"",G3) -> 民間團體培育外語師資尋求合作意願高
A4: 3 | B4: S3 | C4: 學校設備資源豐富滿足教學 | D4: W3 | E4: 圖書設備汰舊更新較慢 | F4: O3 | G4: 大型商場和大企業機構進駐社區吸引建商推出新建案 | H4: T3 | I4: 家長關心外語學習促成學生參加課後外語補習人數漸增 | K4: S3 | L4: =IF(ISBLANK(C4),"",C4) -> 學校設備資源豐富滿足教學 | N4: O3 | O4: =IF(ISBLANK(G4),"",G4) -> 大型商場和大企業機構進駐社區吸引建商推出新建案
A5: 4 | B5: S4 | C5: 家長和社區關心和樂意協助學校 | D5: W4 | E5: 外語教學師資不足需向外招聘 | F5: O4 | G5: 教育局推動優秀退休教師參與學校教學協助方案 | H5: T4 | I5: 民間教育團體培育優秀師資不合現行政策規定無法聘用 | K5: S4 | L5: =IF(ISBLANK(C5),"",C5) -> 家長和社區關心和樂意協助學校 | N5: O4 | O5: =IF(ISBLANK(G5),"",G5) -> 教育局推動優秀退休教師參與學校教學協助方案
A6: 5 | B6: S5 | C6: 學校特色教學團隊強且成果多 | D6: W5 | E6: 科技課程教材相對他校顯得陳舊 | F6: O5 | G6: 民間文教演藝團體提供免費巡迴服務 | H6: T5 | K6: S5 | L6: =IF(ISBLANK(C6),"",C6) -> 學校特色教學團隊強且成果多 | N6: O5 | O6: =IF(ISBLANK(G6),"",G6) -> 民間文教演藝團體提供免費巡迴服務
A7: 6 | B7: S6 | D7: W6 | F7: O6 | H7: T6 | K7: S6 | L7: =IF(ISBLANK(C7),"",C7) | N7: O6 | O7: =IF(ISBLANK(G7),"",G7)
A8: 7 | B8: S7 | D8: W7 | F8: O7 | H8: T7 | K8: S7 | L8: =IF(ISBLANK(C8),"",C8) | N8: O7 | O8: =IF(ISBLANK(G8),"",G8)
A9: 8 | B9: S8 | D9: W8 | F9: O8 | H9: T8 | K9: S8 | L9: =IF(ISBLANK(C9),"",C9) | N9: O8 | O9: =IF(ISBLANK(G9),"",G9)
A10: 9 | B10: S9 | D10: W9 | F10: O9 | H10: T9 | K10: S9 | L10: =IF(ISBLANK(C10),"",C10) | N10: O9 | O10: =IF(ISBLANK(G10),"",G10)
A11: 10 | B11: S10 | D11: W10 | F11: O10 | H11: T10 | K11: S10 | L11: =IF(ISBLANK(C11),"",C11) | N11: O10 | O11: =IF(ISBLANK(G11),"",G11)
K12: W1 | L12: =IF(ISBLANK(E2),"",E2) -> 教師年齡偏高多數屆臨退休 | N12: T1 | O12: =IF(ISBLANK(I2),"",I2) -> 社區學齡入學兒童數逐年降低增加招生難度
K13: W2 | L13: =IF(ISBLANK(E3),"",E3) -> 經濟不利條件學生偏多需要協助 | N13: T2 | O13: =IF(ISBLANK(I3),"",I3) -> 他校轉型實驗學校吸引本校生轉學就讀形成競爭
K14: W3 | L14: =IF(ISBLANK(E4),"",E4) -> 圖書設備汰舊更新較慢 | N14: T3 | O14: =IF(ISBLANK(I4),"",I4) -> 家長關心外語學習促成學生參加課後外語補習人數漸增
K15: W4 | L15: =IF(ISBLANK(E5),"",E5) -> 外語教學師資不足需向外招聘 | N15: T4 | O15: =IF(ISBLANK(I5),"",I5) -> 民間教育團體培育優秀師資不合現行政策規定無法聘用
K16: W5 | L16: =IF(ISBLANK(E6),"",E6) -> 科技課程教材相對他校顯得陳舊 | N16: T5 | O16: =IF(ISBLANK(I6),"",I6)
K17: W6 | L17: =IF(ISBLANK(E7),"",E7) | N17: T6 | O17: =IF(ISBLANK(I7),"",I7)
K18: W7 | L18: =IF(ISBLANK(E8),"",E8) | N18: T7 | O18: =IF(ISBLANK(I8),"",I8)
K19: W8 | L19: =IF(ISBLANK(E9),"",E9) | N19: T8 | O19: =IF(ISBLANK(I9),"",I9)
K20: W9 | L20: =IF(ISBLANK(E10),"",E10) | N20: T9 | O20: =IF(ISBLANK(I10),"",I10)
K21: W10 | L21: =IF(ISBLANK(E11),"",E11) | N21: T10 | O21: =IF(ISBLANK(I11),"",I11)

Sheet 2.評定項目
B1: 項目 | C1: 綜合評定 | D1: 排序 | E1: 評定者1 | F1: 評定者2 | G1: 評定者3 | H1: 評定者4 | I1: 評定者5 | J1: 評定者6 | K1: 評定者7 | L1: 評定者8 | M1: 評定者9 | N1: 評定者10 | P1: 評定者數 | Q1: 平均值 | R1: 最小值 | S1: 最大值 | T1: 標準差 | U1: 變異係數 | W1: 說明 | Y1: 平均值95%LCI | Z1: 平均值95%UCI | AB1: 1 | AC1: 2 | AD1: 3 | AE1: 4 | AF1: 5 | AG1: 6 | AH1: 7 | AI1: 8 | AJ1: 9 | AK1: 10
A2: ='1.設定項目名稱'!B2 -> S1 | B2: =IF(ISBLANK('1.設定項目名稱'!C2)," ",'1.設定項目名稱'!C2) -> 專任教師學歷高且專業力強 | C2: =IF(P2>0,AVERAGEA(E2:N2),"") -> 4.5 | D2: =IF(P2>0,RANK(C2,C$2:C$11),"") -> 4 | E2: 5 | F2: 4 | P2: =COUNT(E2:N2) -> 2 | Q2: =IF(COUNT(E2:N2)=0,"",AVERAGE(E2:N2)) -> 4.5 | R2: =IF(COUNT(E2:N2)=0,"",MIN(E2:N2)) -> 4 | S2: =IF(COUNT(E2:N2)=0,"",MAX(E2:N2)) -> 5 | T2: =IF(COUNT(E2:N2)=0,"",STDEV(E2:N2)) -> 0.70710678 | U2: =IF(COUNT(E2:N2)=0,"",T2/Q2*100) -> 15.713484 | V2: =IF(P2>0,1*(T2>1),0) -> 0 | W2: =IF(P2>0,IF(T2>1,"評定意見差異較大",""),"") | Y2: =IF(P2=0,"",IF(T2=0,0,Q2-_xlfn.CONFIDENCE.T(0.05,T2,P2))) -> -1.8531024 | Z2: =IF(P2=0,"",IF(T2=0,0,Q2+_xlfn.CONFIDENCE.T(0.05,T2,P2))) -> 10.853102
A3: ='1.設定項目名稱'!B3 -> S2 | B3: =IF(ISBLANK('1.設定項目名稱'!C3)," ",'1.設定項目名稱'!C3) -> 教師高度樂業願意積極參與校務 | C3: =IF(P3>0,AVERAGEA(E3:N3),"") -> 5 | D3: =IF(P3>0,RANK(C3,C$2:C$11),"") -> 2 | E3: 4 | F3: 6 | P3: =COUNT(E3:N3) -> 2 | Q3: =IF(COUNT(E3:N3)=0,"",AVERAGE(E3:N3)) -> 5 | R3: =IF(COUNT(E3:N3)=0,"",MIN(E3:N3)) -> 4 | S3: =IF(COUNT(E3:N3)=0,"",MAX(E3:N3)) -> 6 | T3: =IF(COUNT(E3:N3)=0,"",STDEV(E3:N3)) -> 1.4142136 | U3: =IF(COUNT(E3:N3)=0,"",T3/Q3*100) -> 28.284271 | V3: =IF(P3>0,1*(T3>1),0) -> 1 | W3: =IF(P3>0,IF(T3>1,"評定意見差異較大",""),"") -> 評定意見差異較大 | Y3: =IF(P3=0,"",IF(T3=0,0,Q3-_xlfn.CONFIDENCE.T(0.05,T3,P3))) -> -7.7062047 | Z3: =IF(P3=0,"",IF(T3=0,0,Q3+_xlfn.CONFIDENCE.T(0.05,T3,P3))) -> 17.706205 | AB3: =IF(ISERROR(C$2-$C3),"",C$2-$C3) -> -0.5
A4: ='1.設定項目名稱'!B4 -> S3 | B4: =IF(ISBLANK('1.設定項目名稱'!C4)," ",'1.設定項目名稱'!C4) -> 學校設備資源豐富滿足教學 | C4: =IF(P4>0,AVERAGEA(E4:N4),"") -> 3 | D4: =IF(P4>0,RANK(C4,C$2:C$11),"") -> 5 | E4: 3 | F4: 3 | P4: =COUNT(E4:N4) -> 2 | Q4: =IF(COUNT(E4:N4)=0,"",AVERAGE(E4:N4)) -> 3 | R4: =IF(COUNT(E4:N4)=0,"",MIN(E4:N4)) -> 3 | S4: =IF(COUNT(E4:N4)=0,"",MAX(E4:N4)) -> 3 | T4: =IF(COUNT(E4:N4)=0,"",STDEV(E4:N4)) -> 0 | U4: =IF(COUNT(E4:N4)=0,"",T4/Q4*100) -> 0 | V4: =IF(P4>0,1*(T4>1),0) -> 0 | W4: =IF(P4>0,IF(T4>1,"評定意見差異較大",""),"") | Y4: =IF(P4=0,"",IF(T4=0,0,Q4-_xlfn.CONFIDENCE.T(0.05,T4,P4))) -> 0 | Z4: =IF(P4=0,"",IF(T4=0,0,Q4+_xlfn.CONFIDENCE.T(0.05,T4,P4))) -> 0 | AB4: =IF(ISERROR(C$2-$C4),"",C$2-$C4) -> 1.5 | AC4: =IF(ISERROR(C$3-$C4),"",C$3-$C4) -> 2
A5: ='1.設定項目名稱'!B5 -> S4 | B5: =IF(ISBLANK('1.設定項目名稱'!C5)," ",'1.設定項目名稱'!C5) -> 家長和社區關心和樂意協助學校 | C5: =IF(P5>0,AVERAGEA(E5:N5),"") -> 5.5 | D5: =IF(P5>0,RANK(C5,C$2:C$11),"") -> 1 | E5: 5 | F5: 6 | P5: =COUNT(E5:N5) -> 2 | Q5: =IF(COUNT(E5:N5)=0,"",AVERAGE(E5:N5)) -> 5.5 | R5: =IF(COUNT(E5:N5)=0,"",MIN(E5:N5)) -> 5 | S5: =IF(COUNT(E5:N5)=0,"",MAX(E5:N5)) -> 6 | T5: =IF(COUNT(E5:N5)=0,"",STDEV(E5:N5)) -> 0.70710678 | U5: =IF(COUNT(E5:N5)=0,"",T5/Q5*100) -> 12.856487 | V5: =IF(P5>0,1*(T5>1),0) -> 0 | W5: =IF(P5>0,IF(T5>1,"評定意見差異較大",""),"") | Y5: =IF(P5=0,"",IF(T5=0,0,Q5-_xlfn.CONFIDENCE.T(0.05,T5,P5))) -> -0.85310237 | Z5: =IF(P5=0,"",IF(T5=0,0,Q5+_xlfn.CONFIDENCE.T(0.05,T5,P5))) -> 11.853102 | AB5: =IF(ISERROR(C$2-$C5),"",C$2-$C5) -> -1 | AC5: =IF(ISERROR(C$3-$C5),"",C$3-$C5) -> -0.5 | AD5: =IF(ISERROR(C$4-$C5),"",C$4-$C5) -> -2.5
A6: ='1.設定項目名稱'!B6 -> S5 | B6: =IF(ISBLANK('1.設定項目名稱'!C6)," ",'1.設定項目名稱'!C6) -> 學校特色教學團隊強且成果多 | C6: =IF(P6>0,AVERAGEA(E6:N6),"") -> 5 | D6: =IF(P6>0,RANK(C6,C$2:C$11),"") -> 2 | E6: 6 | F6: 4 | P6: =COUNT(E6:N6) -> 2 | Q6: =IF(COUNT(E6:N6)=0,"",AVERAGE(E6:N6)) -> 5 | R6: =IF(COUNT(E6:N6)=0,"",MIN(E6:N6)) -> 4 | S6: =IF(COUNT(E6:N6)=0,"",MAX(E6:N6)) -> 6 | T6: =IF(COUNT(E6:N6)=0,"",STDEV(E6:N6)) -> 1.4142136 | U6: =IF(COUNT(E6:N6)=0,"",T6/Q6*100) -> 28.284271 | V6: =IF(P6>0,1*(T6>1),0) -> 1 | W6: =IF(P6>0,IF(T6>1,"評定意見差異較大",""),"") -> 評定意見差異較大 | Y6: =IF(P6=0,"",IF(T6=0,0,Q6-_xlfn.CONFIDENCE.T(0.05,T6,P6))) -> -7.7062047 | Z6: =IF(P6=0,"",IF(T6=0,0,Q6+_xlfn.CONFIDENCE.T(0.05,T6,P6))) -> 17.706205 | AB6: =IF(ISERROR(C$2-$C6),"",C$2-$C6) -> -0.5 | AC6: =IF(ISERROR(C$3-$C6),"",C$3-$C6) -> 0 | AD6: =IF(ISERROR(C$4-$C6),"",C$4-$C6) -> -2 | AE6: =IF(ISERROR(C$5-$C6),"",C$5-$C6) -> 0.5
A7: ='1.設定項目名稱'!B7 -> S6 | B7: =IF(ISBLANK('1.設定項目名稱'!C7)," ",'1.設定項目名稱'!C7) | C7: =IF(P7>0,AVERAGEA(E7:N7),"") | D7: =IF(P7>0,RANK(C7,C$2:C$11),"") | P7: =COUNT(E7:N7) -> 0 | Q7: =IF(COUNT(E7:N7)=0,"",AVERAGE(E7:N7)) | R7: =IF(COUNT(E7:N7)=0,"",MIN(E7:N7)) | S7: =IF(COUNT(E7:N7)=0,"",MAX(E7:N7)) | T7: =IF(COUNT(E7:N7)=0,"",STDEV(E7:N7)) | U7: =IF(COUNT(E7:N7)=0,"",T7/Q7*100) | V7: =IF(P7>0,1*(T7>1),0) -> 0 | W7: =IF(P7>0,IF(T7>1,"評定意見差異較大",""),"") | Y7: =IF(P7=0,"",IF(T7=0,0,Q7-_xlfn.CONFIDENCE.T(0.05,T7,P7))) | Z7: =IF(P7=0,"",IF(T7=0,0,Q7+_xlfn.CONFIDENCE.T(0.05,T7,P7))) | AB7: =IF(ISERROR(C$2-$C7),"",C$2-$C7) | AC7: =IF(ISERROR(C$3-$C7),"",C$3-$C7) | AD7: =IF(ISERROR(C$4-$C7),"",C$4-$C7) | AE7: =IF(ISERROR(C$5-$C7),"",C$5-$C7) | AF7: =IF(ISERROR(C$6-$C7),"",C$6-$C7) | AH7: =IF(ISERROR(G$4-$C7),"",G$4-$C7)
A8: ='1.設定項目名稱'!B8 -> S7 | B8: =IF(ISBLANK('1.設定項目名稱'!C8)," ",'1.設定項目名稱'!C8) | C8: =IF(P8>0,AVERAGEA(E8:N8),"") | D8: =IF(P8>0,RANK(C8,C$2:C$11),"") | P8: =COUNT(E8:N8) -> 0 | Q8: =IF(COUNT(E8:N8)=0,"",AVERAGE(E8:N8)) | R8: =IF(COUNT(E8:N8)=0,"",MIN(E8:N8)) | S8: =IF(COUNT(E8:N8)=0,"",MAX(E8:N8)) | T8: =IF(COUNT(E8:N8)=0,"",STDEV(E8:N8)) | U8: =IF(COUNT(E8:N8)=0,"",T8/Q8*100) | V8: =IF(P8>0,1*(T8>1),0) -> 0 | W8: =IF(P8>0,IF(T8>1,"評定意見差異較大",""),"") | Y8: =IF(P8=0,"",IF(T8=0,0,Q8-_xlfn.CONFIDENCE.T(0.05,T8,P8))) | Z8: =IF(P8=0,"",IF(T8=0,0,Q8+_xlfn.CONFIDENCE.T(0.05,T8,P8))) | AB8: =IF(ISERROR(C$2-$C8),"",C$2-$C8) | AC8: =IF(ISERROR(C$3-$C8),"",C$3-$C8) | AD8: =IF(ISERROR(C$4-$C8),"",C$4-$C8) | AE8: =IF(ISERROR(C$5-$C8),"",C$5-$C8) | AF8: =IF(ISERROR(C$6-$C8),"",C$6-$C8) | AG8: =IF(ISERROR(C$7-$C8),"",C$7-$C8)
A9: ='1.設定項目名稱'!B9 -> S8 | B9: =IF(ISBLANK('1.設定項目名稱'!C9)," ",'1.設定項目名稱'!C9) | C9: =IF(P9>0,AVERAGEA(E9:N9),"") | D9: =IF(P9>0,RANK(C9,C$2:C$11),"") | P9: =COUNT(E9:N9) -> 0 | Q9: =IF(COUNT(E9:N9)=0,"",AVERAGE(E9:N9)) | R9: =IF(COUNT(E9:N9)=0,"",MIN(E9:N9)) | S9: =IF(COUNT(E9:N9)=0,"",MAX(E9:N9)) | T9: =IF(COUNT(E9:N9)=0,"",STDEV(E9:N9)) | U9: =IF(COUNT(E9:N9)=0,"",T9/Q9*100) | V9: =IF(P9>0,1*(T9>1),0) -> 0 | W9: =IF(P9>0,IF(T9>1,"評定意見差異較大",""),"") | Y9: =IF(P9=0,"",IF(T9=0,0,Q9-_xlfn.CONFIDENCE.T(0.05,T9,P9))) | Z9: =IF(P9=0,"",IF(T9=0,0,Q9+_xlfn.CONFIDENCE.T(0.05,T9,P9))) | AB9: =IF(ISERROR(C$2-$C9),"",C$2-$C9) | AC9: =IF(ISERROR(C$3-$C9),"",C$3-$C9) | AD9: =IF(ISERROR(C$4-$C9),"",C$4-$C9) | AE9: =IF(ISERROR(C$5-$C9),"",C$5-$C9) | AF9: =IF(ISERROR(C$6-$C9),"",C$6-$C9) | AG9: =IF(ISERROR(C$7-$C9),"",C$7-$C9) | AH9: =IF(ISERROR(C$8-$C9),"",C$8-$C9)
A10: ='1.設定項目名稱'!B10 -> S9 | B10: =IF(ISBLANK('1.設定項目名稱'!C10)," ",'1.設定項目名稱'!C10) | C10: =IF(P10>0,AVERAGEA(E10:N10),"") | D10: =IF(P10>0,RANK(C10,C$2:C$11),"") | P10: =COUNT(E10:N10) -> 0 | Q10: =IF(COUNT(E10:N10)=0,"",AVERAGE(E10:N10)) | R10: =IF(COUNT(E10:N10)=0,"",MIN(E10:N10)) | S10: =IF(COUNT(E10:N10)=0,"",MAX(E10:N10)) | T10: =IF(COUNT(E10:N10)=0,"",STDEV(E10:N10)) | U10: =IF(COUNT(E10:N10)=0,"",T10/Q10*100) | V10: =IF(P10>0,1*(T10>1),0) -> 0 | W10: =IF(P10>0,IF(T10>1,"評定意見差異較大",""),"") | Y10: =IF(P10=0,"",IF(T10=0,0,Q10-_xlfn.CONFIDENCE.T(0.05,T10,P10))) | Z10: =IF(P10=0,"",IF(T10=0,0,Q10+_xlfn.CONFIDENCE.T(0.05,T10,P10))) | AB10: =IF(ISERROR(C$2-$C10),"",C$2-$C10) | AC10: =IF(ISERROR(C$3-$C10),"",C$3-$C10) | AD10: =IF(ISERROR(C$4-$C10),"",C$4-$C10) | AE10: =IF(ISERROR(C$5-$C10),"",C$5-$C10) | AF10: =IF(ISERROR(C$6-$C10),"",C$6-$C10) | AG10: =IF(ISERROR(C$7-$C10),"",C$7-$C10) | AH10: =IF(ISERROR(C$8-$C10),"",C$8-$C10) | AI10: =IF(ISERROR(C$9-$C10),"",C$9-$C10)
A11: ='1.設定項目名稱'!B11 -> S10 | B11: =IF(ISBLANK('1.設定項目名稱'!C11)," ",'1.設定項目名稱'!C11) | C11: =IF(P11>0,AVERAGEA(E11:N11),"") | D11: =IF(P11>0,RANK(C11,C$2:C$11),"") | P11: =COUNT(E11:N11) -> 0 | Q11: =IF(COUNT(E11:N11)=0,"",AVERAGE(E11:N11)) | R11: =IF(COUNT(E11:N11)=0,"",MIN(E11:N11)) | S11: =IF(COUNT(E11:N11)=0,"",MAX(E11:N11)) | T11: =IF(COUNT(E11:N11)=0,"",STDEV(E11:N11)) | U11: =IF(COUNT(E11:N11)=0,"",T11/Q11*100) | V11: =IF(P11>0,1*(T11>1),0) -> 0 | W11: =IF(P11>0,IF(T11>1,"評定意見差異較大",""),"") | Y11: =IF(P11=0,"",IF(T11=0,0,Q11-_xlfn.CONFIDENCE.T(0.05,T11,P11))) | Z11: =IF(P11=0,"",IF(T11=0,0,Q11+_xlfn.CONFIDENCE.T(0.05,T11,P11))) | AB11: =IF(ISERROR(C$2-$C11),"",C$2-$C11) | AC11: =IF(ISERROR(C$3-$C11),"",C$3-$C11) | AD11: =IF(ISERROR(C$4-$C11),"",C$4-$C11) | AE11: =IF(ISERROR(C$5-$C11),"",C$5-$C11) | AF11: =IF(ISERROR(C$6-$C11),"",C$6-$C11) | AG11: =IF(ISERROR(C$7-$C11),"",C$7-$C11) | AH11: =IF(ISERROR(C$8-$C11),"",C$8-$C11) | AI11: =IF(ISERROR(C$9-$C11),"",C$9-$C11) | AJ11: =IF(ISERROR(C$10-$C11),"",C$10-$C11)
A12: ='1.設定項目名稱'!D2 -> W1 | B12: =IF(ISBLANK('1.設定項目名稱'!E2),"",'1.設定項目名稱'!E2) -> 教師年齡偏高多數屆臨退休 | C12: =IF(P12>0,AVERAGEA(E12:N12),"") -> 3 | D12: =IF(P12>0,RANK(C12,C$12:C$21),"") -> 5 | E12: 2 | F12: 4 | P12: =COUNT(E12:N12) -> 2 | Q12: =IF(COUNT(E12:N12)=0,"",AVERAGE(E12:N12)) -> 3 | R12: =IF(COUNT(E12:N12)=0,"",MIN(E12:N12)) -> 2 | S12: =IF(COUNT(E12:N12)=0,"",MAX(E12:N12)) -> 4 | T12: =IF(COUNT(E12:N12)=0,"",STDEV(E12:N12)) -> 1.4142136 | U12: =IF(COUNT(E12:N12)=0,"",T12/Q12*100) -> 47.140452 | V12: =IF(P12>0,1*(T12>1),0) -> 1 | W12: =IF(P12>0,IF(T12>1,"評定意見差異較大",""),"") -> 評定意見差異較大 | Y12: =IF(P12=0,"",IF(T12=0,0,Q12-_xlfn.CONFIDENCE.T(0.05,T12,P12))) -> -9.7062047 | Z12: =IF(P12=0,"",IF(T12=0,0,Q12+_xlfn.CONFIDENCE.T(0.05,T12,P12))) -> 15.706205
A13: ='1.設定項目名稱'!D3 -> W2 | B13: =IF(ISBLANK('1.設定項目名稱'!E3),"",'1.設定項目名稱'!E3) -> 經濟不利條件學生偏多需要協助 | C13: =IF(P13>0,AVERAGEA(E13:N13),"") -> 3.5 | D13: =IF(P13>0,RANK(C13,C$12:C$21),"") -> 4 | E13: 3 | F13: 4 | P13: =COUNT(E13:N13) -> 2 | Q13: =IF(COUNT(E13:N13)=0,"",AVERAGE(E13:N13)) -> 3.5 | R13: =IF(COUNT(E13:N13)=0,"",MIN(E13:N13)) -> 3 | S13: =IF(COUNT(E13:N13)=0,"",MAX(E13:N13)) -> 4 | T13: =IF(COUNT(E13:N13)=0,"",STDEV(E13:N13)) -> 0.70710678 | U13: =IF(COUNT(E13:N13)=0,"",T13/Q13*100) -> 20.203051 | V13: =IF(P13>0,1*(T13>1),0) -> 0 | W13: =IF(P13>0,IF(T13>1,"評定意見差異較大",""),"") | Y13: =IF(P13=0,"",IF(T13=0,0,Q13-_xlfn.CONFIDENCE.T(0.05,T13,P13))) -> -2.8531024 | Z13: =IF(P13=0,"",IF(T13=0,0,Q13+_xlfn.CONFIDENCE.T(0.05,T13,P13))) -> 9.8531024 | AB13: =IF(ISERROR(C$12-$C13),"",C$12-$C13) -> -0.5
A14: ='1.設定項目名稱'!D4 -> W3 | B14: =IF(ISBLANK('1.設定項目名稱'!E4),"",'1.設定項目名稱'!E4) -> 圖書設備汰舊更新較慢 | C14: =IF(P14>0,AVERAGEA(E14:N14),"") -> 4.5 | D14: =IF(P14>0,RANK(C14,C$12:C$21),"") -> 2 | E14: 4 | F14: 5 | P14: =COUNT(E14:N14) -> 2 | Q14: =IF(COUNT(E14:N14)=0,"",AVERAGE(E14:N14)) -> 4.5 | R14: =IF(COUNT(E14:N14)=0,"",MIN(E14:N14)) -> 4 | S14: =IF(COUNT(E14:N14)=0,"",MAX(E14:N14)) -> 5 | T14: =IF(COUNT(E14:N14)=0,"",STDEV(E14:N14)) -> 0.70710678 | U14: =IF(COUNT(E14:N14)=0,"",T14/Q14*100) -> 15.713484 | V14: =IF(P14>0,1*(T14>1),0) -> 0 | W14: =IF(P14>0,IF(T14>1,"評定意見差異較大",""),"") | Y14: =IF(P14=0,"",IF(T14=0,0,Q14-_xlfn.CONFIDENCE.T(0.05,T14,P14))) -> -1.8531024 | Z14: =IF(P14=0,"",IF(T14=0,0,Q14+_xlfn.CONFIDENCE.T(0.05,T14,P14))) -> 10.853102 | AB14: =IF(ISERROR(C$12-$C14),"",C$12-$C14) -> -1.5 | AC14: =IF(ISERROR(C$13-$C14),"",C$13-$C14) -> -1
A15: ='1.設定項目名稱'!D5 -> W4 | B15: =IF(ISBLANK('1.設定項目名稱'!E5),"",'1.設定項目名稱'!E5) -> 外語教學師資不足需向外招聘 | C15: =IF(P15>0,AVERAGEA(E15:N15),"") -> 6 | D15: =IF(P15>0,RANK(C15,C$12:C$21),"") -> 1 | E15: 6 | F15: 6 | P15: =COUNT(E15:N15) -> 2 | Q15: =IF(COUNT(E15:N15)=0,"",AVERAGE(E15:N15)) -> 6 | R15: =IF(COUNT(E15:N15)=0,"",MIN(E15:N15)) -> 6 | S15: =IF(COUNT(E15:N15)=0,"",MAX(E15:N15)) -> 6 | T15: =IF(COUNT(E15:N15)=0,"",STDEV(E15:N15)) -> 0 | U15: =IF(COUNT(E15:N15)=0,"",T15/Q15*100) -> 0 | V15: =IF(P15>0,1*(T15>1),0) -> 0 | W15: =IF(P15>0,IF(T15>1,"評定意見差異較大",""),"") | Y15: =IF(P15=0,"",IF(T15=0,0,Q15-_xlfn.CONFIDENCE.T(0.05,T15,P15))) -> 0 | Z15: =IF(P15=0,"",IF(T15=0,0,Q15+_xlfn.CONFIDENCE.T(0.05,T15,P15))) -> 0 | AB15: =IF(ISERROR(C$12-$C15),"",C$12-$C15) -> -3 | AC15: =IF(ISERROR(C$13-$C15),"",C$13-$C15) -> -2.5 | AD15: =IF(ISERROR(C$14-$C15),"",C$14-$C15) -> -1.5
A16: ='1.設定項目名稱'!D6 -> W5 | B16: =IF(ISBLANK('1.設定項目名稱'!E6),"",'1.設定項目名稱'!E6) -> 科技課程教材相對他校顯得陳舊 | C16: =IF(P16>0,AVERAGEA(E16:N16),"") -> 4.5 | D16: =IF(P16>0,RANK(C16,C$12:C$21),"") -> 2 | E16: 5 | F16: 4 | P16: =COUNT(E16:N16) -> 2 | Q16: =IF(COUNT(E16:N16)=0,"",AVERAGE(E16:N16)) -> 4.5 | R16: =IF(COUNT(E16:N16)=0,"",MIN(E16:N16)) -> 4 | S16: =IF(COUNT(E16:N16)=0,"",MAX(E16:N16)) -> 5 | T16: =IF(COUNT(E16:N16)=0,"",STDEV(E16:N16)) -> 0.70710678 | U16: =IF(COUNT(E16:N16)=0,"",T16/Q16*100) -> 15.713484 | V16: =IF(P16>0,1*(T16>1),0) -> 0 | W16: =IF(P16>0,IF(T16>1,"評定意見差異較大",""),"") | Y16: =IF(P16=0,"",IF(T16=0,0,Q16-_xlfn.CONFIDENCE.T(0.05,T16,P16))) -> -1.8531024 | Z16: =IF(P16=0,"",IF(T16=0,0,Q16+_xlfn.CONFIDENCE.T(0.05,T16,P16))) -> 10.853102 | AB16: =IF(ISERROR(C$12-$C16),"",C$12-$C16) -> -1.5 | AC16: =IF(ISERROR(C$13-$C16),"",C$13-$C16) -> -1 | AD16: =IF(ISERROR(C$14-$C16),"",C$14-$C16) -> 0 | AE16: =IF(ISERROR(C$15-$C16),"",C$15-$C16) -> 1.5
A17: ='1.設定項目名稱'!D7 -> W6 | B17: =IF(ISBLANK('1.設定項目名稱'!E7),"",'1.設定項目名稱'!E7) | C17: =IF(P17>0,AVERAGEA(E17:N17),"") | D17: =IF(P17>0,RANK(C17,C$12:C$21),"") | P17: =COUNT(E17:N17) -> 0 | Q17: =IF(COUNT(E17:N17)=0,"",AVERAGE(E17:N17)) | R17: =IF(COUNT(E17:N17)=0,"",MIN(E17:N17)) | S17: =IF(COUNT(E17:N17)=0,"",MAX(E17:N17)) | T17: =IF(COUNT(E17:N17)=0,"",STDEV(E17:N17)) | U17: =IF(COUNT(E17:N17)=0,"",T17/Q17*100) | V17: =IF(P17>0,1*(T17>1),0) -> 0 | W17: =IF(P17>0,IF(T17>1,"評定意見差異較大",""),"") | Y17: =IF(P17=0,"",IF(T17=0,0,Q17-_xlfn.CONFIDENCE.T(0.05,T17,P17))) | Z17: =IF(P17=0,"",IF(T17=0,0,Q17+_xlfn.CONFIDENCE.T(0.05,T17,P17))) | AB17: =IF(ISERROR(C$12-$C17),"",C$12-$C17) | AC17: =IF(ISERROR(C$13-$C17),"",C$13-$C17) | AD17: =IF(ISERROR(C$14-$C17),"",C$14-$C17) | AE17: =IF(ISERROR(C$15-$C17),"",C$15-$C17) | AF17: =IF(ISERROR(C$16-$C17),"",C$16-$C17) | AH17: =IF(ISERROR(G$4-$C17),"",G$4-$C17)
A18: ='1.設定項目名稱'!D8 -> W7 | B18: =IF(ISBLANK('1.設定項目名稱'!E8),"",'1.設定項目名稱'!E8) | C18: =IF(P18>0,AVERAGEA(E18:N18),"") | D18: =IF(P18>0,RANK(C18,C$12:C$21),"") | P18: =COUNT(E18:N18) -> 0 | Q18: =IF(COUNT(E18:N18)=0,"",AVERAGE(E18:N18)) | R18: =IF(COUNT(E18:N18)=0,"",MIN(E18:N18)) | S18: =IF(COUNT(E18:N18)=0,"",MAX(E18:N18)) | T18: =IF(COUNT(E18:N18)=0,"",STDEV(E18:N18)) | U18: =IF(COUNT(E18:N18)=0,"",T18/Q18*100) | V18: =IF(P18>0,1*(T18>1),0) -> 0 | W18: =IF(P18>0,IF(T18>1,"評定意見差異較大",""),"") | Y18: =IF(P18=0,"",IF(T18=0,0,Q18-_xlfn.CONFIDENCE.T(0.05,T18,P18))) | Z18: =IF(P18=0,"",IF(T18=0,0,Q18+_xlfn.CONFIDENCE.T(0.05,T18,P18))) | AB18: =IF(ISERROR(C$12-$C18),"",C$12-$C18) | AC18: =IF(ISERROR(C$13-$C18),"",C$13-$C18) | AD18: =IF(ISERROR(C$14-$C18),"",C$14-$C18) | AE18: =IF(ISERROR(C$15-$C18),"",C$15-$C18) | AF18: =IF(ISERROR(C$16-$C18),"",C$16-$C18) | AG18: =IF(ISERROR(C$17-$C18),"",C$17-$C18)
A19: ='1.設定項目名稱'!D9 -> W8 | B19: =IF(ISBLANK('1.設定項目名稱'!E9),"",'1.設定項目名稱'!E9) | C19: =IF(P19>0,AVERAGEA(E19:N19),"") | D19: =IF(P19>0,RANK(C19,C$12:C$21),"") | P19: =COUNT(E19:N19) -> 0 | Q19: =IF(COUNT(E19:N19)=0,"",AVERAGE(E19:N19)) | R19: =IF(COUNT(E19:N19)=0,"",MIN(E19:N19)) | S19: =IF(COUNT(E19:N19)=0,"",MAX(E19:N19)) | T19: =IF(COUNT(E19:N19)=0,"",STDEV(E19:N19)) | U19: =IF(COUNT(E19:N19)=0,"",T19/Q19*100) | V19: =IF(P19>0,1*(T19>1),0) -> 0 | W19: =IF(P19>0,IF(T19>1,"評定意見差異較大",""),"") | Y19: =IF(P19=0,"",IF(T19=0,0,Q19-_xlfn.CONFIDENCE.T(0.05,T19,P19))) | Z19: =IF(P19=0,"",IF(T19=0,0,Q19+_xlfn.CONFIDENCE.T(0.05,T19,P19))) | AB19: =IF(ISERROR(C$12-$C19),"",C$12-$C19) | AC19: =IF(ISERROR(C$13-$C19),"",C$13-$C19) | AD19: =IF(ISERROR(C$14-$C19),"",C$14-$C19) | AE19: =IF(ISERROR(C$15-$C19),"",C$15-$C19) | AF19: =IF(ISERROR(C$16-$C19),"",C$16-$C19) | AG19: =IF(ISERROR(C$17-$C19),"",C$17-$C19) | AH19: =IF(ISERROR(C$18-$C19),"",C$18-$C19)
A20: ='1.設定項目名稱'!D10 -> W9 | B20: =IF(ISBLANK('1.設定項目名稱'!E10),"",'1.設定項目名稱'!E10) | C20: =IF(P20>0,AVERAGEA(E20:N20),"") | D20: =IF(P20>0,RANK(C20,C$12:C$21),"") | P20: =COUNT(E20:N20) -> 0 | Q20: =IF(COUNT(E20:N20)=0,"",AVERAGE(E20:N20)) | R20: =IF(COUNT(E20:N20)=0,"",MIN(E20:N20)) | S20: =IF(COUNT(E20:N20)=0,"",MAX(E20:N20)) | T20: =IF(COUNT(E20:N20)=0,"",STDEV(E20:N20)) | U20: =IF(COUNT(E20:N20)=0,"",T20/Q20*100) | V20: =IF(P20>0,1*(T20>1),0) -> 0 | W20: =IF(P20>0,IF(T20>1,"評定意見差異較大",""),"") | Y20: =IF(P20=0,"",IF(T20=0,0,Q20-_xlfn.CONFIDENCE.T(0.05,T20,P20))) | Z20: =IF(P20=0,"",IF(T20=0,0,Q20+_xlfn.CONFIDENCE.T(0.05,T20,P20))) | AB20: =IF(ISERROR(C$12-$C20),"",C$12-$C20) | AC20: =IF(ISERROR(C$13-$C20),"",C$13-$C20) | AD20: =IF(ISERROR(C$14-$C20),"",C$14-$C20) | AE20: =IF(ISERROR(C$15-$C20),"",C$15-$C20) | AF20: =IF(ISERROR(C$16-$C20),"",C$16-$C20) | AG20: =IF(ISERROR(C$17-$C20),"",C$17-$C20) | AH20: =IF(ISERROR(C$18-$C20),"",C$18-$C20) | AI20: =IF(ISERROR(C$19-$C20),"",C$19-$C20)
A21: ='1.設定項目名稱'!D11 -> W10 | B21: =IF(ISBLANK('1.設定項目名稱'!E11),"",'1.設定項目名稱'!E11) | C21: =IF(P21>0,AVERAGEA(E21:N21),"") | D21: =IF(P21>0,RANK(C21,C$12:C$21),"") | P21: =COUNT(E21:N21) -> 0 | Q21: =IF(COUNT(E21:N21)=0,"",AVERAGE(E21:N21)) | R21: =IF(COUNT(E21:N21)=0,"",MIN(E21:N21)) | S21: =IF(COUNT(E21:N21)=0,"",MAX(E21:N21)) | T21: =IF(COUNT(E21:N21)=0,"",STDEV(E21:N21)) | U21: =IF(COUNT(E21:N21)=0,"",T21/Q21*100) | V21: =IF(P21>0,1*(T21>1),0) -> 0 | W21: =IF(P21>0,IF(T21>1,"評定意見差異較大",""),"") | Y21: =IF(P21=0,"",IF(T21=0,0,Q21-_xlfn.CONFIDENCE.T(0.05,T21,P21))) | Z21: =IF(P21=0,"",IF(T21=0,0,Q21+_xlfn.CONFIDENCE.T(0.05,T21,P21))) | AB21: =IF(ISERROR(C$12-$C21),"",C$12-$C21) | AC21: =IF(ISERROR(C$13-$C21),"",C$13-$C21) | AD21: =IF(ISERROR(C$14-$C21),"",C$14-$C21) | AE21: =IF(ISERROR(C$15-$C21),"",C$15-$C21) | AF21: =IF(ISERROR(C$16-$C21),"",C$16-$C21) | AG21: =IF(ISERROR(C$17-$C21),"",C$17-$C21) | AH21: =IF(ISERROR(C$18-$C21),"",C$18-$C21) | AI21: =IF(ISERROR(C$19-$C21),"",C$19-$C21) | AJ21: =IF(ISERROR(C$20-$C21),"",C$20-$C21)
A22: ='1.設定項目名稱'!F2 -> O1 | B22: =IF(ISBLANK('1.設定項目名稱'!G2),"",'1.設定項目名稱'!G2) -> 教育局積極補助學校設備更新供專案申請 | C22: =IF(P22>0,AVERAGEA(E22:N22),"") -> 6.5 | D22: =IF(P22>0,RANK(C22,C$22:C$31),"") -> 1 | E22: 6 | F22: 7 | P22: =COUNT(E22:N22) -> 2 | Q22: =IF(COUNT(E22:N22)=0,"",AVERAGE(E22:N22)) -> 6.5 | R22: =IF(COUNT(E22:N22)=0,"",MIN(E22:N22)) -> 6 | S22: =IF(COUNT(E22:N22)=0,"",MAX(E22:N22)) -> 7 | T22: =IF(COUNT(E22:N22)=0,"",STDEV(E22:N22)) -> 0.70710678 | U22: =IF(COUNT(E22:N22)=0,"",T22/Q22*100) -> 10.878566 | V22: =IF(P22>0,1*(T22>1),0) -> 0 | W22: =IF(P22>0,IF(T22>1,"評定意見差異較大",""),"") | Y22: =IF(P22=0,"",IF(T22=0,0,Q22-_xlfn.CONFIDENCE.T(0.05,T22,P22))) -> 0.14689763 | Z22: =IF(P22=0,"",IF(T22=0,0,Q22+_xlfn.CONFIDENCE.T(0.05,T22,P22))) -> 12.853102
A23: ='1.設定項目名稱'!F3 -> O2 | B23: =IF(ISBLANK('1.設定項目名稱'!G3),"",'1.設定項目名稱'!G3) -> 民間團體培育外語師資尋求合作意願高 | C23: =IF(P23>0,AVERAGEA(E23:N23),"") -> 2.5 | D23: =IF(P23>0,RANK(C23,C$22:C$31),"") -> 4 | E23: 3 | F23: 2 | P23: =COUNT(E23:N23) -> 2 | Q23: =IF(COUNT(E23:N23)=0,"",AVERAGE(E23:N23)) -> 2.5 | R23: =IF(COUNT(E23:N23)=0,"",MIN(E23:N23)) -> 2 | S23: =IF(COUNT(E23:N23)=0,"",MAX(E23:N23)) -> 3 | T23: =IF(COUNT(E23:N23)=0,"",STDEV(E23:N23)) -> 0.70710678 | U23: =IF(COUNT(E23:N23)=0,"",T23/Q23*100) -> 28.284271 | V23: =IF(P23>0,1*(T23>1),0) -> 0 | W23: =IF(P23>0,IF(T23>1,"評定意見差異較大",""),"") | Y23: =IF(P23=0,"",IF(T23=0,0,Q23-_xlfn.CONFIDENCE.T(0.05,T23,P23))) -> -3.8531024 | Z23: =IF(P23=0,"",IF(T23=0,0,Q23+_xlfn.CONFIDENCE.T(0.05,T23,P23))) -> 8.8531024 | AB23: =IF(ISERROR(C$22-$C23),"",C$22-$C23) -> 4
A24: ='1.設定項目名稱'!F4 -> O3 | B24: =IF(ISBLANK('1.設定項目名稱'!G4),"",'1.設定項目名稱'!G4) -> 大型商場和大企業機構進駐社區吸引建商推出新建案 | C24: =IF(P24>0,AVERAGEA(E24:N24),"") -> 4.5 | D24: =IF(P24>0,RANK(C24,C$22:C$31),"") -> 3 | E24: 4 | F24: 5 | P24: =COUNT(E24:N24) -> 2 | Q24: =IF(COUNT(E24:N24)=0,"",AVERAGE(E24:N24)) -> 4.5 | R24: =IF(COUNT(E24:N24)=0,"",MIN(E24:N24)) -> 4 | S24: =IF(COUNT(E24:N24)=0,"",MAX(E24:N24)) -> 5 | T24: =IF(COUNT(E24:N24)=0,"",STDEV(E24:N24)) -> 0.70710678 | U24: =IF(COUNT(E24:N24)=0,"",T24/Q24*100) -> 15.713484 | V24: =IF(P24>0,1*(T24>1),0) -> 0 | W24: =IF(P24>0,IF(T24>1,"評定意見差異較大",""),"") | Y24: =IF(P24=0,"",IF(T24=0,0,Q24-_xlfn.CONFIDENCE.T(0.05,T24,P24))) -> -1.8531024 | Z24: =IF(P24=0,"",IF(T24=0,0,Q24+_xlfn.CONFIDENCE.T(0.05,T24,P24))) -> 10.853102 | AB24: =IF(ISERROR(C$22-$C24),"",C$22-$C24) -> 2 | AC24: =IF(ISERROR(C$23-$C24),"",C$23-$C24) -> -2
A25: ='1.設定項目名稱'!F5 -> O4 | B25: =IF(ISBLANK('1.設定項目名稱'!G5),"",'1.設定項目名稱'!G5) -> 教育局推動優秀退休教師參與學校教學協助方案 | C25: =IF(P25>0,AVERAGEA(E25:N25),"") -> 5.5 | D25: =IF(P25>0,RANK(C25,C$22:C$31),"") -> 2 | E25: 5 | F25: 6 | P25: =COUNT(E25:N25) -> 2 | Q25: =IF(COUNT(E25:N25)=0,"",AVERAGE(E25:N25)) -> 5.5 | R25: =IF(COUNT(E25:N25)=0,"",MIN(E25:N25)) -> 5 | S25: =IF(COUNT(E25:N25)=0,"",MAX(E25:N25)) -> 6 | T25: =IF(COUNT(E25:N25)=0,"",STDEV(E25:N25)) -> 0.70710678 | U25: =IF(COUNT(E25:N25)=0,"",T25/Q25*100) -> 12.856487 | V25: =IF(P25>0,1*(T25>1),0) -> 0 | W25: =IF(P25>0,IF(T25>1,"評定意見差異較大",""),"") | Y25: =IF(P25=0,"",IF(T25=0,0,Q25-_xlfn.CONFIDENCE.T(0.05,T25,P25))) -> -0.85310237 | Z25: =IF(P25=0,"",IF(T25=0,0,Q25+_xlfn.CONFIDENCE.T(0.05,T25,P25))) -> 11.853102 | AB25: =IF(ISERROR(C$22-$C25),"",C$22-$C25) -> 1 | AC25: =IF(ISERROR(C$23-$C25),"",C$23-$C25) -> -3 | AD25: =IF(ISERROR(C$24-$C25),"",C$24-$C25) -> -1
A26: ='1.設定項目名稱'!F6 -> O5 | B26: =IF(ISBLANK('1.設定項目名稱'!G6),"",'1.設定項目名稱'!G6) -> 民間文教演藝團體提供免費巡迴服務 | C26: =IF(P26>0,AVERAGEA(E26:N26),"") -> 2 | D26: =IF(P26>0,RANK(C26,C$22:C$31),"") -> 5 | E26: 1 | F26: 3 | P26: =COUNT(E26:N26) -> 2 | Q26: =IF(COUNT(E26:N26)=0,"",AVERAGE(E26:N26)) -> 2 | R26: =IF(COUNT(E26:N26)=0,"",MIN(E26:N26)) -> 1 | S26: =IF(COUNT(E26:N26)=0,"",MAX(E26:N26)) -> 3 | T26: =IF(COUNT(E26:N26)=0,"",STDEV(E26:N26)) -> 1.4142136 | U26: =IF(COUNT(E26:N26)=0,"",T26/Q26*100) -> 70.710678 | V26: =IF(P26>0,1*(T26>1),0) -> 1 | W26: =IF(P26>0,IF(T26>1,"評定意見差異較大",""),"") -> 評定意見差異較大 | Y26: =IF(P26=0,"",IF(T26=0,0,Q26-_xlfn.CONFIDENCE.T(0.05,T26,P26))) -> -10.706205 | Z26: =IF(P26=0,"",IF(T26=0,0,Q26+_xlfn.CONFIDENCE.T(0.05,T26,P26))) -> 14.706205 | AB26: =IF(ISERROR(C$22-$C26),"",C$22-$C26) -> 4.5 | AC26: =IF(ISERROR(C$23-$C26),"",C$23-$C26) -> 0.5 | AD26: =IF(ISERROR(C$24-$C26),"",C$24-$C26) -> 2.5 | AE26: =IF(ISERROR(C$25-$C26),"",C$25-$C26) -> 3.5
A27: ='1.設定項目名稱'!F7 -> O6 | B27: =IF(ISBLANK('1.設定項目名稱'!G7),"",'1.設定項目名稱'!G7) | C27: =IF(P27>0,AVERAGEA(E27:N27),"") | D27: =IF(P27>0,RANK(C27,C$22:C$31),"") | P27: =COUNT(E27:N27) -> 0 | Q27: =IF(COUNT(E27:N27)=0,"",AVERAGE(E27:N27)) | R27: =IF(COUNT(E27:N27)=0,"",MIN(E27:N27)) | S27: =IF(COUNT(E27:N27)=0,"",MAX(E27:N27)) | T27: =IF(COUNT(E27:N27)=0,"",STDEV(E27:N27)) | U27: =IF(COUNT(E27:N27)=0,"",T27/Q27*100) | V27: =IF(P27>0,1*(T27>1),0) -> 0 | W27: =IF(P27>0,IF(T27>1,"評定意見差異較大",""),"") | Y27: =IF(P27=0,"",IF(T27=0,0,Q27-_xlfn.CONFIDENCE.T(0.05,T27,P27))) | Z27: =IF(P27=0,"",IF(T27=0,0,Q27+_xlfn.CONFIDENCE.T(0.05,T27,P27))) | AB27: =IF(ISERROR(C$22-$C27),"",C$22-$C27) | AC27: =IF(ISERROR(C$23-$C27),"",C$23-$C27) | AD27: =IF(ISERROR(C$24-$C27),"",C$24-$C27) | AE27: =IF(ISERROR(C$25-$C27),"",C$25-$C27) | AF27: =IF(ISERROR(C$26-$C27),"",C$26-$C27) | AH27: =IF(ISERROR(G$4-$C27),"",G$4-$C27)
A28: ='1.設定項目名稱'!F8 -> O7 | B28: =IF(ISBLANK('1.設定項目名稱'!G8),"",'1.設定項目名稱'!G8) | C28: =IF(P28>0,AVERAGEA(E28:N28),"") | D28: =IF(P28>0,RANK(C28,C$22:C$31),"") | P28: =COUNT(E28:N28) -> 0 | Q28: =IF(COUNT(E28:N28)=0,"",AVERAGE(E28:N28)) | R28: =IF(COUNT(E28:N28)=0,"",MIN(E28:N28)) | S28: =IF(COUNT(E28:N28)=0,"",MAX(E28:N28)) | T28: =IF(COUNT(E28:N28)=0,"",STDEV(E28:N28)) | U28: =IF(COUNT(E28:N28)=0,"",T28/Q28*100) | V28: =IF(P28>0,1*(T28>1),0) -> 0 | W28: =IF(P28>0,IF(T28>1,"評定意見差異較大",""),"") | Y28: =IF(P28=0,"",IF(T28=0,0,Q28-_xlfn.CONFIDENCE.T(0.05,T28,P28))) | Z28: =IF(P28=0,"",IF(T28=0,0,Q28+_xlfn.CONFIDENCE.T(0.05,T28,P28))) | AB28: =IF(ISERROR(C$22-$C28),"",C$22-$C28) | AC28: =IF(ISERROR(C$23-$C28),"",C$23-$C28) | AD28: =IF(ISERROR(C$24-$C28),"",C$24-$C28) | AE28: =IF(ISERROR(C$25-$C28),"",C$25-$C28) | AF28: =IF(ISERROR(C$26-$C28),"",C$26-$C28) | AG28: =IF(ISERROR(C$27-$C28),"",C$27-$C28)
A29: ='1.設定項目名稱'!F9 -> O8 | B29: =IF(ISBLANK('1.設定項目名稱'!G9),"",'1.設定項目名稱'!G9) | C29: =IF(P29>0,AVERAGEA(E29:N29),"") | D29: =IF(P29>0,RANK(C29,C$22:C$31),"") | P29: =COUNT(E29:N29) -> 0 | Q29: =IF(COUNT(E29:N29)=0,"",AVERAGE(E29:N29)) | R29: =IF(COUNT(E29:N29)=0,"",MIN(E29:N29)) | S29: =IF(COUNT(E29:N29)=0,"",MAX(E29:N29)) | T29: =IF(COUNT(E29:N29)=0,"",STDEV(E29:N29)) | U29: =IF(COUNT(E29:N29)=0,"",T29/Q29*100) | V29: =IF(P29>0,1*(T29>1),0) -> 0 | W29: =IF(P29>0,IF(T29>1,"評定意見差異較大",""),"") | Y29: =IF(P29=0,"",IF(T29=0,0,Q29-_xlfn.CONFIDENCE.T(0.05,T29,P29))) | Z29: =IF(P29=0,"",IF(T29=0,0,Q29+_xlfn.CONFIDENCE.T(0.05,T29,P29))) | AB29: =IF(ISERROR(C$22-$C29),"",C$22-$C29) | AC29: =IF(ISERROR(C$23-$C29),"",C$23-$C29) | AD29: =IF(ISERROR(C$24-$C29),"",C$24-$C29) | AE29: =IF(ISERROR(C$25-$C29),"",C$25-$C29) | AF29: =IF(ISERROR(C$26-$C29),"",C$26-$C29) | AG29: =IF(ISERROR(C$27-$C29),"",C$27-$C29) | AH29: =IF(ISERROR(C$28-$C29),"",C$28-$C29)
A30: ='1.設定項目名稱'!F10 -> O9 | B30: =IF(ISBLANK('1.設定項目名稱'!G10),"",'1.設定項目名稱'!G10) | C30: =IF(P30>0,AVERAGEA(E30:N30),"") | D30: =IF(P30>0,RANK(C30,C$22:C$31),"") | P30: =COUNT(E30:N30) -> 0 | Q30: =IF(COUNT(E30:N30)=0,"",AVERAGE(E30:N30)) | R30: =IF(COUNT(E30:N30)=0,"",MIN(E30:N30)) | S30: =IF(COUNT(E30:N30)=0,"",MAX(E30:N30)) | T30: =IF(COUNT(E30:N30)=0,"",STDEV(E30:N30)) | U30: =IF(COUNT(E30:N30)=0,"",T30/Q30*100) | V30: =IF(P30>0,1*(T30>1),0) -> 0 | W30: =IF(P30>0,IF(T30>1,"評定意見差異較大",""),"") | Y30: =IF(P30=0,"",IF(T30=0,0,Q30-_xlfn.CONFIDENCE.T(0.05,T30,P30))) | Z30: =IF(P30=0,"",IF(T30=0,0,Q30+_xlfn.CONFIDENCE.T(0.05,T30,P30))) | AB30: =IF(ISERROR(C$22-$C30),"",C$22-$C30) | AC30: =IF(ISERROR(C$23-$C30),"",C$23-$C30) | AD30: =IF(ISERROR(C$24-$C30),"",C$24-$C30) | AE30: =IF(ISERROR(C$25-$C30),"",C$25-$C30) | AF30: =IF(ISERROR(C$26-$C30),"",C$26-$C30) | AG30: =IF(ISERROR(C$27-$C30),"",C$27-$C30) | AH30: =IF(ISERROR(C$28-$C30),"",C$28-$C30) | AI30: =IF(ISERROR(C$29-$C30),"",C$29-$C30)
A31: ='1.設定項目名稱'!F11 -> O10 | B31: =IF(ISBLANK('1.設定項目名稱'!G11),"",'1.設定項目名稱'!G11) | C31: =IF(P31>0,AVERAGEA(E31:N31),"") | D31: =IF(P31>0,RANK(C31,C$22:C$31),"") | P31: =COUNT(E31:N31) -> 0 | Q31: =IF(COUNT(E31:N31)=0,"",AVERAGE(E31:N31)) | R31: =IF(COUNT(E31:N31)=0,"",MIN(E31:N31)) | S31: =IF(COUNT(E31:N31)=0,"",MAX(E31:N31)) | T31: =IF(COUNT(E31:N31)=0,"",STDEV(E31:N31)) | U31: =IF(COUNT(E31:N31)=0,"",T31/Q31*100) | V31: =IF(P31>0,1*(T31>1),0) -> 0 | W31: =IF(P31>0,IF(T31>1,"評定意見差異較大",""),"") | Y31: =IF(P31=0,"",IF(T31=0,0,Q31-_xlfn.CONFIDENCE.T(0.05,T31,P31))) | Z31: =IF(P31=0,"",IF(T31=0,0,Q31+_xlfn.CONFIDENCE.T(0.05,T31,P31))) | AB31: =IF(ISERROR(C$22-$C31),"",C$22-$C31) | AC31: =IF(ISERROR(C$23-$C31),"",C$23-$C31) | AD31: =IF(ISERROR(C$24-$C31),"",C$24-$C31) | AE31: =IF(ISERROR(C$25-$C31),"",C$25-$C31) | AF31: =IF(ISERROR(C$26-$C31),"",C$26-$C31) | AG31: =IF(ISERROR(C$27-$C31),"",C$27-$C31) | AH31: =IF(ISERROR(C$28-$C31),"",C$28-$C31) | AI31: =IF(ISERROR(C$29-$C31),"",C$29-$C31) | AJ31: =IF(ISERROR(C$30-$C31),"",C$30-$C31)
A32: ='1.設定項目名稱'!H2 -> T1 | B32: =IF(ISBLANK('1.設定項目名稱'!I2),"",'1.設定項目名稱'!I2) -> 社區學齡入學兒童數逐年降低增加招生難度 | C32: =IF(P32>0,AVERAGEA(E32:N32),"") -> 5.5 | D32: =IF(P32>0,RANK(C32,C$32:C$41),"") -> 1 | E32: 5 | F32: 6 | P32: =COUNT(E32:N32) -> 2 | Q32: =IF(COUNT(E32:N32)=0,"",AVERAGE(E32:N32)) -> 5.5 | R32: =IF(COUNT(E32:N32)=0,"",MIN(E32:N32)) -> 5 | S32: =IF(COUNT(E32:N32)=0,"",MAX(E32:N32)) -> 6 | T32: =IF(COUNT(E32:N32)=0,"",STDEV(E32:N32)) -> 0.70710678 | U32: =IF(COUNT(E32:N32)=0,"",T32/Q32*100) -> 12.856487 | V32: =IF(P32>0,1*(T32>1),0) -> 0 | W32: =IF(P32>0,IF(T32>1,"評定意見差異較大",""),"") | Y32: =IF(P32=0,"",IF(T32=0,0,Q32-_xlfn.CONFIDENCE.T(0.05,T32,P32))) -> -0.85310237 | Z32: =IF(P32=0,"",IF(T32=0,0,Q32+_xlfn.CONFIDENCE.T(0.05,T32,P32))) -> 11.853102
A33: ='1.設定項目名稱'!H3 -> T2 | B33: =IF(ISBLANK('1.設定項目名稱'!I3),"",'1.設定項目名稱'!I3) -> 他校轉型實驗學校吸引本校生轉學就讀形成競爭 | C33: =IF(P33>0,AVERAGEA(E33:N33),"") -> 4 | D33: =IF(P33>0,RANK(C33,C$32:C$41),"") -> 3 | E33: 4 | F33: 4 | P33: =COUNT(E33:N33) -> 2 | Q33: =IF(COUNT(E33:N33)=0,"",AVERAGE(E33:N33)) -> 4 | R33: =IF(COUNT(E33:N33)=0,"",MIN(E33:N33)) -> 4 | S33: =IF(COUNT(E33:N33)=0,"",MAX(E33:N33)) -> 4 | T33: =IF(COUNT(E33:N33)=0,"",STDEV(E33:N33)) -> 0 | U33: =IF(COUNT(E33:N33)=0,"",T33/Q33*100) -> 0 | V33: =IF(P33>0,1*(T33>1),0) -> 0 | W33: =IF(P33>0,IF(T33>1,"評定意見差異較大",""),"") | Y33: =IF(P33=0,"",IF(T33=0,0,Q33-_xlfn.CONFIDENCE.T(0.05,T33,P33))) -> 0 | Z33: =IF(P33=0,"",IF(T33=0,0,Q33+_xlfn.CONFIDENCE.T(0.05,T33,P33))) -> 0 | AB33: =IF(ISERROR(C$32-$C33),"",C$32-$C33) -> 1.5
A34: ='1.設定項目名稱'!H4 -> T3 | B34: =IF(ISBLANK('1.設定項目名稱'!I4),"",'1.設定項目名稱'!I4) -> 家長關心外語學習促成學生參加課後外語補習人數漸增 | C34: =IF(P34>0,AVERAGEA(E34:N34),"") -> 5 | D34: =IF(P34>0,RANK(C34,C$32:C$41),"") -> 2 | E34: 5 | F34: 5 | P34: =COUNT(E34:N34) -> 2 | Q34: =IF(COUNT(E34:N34)=0,"",AVERAGE(E34:N34)) -> 5 | R34: =IF(COUNT(E34:N34)=0,"",MIN(E34:N34)) -> 5 | S34: =IF(COUNT(E34:N34)=0,"",MAX(E34:N34)) -> 5 | T34: =IF(COUNT(E34:N34)=0,"",STDEV(E34:N34)) -> 0 | U34: =IF(COUNT(E34:N34)=0,"",T34/Q34*100) -> 0 | V34: =IF(P34>0,1*(T34>1),0) -> 0 | W34: =IF(P34>0,IF(T34>1,"評定意見差異較大",""),"") | Y34: =IF(P34=0,"",IF(T34=0,0,Q34-_xlfn.CONFIDENCE.T(0.05,T34,P34))) -> 0 | Z34: =IF(P34=0,"",IF(T34=0,0,Q34+_xlfn.CONFIDENCE.T(0.05,T34,P34))) -> 0 | AB34: =IF(ISERROR(C$32-$C34),"",C$32-$C34) -> 0.5 | AC34: =IF(ISERROR(C$33-$C34),"",C$33-$C34) -> -1
A35: ='1.設定項目名稱'!H5 -> T4 | B35: =IF(ISBLANK('1.設定項目名稱'!I5),"",'1.設定項目名稱'!I5) -> 民間教育團體培育優秀師資不合現行政策規定無法聘用 | C35: =IF(P35>0,AVERAGEA(E35:N35),"") -> 4 | D35: =IF(P35>0,RANK(C35,C$32:C$41),"") -> 3 | E35: 3 | F35: 5 | P35: =COUNT(E35:N35) -> 2 | Q35: =IF(COUNT(E35:N35)=0,"",AVERAGE(E35:N35)) -> 4 | R35: =IF(COUNT(E35:N35)=0,"",MIN(E35:N35)) -> 3 | S35: =IF(COUNT(E35:N35)=0,"",MAX(E35:N35)) -> 5 | T35: =IF(COUNT(E35:N35)=0,"",STDEV(E35:N35)) -> 1.4142136 | U35: =IF(COUNT(E35:N35)=0,"",T35/Q35*100) -> 35.355339 | V35: =IF(P35>0,1*(T35>1),0) -> 1 | W35: =IF(P35>0,IF(T35>1,"評定意見差異較大",""),"") -> 評定意見差異較大 | Y35: =IF(P35=0,"",IF(T35=0,0,Q35-_xlfn.CONFIDENCE.T(0.05,T35,P35))) -> -8.7062047 | Z35: =IF(P35=0,"",IF(T35=0,0,Q35+_xlfn.CONFIDENCE.T(0.05,T35,P35))) -> 16.706205 | AB35: =IF(ISERROR(C$32-$C35),"",C$32-$C35) -> 1.5 | AC35: =IF(ISERROR(C$33-$C35),"",C$33-$C35) -> 0 | AD35: =IF(ISERROR(C$34-$C35),"",C$34-$C35) -> 1
A36: ='1.設定項目名稱'!H6 -> T5 | B36: =IF(ISBLANK('1.設定項目名稱'!I6),"",'1.設定項目名稱'!I6) | C36: =IF(P36>0,AVERAGEA(E36:N36),"") | D36: =IF(P36>0,RANK(C36,C$32:C$41),"") | P36: =COUNT(E36:N36) -> 0 | Q36: =IF(COUNT(E36:N36)=0,"",AVERAGE(E36:N36)) | R36: =IF(COUNT(E36:N36)=0,"",MIN(E36:N36)) | S36: =IF(COUNT(E36:N36)=0,"",MAX(E36:N36)) | T36: =IF(COUNT(E36:N36)=0,"",STDEV(E36:N36)) | U36: =IF(COUNT(E36:N36)=0,"",T36/Q36*100) | V36: =IF(P36>0,1*(T36>1),0) -> 0 | W36: =IF(P36>0,IF(T36>1,"評定意見差異較大",""),"") | Y36: =IF(P36=0,"",IF(T36=0,0,Q36-_xlfn.CONFIDENCE.T(0.05,T36,P36))) | Z36: =IF(P36=0,"",IF(T36=0,0,Q36+_xlfn.CONFIDENCE.T(0.05,T36,P36))) | AB36: =IF(ISERROR(C$32-$C36),"",C$32-$C36) | AC36: =IF(ISERROR(C$33-$C36),"",C$33-$C36) | AD36: =IF(ISERROR(C$34-$C36),"",C$34-$C36) | AE36: =IF(ISERROR(C$35-$C36),"",C$35-$C36)
A37: ='1.設定項目名稱'!H7 -> T6 | B37: =IF(ISBLANK('1.設定項目名稱'!I7),"",'1.設定項目名稱'!I7) | C37: =IF(P37>0,AVERAGEA(E37:N37),"") | D37: =IF(P37>0,RANK(C37,C$32:C$41),"") | P37: =COUNT(E37:N37) -> 0 | Q37: =IF(COUNT(E37:N37)=0,"",AVERAGE(E37:N37)) | R37: =IF(COUNT(E37:N37)=0,"",MIN(E37:N37)) | S37: =IF(COUNT(E37:N37)=0,"",MAX(E37:N37)) | T37: =IF(COUNT(E37:N37)=0,"",STDEV(E37:N37)) | U37: =IF(COUNT(E37:N37)=0,"",T37/Q37*100) | V37: =IF(P37>0,1*(T37>1),0) -> 0 | W37: =IF(P37>0,IF(T37>1,"評定意見差異較大",""),"") | Y37: =IF(P37=0,"",IF(T37=0,0,Q37-_xlfn.CONFIDENCE.T(0.05,T37,P37))) | Z37: =IF(P37=0,"",IF(T37=0,0,Q37+_xlfn.CONFIDENCE.T(0.05,T37,P37))) | AB37: =IF(ISERROR(C$32-$C37),"",C$32-$C37) | AC37: =IF(ISERROR(C$33-$C37),"",C$33-$C37) | AD37: =IF(ISERROR(C$34-$C37),"",C$34-$C37) | AE37: =IF(ISERROR(C$35-$C37),"",C$35-$C37) | AF37: =IF(ISERROR(C$36-$C37),"",C$36-$C37) | AH37: =IF(ISERROR(G$4-$C37),"",G$4-$C37)
A38: ='1.設定項目名稱'!H8 -> T7 | B38: =IF(ISBLANK('1.設定項目名稱'!I8),"",'1.設定項目名稱'!I8) | C38: =IF(P38>0,AVERAGEA(E38:N38),"") | D38: =IF(P38>0,RANK(C38,C$32:C$41),"") | P38: =COUNT(E38:N38) -> 0 | Q38: =IF(COUNT(E38:N38)=0,"",AVERAGE(E38:N38)) | R38: =IF(COUNT(E38:N38)=0,"",MIN(E38:N38)) | S38: =IF(COUNT(E38:N38)=0,"",MAX(E38:N38)) | T38: =IF(COUNT(E38:N38)=0,"",STDEV(E38:N38)) | U38: =IF(COUNT(E38:N38)=0,"",T38/Q38*100) | V38: =IF(P38>0,1*(T38>1),0) -> 0 | W38: =IF(P38>0,IF(T38>1,"評定意見差異較大",""),"") | Y38: =IF(P38=0,"",IF(T38=0,0,Q38-_xlfn.CONFIDENCE.T(0.05,T38,P38))) | Z38: =IF(P38=0,"",IF(T38=0,0,Q38+_xlfn.CONFIDENCE.T(0.05,T38,P38))) | AB38: =IF(ISERROR(C$32-$C38),"",C$32-$C38) | AC38: =IF(ISERROR(C$33-$C38),"",C$33-$C38) | AD38: =IF(ISERROR(C$34-$C38),"",C$34-$C38) | AE38: =IF(ISERROR(C$35-$C38),"",C$35-$C38) | AF38: =IF(ISERROR(C$36-$C38),"",C$36-$C38) | AG38: =IF(ISERROR(C$37-$C38),"",C$37-$C38)
A39: ='1.設定項目名稱'!H9 -> T8 | B39: =IF(ISBLANK('1.設定項目名稱'!I9),"",'1.設定項目名稱'!I9) | C39: =IF(P39>0,AVERAGEA(E39:N39),"") | D39: =IF(P39>0,RANK(C39,C$32:C$41),"") | P39: =COUNT(E39:N39) -> 0 | Q39: =IF(COUNT(E39:N39)=0,"",AVERAGE(E39:N39)) | R39: =IF(COUNT(E39:N39)=0,"",MIN(E39:N39)) | S39: =IF(COUNT(E39:N39)=0,"",MAX(E39:N39)) | T39: =IF(COUNT(E39:N39)=0,"",STDEV(E39:N39)) | U39: =IF(COUNT(E39:N39)=0,"",T39/Q39*100) | V39: =IF(P39>0,1*(T39>1),0) -> 0 | W39: =IF(P39>0,IF(T39>1,"評定意見差異較大",""),"") | Y39: =IF(P39=0,"",IF(T39=0,0,Q39-_xlfn.CONFIDENCE.T(0.05,T39,P39))) | Z39: =IF(P39=0,"",IF(T39=0,0,Q39+_xlfn.CONFIDENCE.T(0.05,T39,P39))) | AB39: =IF(ISERROR(C$32-$C39),"",C$32-$C39) | AC39: =IF(ISERROR(C$33-$C39),"",C$33-$C39) | AD39: =IF(ISERROR(C$34-$C39),"",C$34-$C39) | AE39: =IF(ISERROR(C$35-$C39),"",C$35-$C39) | AF39: =IF(ISERROR(C$36-$C39),"",C$36-$C39) | AG39: =IF(ISERROR(C$37-$C39),"",C$37-$C39) | AH39: =IF(ISERROR(C$38-$C39),"",C$38-$C39)
A40: ='1.設定項目名稱'!H10 -> T9 | B40: =IF(ISBLANK('1.設定項目名稱'!I10),"",'1.設定項目名稱'!I10) | C40: =IF(P40>0,AVERAGEA(E40:N40),"") | D40: =IF(P40>0,RANK(C40,C$32:C$41),"") | P40: =COUNT(E40:N40) -> 0 | Q40: =IF(COUNT(E40:N40)=0,"",AVERAGE(E40:N40)) | R40: =IF(COUNT(E40:N40)=0,"",MIN(E40:N40)) | S40: =IF(COUNT(E40:N40)=0,"",MAX(E40:N40)) | T40: =IF(COUNT(E40:N40)=0,"",STDEV(E40:N40)) | U40: =IF(COUNT(E40:N40)=0,"",T40/Q40*100) | V40: =IF(P40>0,1*(T40>1),0) -> 0 | W40: =IF(P40>0,IF(T40>1,"評定意見差異較大",""),"") | Y40: =IF(P40=0,"",IF(T40=0,0,Q40-_xlfn.CONFIDENCE.T(0.05,T40,P40))) | Z40: =IF(P40=0,"",IF(T40=0,0,Q40+_xlfn.CONFIDENCE.T(0.05,T40,P40))) | AB40: =IF(ISERROR(C$32-$C40),"",C$32-$C40) | AC40: =IF(ISERROR(C$33-$C40),"",C$33-$C40) | AD40: =IF(ISERROR(C$34-$C40),"",C$34-$C40) | AE40: =IF(ISERROR(C$35-$C40),"",C$35-$C40) | AF40: =IF(ISERROR(C$36-$C40),"",C$36-$C40) | AG40: =IF(ISERROR(C$37-$C40),"",C$37-$C40) | AH40: =IF(ISERROR(C$38-$C40),"",C$38-$C40) | AI40: =IF(ISERROR(C$39-$C40),"",C$39-$C40)
A41: ='1.設定項目名稱'!H11 -> T10 | B41: =IF(ISBLANK('1.設定項目名稱'!I11),"",'1.設定項目名稱'!I11) | C41: =IF(P41>0,AVERAGEA(E41:N41),"") | D41: =IF(P41>0,RANK(C41,C$32:C$41),"") | P41: =COUNT(E41:N41) -> 0 | Q41: =IF(COUNT(E41:N41)=0,"",AVERAGE(E41:N41)) | R41: =IF(COUNT(E41:N41)=0,"",MIN(E41:N41)) | S41: =IF(COUNT(E41:N41)=0,"",MAX(E41:N41)) | T41: =IF(COUNT(E41:N41)=0,"",STDEV(E41:N41)) | U41: =IF(COUNT(E41:N41)=0,"",T41/Q41*100) | V41: =IF(P41>0,1*(T41>1),0) -> 0 | W41: =IF(P41>0,IF(T41>1,"評定意見差異較大",""),"") | Y41: =IF(P41=0,"",IF(T41=0,0,Q41-_xlfn.CONFIDENCE.T(0.05,T41,P41))) | Z41: =IF(P41=0,"",IF(T41=0,0,Q41+_xlfn.CONFIDENCE.T(0.05,T41,P41))) | AB41: =IF(ISERROR(C$32-$C41),"",C$32-$C41) | AC41: =IF(ISERROR(C$33-$C41),"",C$33-$C41) | AD41: =IF(ISERROR(C$34-$C41),"",C$34-$C41) | AE41: =IF(ISERROR(C$35-$C41),"",C$35-$C41) | AF41: =IF(ISERROR(C$36-$C41),"",C$36-$C41) | AG41: =IF(ISERROR(C$37-$C41),"",C$37-$C41) | AH41: =IF(ISERROR(C$38-$C41),"",C$38-$C41) | AI41: =IF(ISERROR(C$39-$C41),"",C$39-$C41) | AJ41: =IF(ISERROR(C$40-$C41),"",C$40-$C41)

Sheet SWOT方格
E1: 項目 | O1: 項目
D2: ='1.設定項目名稱'!F2 -> O1 | E2: =IF(ISBLANK('1.設定項目名稱'!G2),"",'1.設定項目名稱'!G2) -> 教育局積極補助學校設備更新供專案申請 | N2: ='1.設定項目名稱'!H2 -> T1 | O2: =IF(ISBLANK('1.設定項目名稱'!I2),"",'1.設定項目名稱'!I2) -> 社區學齡入學兒童數逐年降低增加招生難度
D3: ='1.設定項目名稱'!F3 -> O2 | E3: =IF(ISBLANK('1.設定項目名稱'!G3),"",'1.設定項目名稱'!G3) -> 民間團體培育外語師資尋求合作意願高 | N3: ='1.設定項目名稱'!H3 -> T2 | O3: =IF(ISBLANK('1.設定項目名稱'!I3),"",'1.設定項目名稱'!I3) -> 他校轉型實驗學校吸引本校生轉學就讀形成競爭
D4: ='1.設定項目名稱'!F4 -> O3 | E4: =IF(ISBLANK('1.設定項目名稱'!G4),"",'1.設定項目名稱'!G4) -> 大型商場和大企業機構進駐社區吸引建商推出新建案 | N4: ='1.設定項目名稱'!H4 -> T3 | O4: =IF(ISBLANK('1.設定項目名稱'!I4),"",'1.設定項目名稱'!I4) -> 家長關心外語學習促成學生參加課後外語補習人數漸增
D5: ='1.設定項目名稱'!F5 -> O4 | E5: =IF(ISBLANK('1.設定項目名稱'!G5),"",'1.設定項目名稱'!G5) -> 教育局推動優秀退休教師參與學校教學協助方案 | N5: ='1.設定項目名稱'!H5 -> T4 | O5: =IF(ISBLANK('1.設定項目名稱'!I5),"",'1.設定項目名稱'!I5) -> 民間教育團體培育優秀師資不合現行政策規定無法聘用
D6: ='1.設定項目名稱'!F6 -> O5 | E6: =IF(ISBLANK('1.設定項目名稱'!G6),"",'1.設定項目名稱'!G6) -> 民間文教演藝團體提供免費巡迴服務 | N6: ='1.設定項目名稱'!H6 -> T5 | O6: =IF(ISBLANK('1.設定項目名稱'!I6),"",'1.設定項目名稱'!I6)
D7: ='1.設定項目名稱'!F7 -> O6 | E7: =IF(ISBLANK('1.設定項目名稱'!G7),"",'1.設定項目名稱'!G7) | N7: ='1.設定項目名稱'!H7 -> T6 | O7: =IF(ISBLANK('1.設定項目名稱'!I7),"",'1.設定項目名稱'!I7)
D8: ='1.設定項目名稱'!F8 -> O7 | E8: =IF(ISBLANK('1.設定項目名稱'!G8),"",'1.設定項目名稱'!G8) | N8: ='1.設定項目名稱'!H8 -> T7 | O8: =IF(ISBLANK('1.設定項目名稱'!I8),"",'1.設定項目名稱'!I8)
D9: ='1.設定項目名稱'!F9 -> O8 | E9: =IF(ISBLANK('1.設定項目名稱'!G9),"",'1.設定項目名稱'!G9) | N9: ='1.設定項目名稱'!H9 -> T8 | O9: =IF(ISBLANK('1.設定項目名稱'!I9),"",'1.設定項目名稱'!I9)
D10: ='1.設定項目名稱'!F10 -> O9 | E10: =IF(ISBLANK('1.設定項目名稱'!G10),"",'1.設定項目名稱'!G10) | N10: ='1.設定項目名稱'!H10 -> T9 | O10: =IF(ISBLANK('1.設定項目名稱'!I10),"",'1.設定項目名稱'!I10)
D11: ='1.設定項目名稱'!F11 -> O10 | E11: =IF(ISBLANK('1.設定項目名稱'!G11),"",'1.設定項目名稱'!G11) | N11: ='1.設定項目名稱'!H11 -> T10 | O11: =IF(ISBLANK('1.設定項目名稱'!I11),"",'1.設定項目名稱'!I11)
D12: =D2 -> O1 | E12: =D3 -> O2 | F12: =D4 -> O3 | G12: =D5 -> O4 | H12: =D6 -> O5 | I12: =D7 -> O6 | J12: =D8 -> O7 | K12: =D9 -> O8 | L12: =D10 -> O9 | M12: =D11 -> O10 | N12: =N2 -> T1 | O12: =N3 -> T2 | P12: =N4 -> T3 | Q12: =N5 -> T4 | R12: =N6 -> T5 | S12: =N7 -> T6 | T12: =N8 -> T7 | U12: =N9 -> T8 | V12: =N10 -> T9 | W12: =N11 -> T10
B13: 項目 | C13: 權重 | D13: =IF('2.評定項目'!C22="",0,'2.評定項目'!C22) -> 6.5 | E13: =IF('2.評定項目'!C23="",0,'2.評定項目'!C23) -> 2.5 | F13: =IF('2.評定項目'!C24="",0,'2.評定項目'!C24) -> 4.5 | G13: =IF('2.評定項目'!C25="",0,'2.評定項目'!C25) -> 5.5 | H13: =IF('2.評定項目'!C26="",0,'2.評定項目'!C26) -> 2 | I13: =IF('2.評定項目'!C27="",0,'2.評定項目'!C27) -> 0 | J13: =IF('2.評定項目'!C28="",0,'2.評定項目'!C28) -> 0 | K13: =IF('2.評定項目'!C29="",0,'2.評定項目'!C29) -> 0 | L13: =IF('2.評定項目'!C30="",0,'2.評定項目'!C30) -> 0 | M13: =IF('2.評定項目'!C31="",0,'2.評定項目'!C31) -> 0 | N13: =IF('2.評定項目'!C32="",0,'2.評定項目'!C32) -> 5.5 | O13: =IF('2.評定項目'!C33="",0,'2.評定項目'!C33) -> 4 | P13: =IF('2.評定項目'!C34="",0,'2.評定項目'!C34) -> 5 | Q13: =IF('2.評定項目'!C35="",0,'2.評定項目'!C35) -> 4 | R13: =IF('2.評定項目'!C36="",0,'2.評定項目'!C36) -> 0 | S13: =IF('2.評定項目'!C37="",0,'2.評定項目'!C37) -> 0 | T13: =IF('2.評定項目'!C38="",0,'2.評定項目'!C38) -> 0 | U13: =IF('2.評定項目'!C39="",0,'2.評定項目'!C39) -> 0 | V13: =IF('2.評定項目'!C40="",0,'2.評定項目'!C40) -> 0 | W13: =IF('2.評定項目'!C41="",0,'2.評定項目'!C41) -> 0
A14: ='1.設定項目名稱'!B2 -> S1 | B14: =IF(ISBLANK('1.設定項目名稱'!C2)," ",'1.設定項目名稱'!C2) -> 專任教師學歷高且專業力強 | C14: =IF('2.評定項目'!C2="",0,'2.評定項目'!C2) -> 4.5 | D14: =$C14*D$13 -> 29.25 | E14: =$C14*E$13 -> 11.25 | F14: =$C14*F$13 -> 20.25 | G14: =$C14*G$13 -> 24.75 | H14: =$C14*H$13 -> 9 | I14: =$C14*I$13 -> 0 | J14: =$C14*J$13 -> 0 | K14: =$C14*K$13 -> 0 | ... W14: =$C14*W$13 -> 0
A15: ='1.設定項目名稱'!B3 -> S2 | B15: =IF(ISBLANK('1.設定項目名稱'!C3)," ",'1.設定項目名稱'!C3) -> 教師高度樂業願意積極參與校務 | C15: =IF('2.評定項目'!C3="",0,'2.評定項目'!C3) -> 5 | D15: =$C15*D$13 -> 32.5 | E15: =$C15*E$13 -> 12.5 | F15: =$C15*F$13 -> 22.5 | G15: =$C15*G$13 -> 27.5 | H15: =$C15*H$13 -> 10 | I15: =$C15*I$13 -> 0 | J15: =$C15*J$13 -> 0 | K15: =$C15*K$13 -> 0 | ... W15: =$C15*W$13 -> 0
A16: ='1.設定項目名稱'!B4 -> S3 | B16: =IF(ISBLANK('1.設定項目名稱'!C4)," ",'1.設定項目名稱'!C4) -> 學校設備資源豐富滿足教學 | C16: =IF('2.評定項目'!C4="",0,'2.評定項目'!C4) -> 3 | D16: =$C16*D$13 -> 19.5 | E16: =$C16*E$13 -> 7.5 | F16: =$C16*F$13 -> 13.5 | G16: =$C16*G$13 -> 16.5 | H16: =$C16*H$13 -> 6 | I16: =$C16*I$13 -> 0 | J16: =$C16*J$13 -> 0 | K16: =$C16*K$13 -> 0 | ... W16: =$C16*W$13 -> 0
A17: ='1.設定項目名稱'!B5 -> S4 | B17: =IF(ISBLANK('1.設定項目名稱'!C5)," ",'1.設定項目名稱'!C5) -> 家長和社區關心和樂意協助學校 | C17: =IF('2.評定項目'!C5="",0,'2.評定項目'!C5) -> 5.5 | D17: =$C17*D$13 -> 35.75 | E17: =$C17*E$13 -> 13.75 | F17: =$C17*F$13 -> 24.75 | G17: =$C17*G$13 -> 30.25 | H17: =$C17*H$13 -> 11 | I17: =$C17*I$13 -> 0 | J17: =$C17*J$13 -> 0 | K17: =$C17*K$13 -> 0 | ... W17: =$C17*W$13 -> 0
A18: ='1.設定項目名稱'!B6 -> S5 | B18: =IF(ISBLANK('1.設定項目名稱'!C6)," ",'1.設定項目名稱'!C6) -> 學校特色教學團隊強且成果多 | C18: =IF('2.評定項目'!C6="",0,'2.評定項目'!C6) -> 5 | D18: =$C18*D$13 -> 32.5 | E18: =$C18*E$13 -> 12.5 | F18: =$C18*F$13 -> 22.5 | G18: =$C18*G$13 -> 27.5 | H18: =$C18*H$13 -> 10 | I18: =$C18*I$13 -> 0 | J18: =$C18*J$13 -> 0 | K18: =$C18*K$13 -> 0 | ... W18: =$C18*W$13 -> 0
A19: ='1.設定項目名稱'!B7 -> S6 | B19: =IF(ISBLANK('1.設定項目名稱'!C7)," ",'1.設定項目名稱'!C7) | C19: =IF('2.評定項目'!C7="",0,'2.評定項目'!C7) -> 0 | D19: =$C19*D$13 -> 0 | E19: =$C19*E$13 -> 0 | F19: =$C19*F$13 -> 0 | G19: =$C19*G$13 -> 0 | H19: =$C19*H$13 -> 0 | I19: =$C19*I$13 -> 0 | J19: =$C19*J$13 -> 0 | K19: =$C19*K$13 -> 0 | ... W19: =$C19*W$13 -> 0
A20: ='1.設定項目名稱'!B8 -> S7 | B20: =IF(ISBLANK('1.設定項目名稱'!C8)," ",'1.設定項目名稱'!C8) | C20: =IF('2.評定項目'!C8="",0,'2.評定項目'!C8) -> 0 | D20: =$C20*D$13 -> 0 | E20: =$C20*E$13 -> 0 | F20: =$C20*F$13 -> 0 | G20: =$C20*G$13 -> 0 | H20: =$C20*H$13 -> 0 | I20: =$C20*I$13 -> 0 | J20: =$C20*J$13 -> 0 | K20: =$C20*K$13 -> 0 | ... W20: =$C20*W$13 -> 0
A21: ='1.設定項目名稱'!B9 -> S8 | B21: =IF(ISBLANK('1.設定項目名稱'!C9)," ",'1.設定項目名稱'!C9) | C21: =IF('2.評定項目'!C9="",0,'2.評定項目'!C9) -> 0 | D21: =$C21*D$13 -> 0 | E21: =$C21*E$13 -> 0 | F21: =$C21*F$13 -> 0 | G21: =$C21*G$13 -> 0 | H21: =$C21*H$13 -> 0 | I21: =$C21*I$13 -> 0 | J21: =$C21*J$13 -> 0 | K21: =$C21*K$13 -> 0 | ... W21: =$C21*W$13 -> 0
A22: ='1.設定項目名稱'!B10 -> S9 | B22: =IF(ISBLANK('1.設定項目名稱'!C10)," ",'1.設定項目名稱'!C10) | C22: =IF('2.評定項目'!C10="",0,'2.評定項目'!C10) -> 0 | D22: =$C22*D$13 -> 0 | E22: =$C22*E$13 -> 0 | F22: =$C22*F$13 -> 0 | G22: =$C22*G$13 -> 0 | H22: =$C22*H$13 -> 0 | I22: =$C22*I$13 -> 0 | J22: =$C22*J$13 -> 0 | K22: =$C22*K$13 -> 0 | ... W22: =$C22*W$13 -> 0
A23: ='1.設定項目名稱'!B11 -> S10 | B23: =IF(ISBLANK('1.設定項目名稱'!C11)," ",'1.設定項目名稱'!C11) | C23: =IF('2.評定項目'!C11="",0,'2.評定項目'!C11) -> 0 | D23: =$C23*D$13 -> 0 | E23: =$C23*E$13 -> 0 | F23: =$C23*F$13 -> 0 | G23: =$C23*G$13 -> 0 | H23: =$C23*H$13 -> 0 | I23: =$C23*I$13 -> 0 | J23: =$C23*J$13 -> 0 | K23: =$C23*K$13 -> 0 | ... W23: =$C23*W$13 -> 0
A24: ='1.設定項目名稱'!D2 -> W1 | B24: =IF(ISBLANK('1.設定項目名稱'!E2),"",'1.設定項目名稱'!E2) -> 教師年齡偏高多數屆臨退休 | C24: =IF('2.評定項目'!C12="",0,'2.評定項目'!C12) -> 3 | D24: =$C24*D$13 -> 19.5 | E24: =$C24*E$13 -> 7.5 | F24: =$C24*F$13 -> 13.5 | G24: =$C24*G$13 -> 16.5 | H24: =$C24*H$13 -> 6 | I24: =$C24*I$13 -> 0 | J24: =$C24*J$13 -> 0 | K24: =$C24*K$13 -> 0 | ... W24: =$C24*W$13 -> 0
A25: ='1.設定項目名稱'!D3 -> W2 | B25: =IF(ISBLANK('1.設定項目名稱'!E3),"",'1.設定項目名稱'!E3) -> 經濟不利條件學生偏多需要協助 | C25: =IF('2.評定項目'!C13="",0,'2.評定項目'!C13) -> 3.5 | D25: =$C25*D$13 -> 22.75 | E25: =$C25*E$13 -> 8.75 | F25: =$C25*F$13 -> 15.75 | G25: =$C25*G$13 -> 19.25 | H25: =$C25*H$13 -> 7 | I25: =$C25*I$13 -> 0 | J25: =$C25*J$13 -> 0 | K25: =$C25*K$13 -> 0 | ... W25: =$C25*W$13 -> 0
A26: ='1.設定項目名稱'!D4 -> W3 | B26: =IF(ISBLANK('1.設定項目名稱'!E4),"",'1.設定項目名稱'!E4) -> 圖書設備汰舊更新較慢 | C26: =IF('2.評定項目'!C14="",0,'2.評定項目'!C14) -> 4.5 | D26: =$C26*D$13 -> 29.25 | E26: =$C26*E$13 -> 11.25 | F26: =$C26*F$13 -> 20.25 | G26: =$C26*G$13 -> 24.75 | H26: =$C26*H$13 -> 9 | I26: =$C26*I$13 -> 0 | J26: =$C26*J$13 -> 0 | K26: =$C26*K$13 -> 0 | ... W26: =$C26*W$13 -> 0
A27: ='1.設定項目名稱'!D5 -> W4 | B27: =IF(ISBLANK('1.設定項目名稱'!E5),"",'1.設定項目名稱'!E5) -> 外語教學師資不足需向外招聘 | C27: =IF('2.評定項目'!C15="",0,'2.評定項目'!C15) -> 6 | D27: =$C27*D$13 -> 39 | E27: =$C27*E$13 -> 15 | F27: =$C27*F$13 -> 27 | G27: =$C27*G$13 -> 33 | H27: =$C27*H$13 -> 12 | I27: =$C27*I$13 -> 0 | J27: =$C27*J$13 -> 0 | K27: =$C27*K$13 -> 0 | ... W27: =$C27*W$13 -> 0
A28: ='1.設定項目名稱'!D6 -> W5 | B28: =IF(ISBLANK('1.設定項目名稱'!E6),"",'1.設定項目名稱'!E6) -> 科技課程教材相對他校顯得陳舊 | C28: =IF('2.評定項目'!C16="",0,'2.評定項目'!C16) -> 4.5 | D28: =$C28*D$13 -> 29.25 | E28: =$C28*E$13 -> 11.25 | F28: =$C28*F$13 -> 20.25 | G28: =$C28*G$13 -> 24.75 | H28: =$C28*H$13 -> 9 | I28: =$C28*I$13 -> 0 | J28: =$C28*J$13 -> 0 | K28: =$C28*K$13 -> 0 | ... W28: =$C28*W$13 -> 0
A29: ='1.設定項目名稱'!D7 -> W6 | B29: =IF(ISBLANK('1.設定項目名稱'!E7),"",'1.設定項目名稱'!E7) | C29: =IF('2.評定項目'!C17="",0,'2.評定項目'!C17) -> 0 | D29: =$C29*D$13 -> 0 | E29: =$C29*E$13 -> 0 | F29: =$C29*F$13 -> 0 | G29: =$C29*G$13 -> 0 | H29: =$C29*H$13 -> 0 | I29: =$C29*I$13 -> 0 | J29: =$C29*J$13 -> 0 | K29: =$C29*K$13 -> 0 | ... W29: =$C29*W$13 -> 0
A30: ='1.設定項目名稱'!D8 -> W7 | B30: =IF(ISBLANK('1.設定項目名稱'!E8),"",'1.設定項目名稱'!E8) | C30: =IF('2.評定項目'!C18="",0,'2.評定項目'!C18) -> 0 | D30: =$C30*D$13 -> 0 | E30: =$C30*E$13 -> 0 | F30: =$C30*F$13 -> 0 | G30: =$C30*G$13 -> 0 | H30: =$C30*H$13 -> 0 | I30: =$C30*I$13 -> 0 | J30: =$C30*J$13 -> 0 | K30: =$C30*K$13 -> 0 | ... W30: =$C30*W$13 -> 0
A31: ='1.設定項目名稱'!D9 -> W8 | B31: =IF(ISBLANK('1.設定項目名稱'!E9),"",'1.設定項目名稱'!E9) | C31: =IF('2.評定項目'!C19="",0,'2.評定項目'!C19) -> 0 | D31: =$C31*D$13 -> 0 | E31: =$C31*E$13 -> 0 | F31: =$C31*F$13 -> 0 | G31: =$C31*G$13 -> 0 | H31: =$C31*H$13 -> 0 | I31: =$C31*I$13 -> 0 | J31: =$C31*J$13 -> 0 | K31: =$C31*K$13 -> 0 | ... W31: =$C31*W$13 -> 0
A32: ='1.設定項目名稱'!D10 -> W9 | B32: =IF(ISBLANK('1.設定項目名稱'!E10),"",'1.設定項目名稱'!E10) | C32: =IF('2.評定項目'!C20="",0,'2.評定項目'!C20) -> 0 | D32: =$C32*D$13 -> 0 | E32: =$C32*E$13 -> 0 | F32: =$C32*F$13 -> 0 | G32: =$C32*G$13 -> 0 | H32: =$C32*H$13 -> 0 | I32: =$C32*I$13 -> 0 | J32: =$C32*J$13 -> 0 | K32: =$C32*K$13 -> 0 | ... W32: =$C32*W$13 -> 0
A33: ='1.設定項目名稱'!D11 -> W10 | B33: =IF(ISBLANK('1.設定項目名稱'!E11),"",'1.設定項目名稱'!E11) | C33: =IF('2.評定項目'!C21="",0,'2.評定項目'!C21) -> 0 | D33: =$C33*D$13 -> 0 | E33: =$C33*E$13 -> 0 | F33: =$C33*F$13 -> 0 | G33: =$C33*G$13 -> 0 | H33: =$C33*H$13 -> 0 | I33: =$C33*I$13 -> 0 | J33: =$C33*J$13 -> 0 | K33: =$C33*K$13 -> 0 | ... W33: =$C33*W$13 -> 0

Sheet 設定交互項目
E1: 項目 | O1: 項目
D2: ='1.設定項目名稱'!F2 -> O1 | E2: =IF(ISBLANK('1.設定項目名稱'!G2),"",'1.設定項目名稱'!G2) -> 教育局積極補助學校設備更新供專案申請 | N2: ='1.設定項目名稱'!H2 -> T1 | O2: =IF(ISBLANK('1.設定項目名稱'!I2),"",'1.設定項目名稱'!I2) -> 社區學齡入學兒童數逐年降低增加招生難度
D3: ='1.設定項目名稱'!F3 -> O2 | E3: =IF(ISBLANK('1.設定項目名稱'!G3),"",'1.設定項目名稱'!G3) -> 民間團體培育外語師資尋求合作意願高 | N3: ='1.設定項目名稱'!H3 -> T2 | O3: =IF(ISBLANK('1.設定項目名稱'!I3),"",'1.設定項目名稱'!I3) -> 他校轉型實驗學校吸引本校生轉學就讀形成競爭
D4: ='1.設定項目名稱'!F4 -> O3 | E4: =IF(ISBLANK('1.設定項目名稱'!G4),"",'1.設定項目名稱'!G4) -> 大型商場和大企業機構進駐社區吸引建商推出新建案 | N4: ='1.設定項目名稱'!H4 -> T3 | O4: =IF(ISBLANK('1.設定項目名稱'!I4),"",'1.設定項目名稱'!I4) -> 家長關心外語學習促成學生參加課後外語補習人數漸增
D5: ='1.設定項目名稱'!F5 -> O4 | E5: =IF(ISBLANK('1.設定項目名稱'!G5),"",'1.設定項目名稱'!G5) -> 教育局推動優秀退休教師參與學校教學協助方案 | N5: ='1.設定項目名稱'!H5 -> T4 | O5: =IF(ISBLANK('1.設定項目名稱'!I5),"",'1.設定項目名稱'!I5) -> 民間教育團體培育優秀師資不合現行政策規定無法聘用
D6: ='1.設定項目名稱'!F6 -> O5 | E6: =IF(ISBLANK('1.設定項目名稱'!G6),"",'1.設定項目名稱'!G6) -> 民間文教演藝團體提供免費巡迴服務 | N6: ='1.設定項目名稱'!H6 -> T5 | O6: =IF(ISBLANK('1.設定項目名稱'!I6),"",'1.設定項目名稱'!I6)
D7: ='1.設定項目名稱'!F7 -> O6 | E7: =IF(ISBLANK('1.設定項目名稱'!G7),"",'1.設定項目名稱'!G7) | N7: ='1.設定項目名稱'!H7 -> T6 | O7: =IF(ISBLANK('1.設定項目名稱'!I7),"",'1.設定項目名稱'!I7)
D8: ='1.設定項目名稱'!F8 -> O7 | E8: =IF(ISBLANK('1.設定項目名稱'!G8),"",'1.設定項目名稱'!G8) | N8: ='1.設定項目名稱'!H8 -> T7 | O8: =IF(ISBLANK('1.設定項目名稱'!I8),"",'1.設定項目名稱'!I8)
D9: ='1.設定項目名稱'!F9 -> O8 | E9: =IF(ISBLANK('1.設定項目名稱'!G9),"",'1.設定項目名稱'!G9) | N9: ='1.設定項目名稱'!H9 -> T8 | O9: =IF(ISBLANK('1.設定項目名稱'!I9),"",'1.設定項目名稱'!I9)
D10: ='1.設定項目名稱'!F10 -> O9 | E10: =IF(ISBLANK('1.設定項目名稱'!G10),"",'1.設定項目名稱'!G10) | N10: ='1.設定項目名稱'!H10 -> T9 | O10: =IF(ISBLANK('1.設定項目名稱'!I10),"",'1.設定項目名稱'!I10)
D11: ='1.設定項目名稱'!F11 -> O10 | E11: =IF(ISBLANK('1.設定項目名稱'!G11),"",'1.設定項目名稱'!G11) | N11: ='1.設定項目名稱'!H11 -> T10 | O11: =IF(ISBLANK('1.設定項目名稱'!I11),"",'1.設定項目名稱'!I11)
D12: =D2 -> O1 | E12: =D3 -> O2 | F12: =D4 -> O3 | G12: =D5 -> O4 | H12: =D6 -> O5 | I12: =D7 -> O6 | J12: =D8 -> O7 | K12: =D9 -> O8 | L12: =D10 -> O9 | M12: =D11 -> O10 | N12: =N2 -> T1 | O12: =N3 -> T2 | P12: =N4 -> T3 | Q12: =N5 -> T4 | R12: =N6 -> T5 | S12: =N7 -> T6 | T12: =N8 -> T7 | U12: =N9 -> T8 | V12: =N10 -> T9 | W12: =N11 -> T10 | AA12: =D12 -> O1 | AB12: =E12 -> O2 | AC12: =F12 -> O3 | AD12: =G12 -> O4 | AE12: =H12 -> O5 | AF12: =I12 -> O6 | AG12: =J12 -> O7 | AH12: =K12 -> O8 | ... AT12: =W12 -> T10
B13: 項目 | C13: 權重 | AA13: =IF(ISBLANK(D13),1,D13) -> 1 | AB13: =IF(ISBLANK(E13),1,E13) -> 1 | AC13: =IF(ISBLANK(F13),1,F13) -> 1 | AD13: =IF(ISBLANK(G13),1,G13) -> 1 | AE13: =IF(ISBLANK(H13),1,H13) -> 1 | AF13: =IF(ISBLANK(I13),1,I13) -> 1 | AG13: =IF(ISBLANK(J13),1,J13) -> 1 | AH13: =IF(ISBLANK(K13),1,K13) -> 1 | ... AT13: =IF(ISBLANK(W13),1,W13) -> 1
A14: ='1.設定項目名稱'!B2 -> S1 | B14: =IF(ISBLANK('1.設定項目名稱'!C2)," ",'1.設定項目名稱'!C2) -> 專任教師學歷高且專業力強 | Y14: =A14 -> S1 | Z14: =IF(ISBLANK(C14),1,C14) -> 1 | AA14: =IF(ISBLANK(D14),IF(SWOT方格!D14>0,1,0),D14*AA$13*$Z14) -> 1 | AB14: =IF(ISBLANK(E14),IF(SWOT方格!E14>0,1,0),E14*AB$13*$Z14) -> 1 | AC14: =IF(ISBLANK(F14),IF(SWOT方格!F14>0,1,0),F14*AC$13*$Z14) -> 1 | AD14: =IF(ISBLANK(G14),IF(SWOT方格!G14>0,1,0),G14*AD$13*$Z14) -> 1 | AE14: =IF(ISBLANK(H14),IF(SWOT方格!H14>0,1,0),H14*AE$13*$Z14) -> 1 | AF14: =IF(ISBLANK(I14),IF(SWOT方格!I14>0,1,0),I14*AF$13*$Z14) -> 0 | AG14: =IF(ISBLANK(J14),IF(SWOT方格!J14>0,1,0),J14*AG$13*$Z14) -> 0 | AH14: =IF(ISBLANK(K14),IF(SWOT方格!K14>0,1,0),K14*AH$13*$Z14) -> 0 | ... AT14: =IF(ISBLANK(W14),IF(SWOT方格!W14>0,1,0),W14*AT$13*$Z14) -> 0
A15: ='1.設定項目名稱'!B3 -> S2 | B15: =IF(ISBLANK('1.設定項目名稱'!C3)," ",'1.設定項目名稱'!C3) -> 教師高度樂業願意積極參與校務 | Y15: =A15 -> S2 | Z15: =IF(ISBLANK(C15),1,C15) -> 1 | AA15: =IF(ISBLANK(D15),IF(SWOT方格!D15>0,1,0),D15*AA$13*$Z15) -> 1 | AB15: =IF(ISBLANK(E15),IF(SWOT方格!E15>0,1,0),E15*AB$13*$Z15) -> 1 | AC15: =IF(ISBLANK(F15),IF(SWOT方格!F15>0,1,0),F15*AC$13*$Z15) -> 1 | AD15: =IF(ISBLANK(G15),IF(SWOT方格!G15>0,1,0),G15*AD$13*$Z15) -> 1 | AE15: =IF(ISBLANK(H15),IF(SWOT方格!H15>0,1,0),H15*AE$13*$Z15) -> 1 | AF15: =IF(ISBLANK(I15),IF(SWOT方格!I15>0,1,0),I15*AF$13*$Z15) -> 0 | AG15: =IF(ISBLANK(J15),IF(SWOT方格!J15>0,1,0),J15*AG$13*$Z15) -> 0 | AH15: =IF(ISBLANK(K15),IF(SWOT方格!K15>0,1,0),K15*AH$13*$Z15) -> 0 | ... AT15: =IF(ISBLANK(W15),IF(SWOT方格!W15>0,1,0),W15*AT$13*$Z15) -> 0
A16: ='1.設定項目名稱'!B4 -> S3 | B16: =IF(ISBLANK('1.設定項目名稱'!C4)," ",'1.設定項目名稱'!C4) -> 學校設備資源豐富滿足教學 | Y16: =A16 -> S3 | Z16: =IF(ISBLANK(C16),1,C16) -> 1 | AA16: =IF(ISBLANK(D16),IF(SWOT方格!D16>0,1,0),D16*AA$13*$Z16) -> 1 | AB16: =IF(ISBLANK(E16),IF(SWOT方格!E16>0,1,0),E16*AB$13*$Z16) -> 1 | AC16: =IF(ISBLANK(F16),IF(SWOT方格!F16>0,1,0),F16*AC$13*$Z16) -> 1 | AD16: =IF(ISBLANK(G16),IF(SWOT方格!G16>0,1,0),G16*AD$13*$Z16) -> 1 | AE16: =IF(ISBLANK(H16),IF(SWOT方格!H16>0,1,0),H16*AE$13*$Z16) -> 1 | AF16: =IF(ISBLANK(I16),IF(SWOT方格!I16>0,1,0),I16*AF$13*$Z16) -> 0 | AG16: =IF(ISBLANK(J16),IF(SWOT方格!J16>0,1,0),J16*AG$13*$Z16) -> 0 | AH16: =IF(ISBLANK(K16),IF(SWOT方格!K16>0,1,0),K16*AH$13*$Z16) -> 0 | ... AT16: =IF(ISBLANK(W16),IF(SWOT方格!W16>0,1,0),W16*AT$13*$Z16) -> 0
A17: ='1.設定項目名稱'!B5 -> S4 | B17: =IF(ISBLANK('1.設定項目名稱'!C5)," ",'1.設定項目名稱'!C5) -> 家長和社區關心和樂意協助學校 | Y17: =A17 -> S4 | Z17: =IF(ISBLANK(C17),1,C17) -> 1 | AA17: =IF(ISBLANK(D17),IF(SWOT方格!D17>0,1,0),D17*AA$13*$Z17) -> 1 | AB17: =IF(ISBLANK(E17),IF(SWOT方格!E17>0,1,0),E17*AB$13*$Z17) -> 1 | AC17: =IF(ISBLANK(F17),IF(SWOT方格!F17>0,1,0),F17*AC$13*$Z17) -> 1 | AD17: =IF(ISBLANK(G17),IF(SWOT方格!G17>0,1,0),G17*AD$13*$Z17) -> 1 | AE17: =IF(ISBLANK(H17),IF(SWOT方格!H17>0,1,0),H17*AE$13*$Z17) -> 1 | AF17: =IF(ISBLANK(I17),IF(SWOT方格!I17>0,1,0),I17*AF$13*$Z17) -> 0 | AG17: =IF(ISBLANK(J17),IF(SWOT方格!J17>0,1,0),J17*AG$13*$Z17) -> 0 | AH17: =IF(ISBLANK(K17),IF(SWOT方格!K17>0,1,0),K17*AH$13*$Z17) -> 0 | ... AT17: =IF(ISBLANK(W17),IF(SWOT方格!W17>0,1,0),W17*AT$13*$Z17) -> 0
A18: ='1.設定項目名稱'!B6 -> S5 | B18: =IF(ISBLANK('1.設定項目名稱'!C6)," ",'1.設定項目名稱'!C6) -> 學校特色教學團隊強且成果多 | Y18: =A18 -> S5 | Z18: =IF(ISBLANK(C18),1,C18) -> 1 | AA18: =IF(ISBLANK(D18),IF(SWOT方格!D18>0,1,0),D18*AA$13*$Z18) -> 1 | AB18: =IF(ISBLANK(E18),IF(SWOT方格!E18>0,1,0),E18*AB$13*$Z18) -> 1 | AC18: =IF(ISBLANK(F18),IF(SWOT方格!F18>0,1,0),F18*AC$13*$Z18) -> 1 | AD18: =IF(ISBLANK(G18),IF(SWOT方格!G18>0,1,0),G18*AD$13*$Z18) -> 1 | AE18: =IF(ISBLANK(H18),IF(SWOT方格!H18>0,1,0),H18*AE$13*$Z18) -> 1 | AF18: =IF(ISBLANK(I18),IF(SWOT方格!I18>0,1,0),I18*AF$13*$Z18) -> 0 | AG18: =IF(ISBLANK(J18),IF(SWOT方格!J18>0,1,0),J18*AG$13*$Z18) -> 0 | AH18: =IF(ISBLANK(K18),IF(SWOT方格!K18>0,1,0),K18*AH$13*$Z18) -> 0 | ... AT18: =IF(ISBLANK(W18),IF(SWOT方格!W18>0,1,0),W18*AT$13*$Z18) -> 0
A19: ='1.設定項目名稱'!B7 -> S6 | B19: =IF(ISBLANK('1.設定項目名稱'!C7)," ",'1.設定項目名稱'!C7) | Y19: =A19 -> S6 | Z19: =IF(ISBLANK(C19),1,C19) -> 1 | AA19: =IF(ISBLANK(D19),IF(SWOT方格!D19>0,1,0),D19*AA$13*$Z19) -> 0 | AB19: =IF(ISBLANK(E19),IF(SWOT方格!E19>0,1,0),E19*AB$13*$Z19) -> 0 | AC19: =IF(ISBLANK(F19),IF(SWOT方格!F19>0,1,0),F19*AC$13*$Z19) -> 0 | AD19: =IF(ISBLANK(G19),IF(SWOT方格!G19>0,1,0),G19*AD$13*$Z19) -> 0 | AE19: =IF(ISBLANK(H19),IF(SWOT方格!H19>0,1,0),H19*AE$13*$Z19) -> 0 | AF19: =IF(ISBLANK(I19),IF(SWOT方格!I19>0,1,0),I19*AF$13*$Z19) -> 0 | AG19: =IF(ISBLANK(J19),IF(SWOT方格!J19>0,1,0),J19*AG$13*$Z19) -> 0 | AH19: =IF(ISBLANK(K19),IF(SWOT方格!K19>0,1,0),K19*AH$13*$Z19) -> 0 | ... AT19: =IF(ISBLANK(W19),IF(SWOT方格!W19>0,1,0),W19*AT$13*$Z19) -> 0
A20: ='1.設定項目名稱'!B8 -> S7 | B20: =IF(ISBLANK('1.設定項目名稱'!C8)," ",'1.設定項目名稱'!C8) | Y20: =A20 -> S7 | Z20: =IF(ISBLANK(C20),1,C20) -> 1 | AA20: =IF(ISBLANK(D20),IF(SWOT方格!D20>0,1,0),D20*AA$13*$Z20) -> 0 | AB20: =IF(ISBLANK(E20),IF(SWOT方格!E20>0,1,0),E20*AB$13*$Z20) -> 0 | AC20: =IF(ISBLANK(F20),IF(SWOT方格!F20>0,1,0),F20*AC$13*$Z20) -> 0 | AD20: =IF(ISBLANK(G20),IF(SWOT方格!G20>0,1,0),G20*AD$13*$Z20) -> 0 | AE20: =IF(ISBLANK(H20),IF(SWOT方格!H20>0,1,0),H20*AE$13*$Z20) -> 0 | AF20: =IF(ISBLANK(I20),IF(SWOT方格!I20>0,1,0),I20*AF$13*$Z20) -> 0 | AG20: =IF(ISBLANK(J20),IF(SWOT方格!J20>0,1,0),J20*AG$13*$Z20) -> 0 | AH20: =IF(ISBLANK(K20),IF(SWOT方格!K20>0,1,0),K20*AH$13*$Z20) -> 0 | ... AT20: =IF(ISBLANK(W20),IF(SWOT方格!W20>0,1,0),W20*AT$13*$Z20) -> 0
A21: ='1.設定項目名稱'!B9 -> S8 | B21: =IF(ISBLANK('1.設定項目名稱'!C9)," ",'1.設定項目名稱'!C9) | Y21: =A21 -> S8 | Z21: =IF(ISBLANK(C21),1,C21) -> 1 | AA21: =IF(ISBLANK(D21),IF(SWOT方格!D21>0,1,0),D21*AA$13*$Z21) -> 0 | AB21: =IF(ISBLANK(E21),IF(SWOT方格!E21>0,1,0),E21*AB$13*$Z21) -> 0 | AC21: =IF(ISBLANK(F21),IF(SWOT方格!F21>0,1,0),F21*AC$13*$Z21) -> 0 | AD21: =IF(ISBLANK(G21),IF(SWOT方格!G21>0,1,0),G21*AD$13*$Z21) -> 0 | AE21: =IF(ISBLANK(H21),IF(SWOT方格!H21>0,1,0),H21*AE$13*$Z21) -> 0 | AF21: =IF(ISBLANK(I21),IF(SWOT方格!I21>0,1,0),I21*AF$13*$Z21) -> 0 | AG21: =IF(ISBLANK(J21),IF(SWOT方格!J21>0,1,0),J21*AG$13*$Z21) -> 0 | AH21: =IF(ISBLANK(K21),IF(SWOT方格!K21>0,1,0),K21*AH$13*$Z21) -> 0 | ... AT21: =IF(ISBLANK(W21),IF(SWOT方格!W21>0,1,0),W21*AT$13*$Z21) -> 0
A22: ='1.設定項目名稱'!B10 -> S9 | B22: =IF(ISBLANK('1.設定項目名稱'!C10)," ",'1.設定項目名稱'!C10) | Y22: =A22 -> S9 | Z22: =IF(ISBLANK(C22),1,C22) -> 1 | AA22: =IF(ISBLANK(D22),IF(SWOT方格!D22>0,1,0),D22*AA$13*$Z22) -> 0 | AB22: =IF(ISBLANK(E22),IF(SWOT方格!E22>0,1,0),E22*AB$13*$Z22) -> 0 | AC22: =IF(ISBLANK(F22),IF(SWOT方格!F22>0,1,0),F22*AC$13*$Z22) -> 0 | AD22: =IF(ISBLANK(G22),IF(SWOT方格!G22>0,1,0),G22*AD$13*$Z22) -> 0 | AE22: =IF(ISBLANK(H22),IF(SWOT方格!H22>0,1,0),H22*AE$13*$Z22) -> 0 | AF22: =IF(ISBLANK(I22),IF(SWOT方格!I22>0,1,0),I22*AF$13*$Z22) -> 0 | AG22: =IF(ISBLANK(J22),IF(SWOT方格!J22>0,1,0),J22*AG$13*$Z22) -> 0 | AH22: =IF(ISBLANK(K22),IF(SWOT方格!K22>0,1,0),K22*AH$13*$Z22) -> 0 | ... AT22: =IF(ISBLANK(W22),IF(SWOT方格!W22>0,1,0),W22*AT$13*$Z22) -> 0
A23: ='1.設定項目名稱'!B11 -> S10 | B23: =IF(ISBLANK('1.設定項目名稱'!C11)," ",'1.設定項目名稱'!C11) | Y23: =A23 -> S10 | Z23: =IF(ISBLANK(C23),1,C23) -> 1 | AA23: =IF(ISBLANK(D23),IF(SWOT方格!D23>0,1,0),D23*AA$13*$Z23) -> 0 | AB23: =IF(ISBLANK(E23),IF(SWOT方格!E23>0,1,0),E23*AB$13*$Z23) -> 0 | AC23: =IF(ISBLANK(F23),IF(SWOT方格!F23>0,1,0),F23*AC$13*$Z23) -> 0 | AD23: =IF(ISBLANK(G23),IF(SWOT方格!G23>0,1,0),G23*AD$13*$Z23) -> 0 | AE23: =IF(ISBLANK(H23),IF(SWOT方格!H23>0,1,0),H23*AE$13*$Z23) -> 0 | AF23: =IF(ISBLANK(I23),IF(SWOT方格!I23>0,1,0),I23*AF$13*$Z23) -> 0 | AG23: =IF(ISBLANK(J23),IF(SWOT方格!J23>0,1,0),J23*AG$13*$Z23) -> 0 | AH23: =IF(ISBLANK(K23),IF(SWOT方格!K23>0,1,0),K23*AH$13*$Z23) -> 0 | ... AT23: =IF(ISBLANK(W23),IF(SWOT方格!W23>0,1,0),W23*AT$13*$Z23) -> 0
A24: ='1.設定項目名稱'!D2 -> W1 | B24: =IF(ISBLANK('1.設定項目名稱'!E2),"",'1.設定項目名稱'!E2) -> 教師年齡偏高多數屆臨退休 | Y24: =A24 -> W1 | Z24: =IF(ISBLANK(C24),1,C24) -> 1 | AA24: =IF(ISBLANK(D24),IF(SWOT方格!D24>0,1,0),D24*AA$13*$Z24) -> 1 | AB24: =IF(ISBLANK(E24),IF(SWOT方格!E24>0,1,0),E24*AB$13*$Z24) -> 1 | AC24: =IF(ISBLANK(F24),IF(SWOT方格!F24>0,1,0),F24*AC$13*$Z24) -> 1 | AD24: =IF(ISBLANK(G24),IF(SWOT方格!G24>0,1,0),G24*AD$13*$Z24) -> 1 | AE24: =IF(ISBLANK(H24),IF(SWOT方格!H24>0,1,0),H24*AE$13*$Z24) -> 1 | AF24: =IF(ISBLANK(I24),IF(SWOT方格!I24>0,1,0),I24*AF$13*$Z24) -> 0 | AG24: =IF(ISBLANK(J24),IF(SWOT方格!J24>0,1,0),J24*AG$13*$Z24) -> 0 | AH24: =IF(ISBLANK(K24),IF(SWOT方格!K24>0,1,0),K24*AH$13*$Z24) -> 0 | ... AT24: =IF(ISBLANK(W24),IF(SWOT方格!W24>0,1,0),W24*AT$13*$Z24) -> 0
A25: ='1.設定項目名稱'!D3 -> W2 | B25: =IF(ISBLANK('1.設定項目名稱'!E3),"",'1.設定項目名稱'!E3) -> 經濟不利條件學生偏多需要協助 | Y25: =A25 -> W2 | Z25: =IF(ISBLANK(C25),1,C25) -> 1 | AA25: =IF(ISBLANK(D25),IF(SWOT方格!D25>0,1,0),D25*AA$13*$Z25) -> 1 | AB25: =IF(ISBLANK(E25),IF(SWOT方格!E25>0,1,0),E25*AB$13*$Z25) -> 1 | AC25: =IF(ISBLANK(F25),IF(SWOT方格!F25>0,1,0),F25*AC$13*$Z25) -> 1 | AD25: =IF(ISBLANK(G25),IF(SWOT方格!G25>0,1,0),G25*AD$13*$Z25) -> 1 | AE25: =IF(ISBLANK(H25),IF(SWOT方格!H25>0,1,0),H25*AE$13*$Z25) -> 1 | AF25: =IF(ISBLANK(I25),IF(SWOT方格!I25>0,1,0),I25*AF$13*$Z25) -> 0 | AG25: =IF(ISBLANK(J25),IF(SWOT方格!J25>0,1,0),J25*AG$13*$Z25) -> 0 | AH25: =IF(ISBLANK(K25),IF(SWOT方格!K25>0,1,0),K25*AH$13*$Z25) -> 0 | ... AT25: =IF(ISBLANK(W25),IF(SWOT方格!W25>0,1,0),W25*AT$13*$Z25) -> 0
A26: ='1.設定項目名稱'!D4 -> W3 | B26: =IF(ISBLANK('1.設定項目名稱'!E4),"",'1.設定項目名稱'!E4) -> 圖書設備汰舊更新較慢 | Y26: =A26 -> W3 | Z26: =IF(ISBLANK(C26),1,C26) -> 1 | AA26: =IF(ISBLANK(D26),IF(SWOT方格!D26>0,1,0),D26*AA$13*$Z26) -> 1 | AB26: =IF(ISBLANK(E26),IF(SWOT方格!E26>0,1,0),E26*AB$13*$Z26) -> 1 | AC26: =IF(ISBLANK(F26),IF(SWOT方格!F26>0,1,0),F26*AC$13*$Z26) -> 1 | AD26: =IF(ISBLANK(G26),IF(SWOT方格!G26>0,1,0),G26*AD$13*$Z26) -> 1 | AE26: =IF(ISBLANK(H26),IF(SWOT方格!H26>0,1,0),H26*AE$13*$Z26) -> 1 | AF26: =IF(ISBLANK(I26),IF(SWOT方格!I26>0,1,0),I26*AF$13*$Z26) -> 0 | AG26: =IF(ISBLANK(J26),IF(SWOT方格!J26>0,1,0),J26*AG$13*$Z26) -> 0 | AH26: =IF(ISBLANK(K26),IF(SWOT方格!K26>0,1,0),K26*AH$13*$Z26) -> 0 | ... AT26: =IF(ISBLANK(W26),IF(SWOT方格!W26>0,1,0),W26*AT$13*$Z26) -> 0
A27: ='1.設定項目名稱'!D5 -> W4 | B27: =IF(ISBLANK('1.設定項目名稱'!E5),"",'1.設定項目名稱'!E5) -> 外語教學師資不足需向外招聘 | Y27: =A27 -> W4 | Z27: =IF(ISBLANK(C27),1,C27) -> 1 | AA27: =IF(ISBLANK(D27),IF(SWOT方格!D27>0,1,0),D27*AA$13*$Z27) -> 1 | AB27: =IF(ISBLANK(E27),IF(SWOT方格!E27>0,1,0),E27*AB$13*$Z27) -> 1 | AC27: =IF(ISBLANK(F27),IF(SWOT方格!F27>0,1,0),F27*AC$13*$Z27) -> 1 | AD27: =IF(ISBLANK(G27),IF(SWOT方格!G27>0,1,0),G27*AD$13*$Z27) -> 1 | AE27: =IF(ISBLANK(H27),IF(SWOT方格!H27>0,1,0),H27*AE$13*$Z27) -> 1 | AF27: =IF(ISBLANK(I27),IF(SWOT方格!I27>0,1,0),I27*AF$13*$Z27) -> 0 | AG27: =IF(ISBLANK(J27),IF(SWOT方格!J27>0,1,0),J27*AG$13*$Z27) -> 0 | AH27: =IF(ISBLANK(K27),IF(SWOT方格!K27>0,1,0),K27*AH$13*$Z27) -> 0 | ... AT27: =IF(ISBLANK(W27),IF(SWOT方格!W27>0,1,0),W27*AT$13*$Z27) -> 0
A28: ='1.設定項目名稱'!D6 -> W5 | B28: =IF(ISBLANK('1.設定項目名稱'!E6),"",'1.設定項目名稱'!E6) -> 科技課程教材相對他校顯得陳舊 | Y28: =A28 -> W5 | Z28: =IF(ISBLANK(C28),1,C28) -> 1 | AA28: =IF(ISBLANK(D28),IF(SWOT方格!D28>0,1,0),D28*AA$13*$Z28) -> 1 | AB28: =IF(ISBLANK(E28),IF(SWOT方格!E28>0,1,0),E28*AB$13*$Z28) -> 1 | AC28: =IF(ISBLANK(F28),IF(SWOT方格!F28>0,1,0),F28*AC$13*$Z28) -> 1 | AD28: =IF(ISBLANK(G28),IF(SWOT方格!G28>0,1,0),G28*AD$13*$Z28) -> 1 | AE28: =IF(ISBLANK(H28),IF(SWOT方格!H28>0,1,0),H28*AE$13*$Z28) -> 1 | AF28: =IF(ISBLANK(I28),IF(SWOT方格!I28>0,1,0),I28*AF$13*$Z28) -> 0 | AG28: =IF(ISBLANK(J28),IF(SWOT方格!J28>0,1,0),J28*AG$13*$Z28) -> 0 | AH28: =IF(ISBLANK(K28),IF(SWOT方格!K28>0,1,0),K28*AH$13*$Z28) -> 0 | ... AT28: =IF(ISBLANK(W28),IF(SWOT方格!W28>0,1,0),W28*AT$13*$Z28) -> 0
A29: ='1.設定項目名稱'!D7 -> W6 | B29: =IF(ISBLANK('1.設定項目名稱'!E7),"",'1.設定項目名稱'!E7) | Y29: =A29 -> W6 | Z29: =IF(ISBLANK(C29),1,C29) -> 1 | AA29: =IF(ISBLANK(D29),IF(SWOT方格!D29>0,1,0),D29*AA$13*$Z29) -> 0 | AB29: =IF(ISBLANK(E29),IF(SWOT方格!E29>0,1,0),E29*AB$13*$Z29) -> 0 | AC29: =IF(ISBLANK(F29),IF(SWOT方格!F29>0,1,0),F29*AC$13*$Z29) -> 0 | AD29: =IF(ISBLANK(G29),IF(SWOT方格!G29>0,1,0),G29*AD$13*$Z29) -> 0 | AE29: =IF(ISBLANK(H29),IF(SWOT方格!H29>0,1,0),H29*AE$13*$Z29) -> 0 | AF29: =IF(ISBLANK(I29),IF(SWOT方格!I29>0,1,0),I29*AF$13*$Z29) -> 0 | AG29: =IF(ISBLANK(J29),IF(SWOT方格!J29>0,1,0),J29*AG$13*$Z29) -> 0 | AH29: =IF(ISBLANK(K29),IF(SWOT方格!K29>0,1,0),K29*AH$13*$Z29) -> 0 | ... AT29: =IF(ISBLANK(W29),IF(SWOT方格!W29>0,1,0),W29*AT$13*$Z29) -> 0
A30: ='1.設定項目名稱'!D8 -> W7 | B30: =IF(ISBLANK('1.設定項目名稱'!E8),"",'1.設定項目名稱'!E8) | Y30: =A30 -> W7 | Z30: =IF(ISBLANK(C30),1,C30) -> 1 | AA30: =IF(ISBLANK(D30),IF(SWOT方格!D30>0,1,0),D30*AA$13*$Z30) -> 0 | AB30: =IF(ISBLANK(E30),IF(SWOT方格!E30>0,1,0),E30*AB$13*$Z30) -> 0 | AC30: =IF(ISBLANK(F30),IF(SWOT方格!F30>0,1,0),F30*AC$13*$Z30) -> 0 | AD30: =IF(ISBLANK(G30),IF(SWOT方格!G30>0,1,0),G30*AD$13*$Z30) -> 0 | AE30: =IF(ISBLANK(H30),IF(SWOT方格!H30>0,1,0),H30*AE$13*$Z30) -> 0 | AF30: =IF(ISBLANK(I30),IF(SWOT方格!I30>0,1,0),I30*AF$13*$Z30) -> 0 | AG30: =IF(ISBLANK(J30),IF(SWOT方格!J30>0,1,0),J30*AG$13*$Z30) -> 0 | AH30: =IF(ISBLANK(K30),IF(SWOT方格!K30>0,1,0),K30*AH$13*$Z30) -> 0 | ... AT30: =IF(ISBLANK(W30),IF(SWOT方格!W30>0,1,0),W30*AT$13*$Z30) -> 0
A31: ='1.設定項目名稱'!D9 -> W8 | B31: =IF(ISBLANK('1.設定項目名稱'!E9),"",'1.設定項目名稱'!E9) | Y31: =A31 -> W8 | Z31: =IF(ISBLANK(C31),1,C31) -> 1 | AA31: =IF(ISBLANK(D31),IF(SWOT方格!D31>0,1,0),D31*AA$13*$Z31) -> 0 | AB31: =IF(ISBLANK(E31),IF(SWOT方格!E31>0,1,0),E31*AB$13*$Z31) -> 0 | AC31: =IF(ISBLANK(F31),IF(SWOT方格!F31>0,1,0),F31*AC$13*$Z31) -> 0 | AD31: =IF(ISBLANK(G31),IF(SWOT方格!G31>0,1,0),G31*AD$13*$Z31) -> 0 | AE31: =IF(ISBLANK(H31),IF(SWOT方格!H31>0,1,0),H31*AE$13*$Z31) -> 0 | AF31: =IF(ISBLANK(I31),IF(SWOT方格!I31>0,1,0),I31*AF$13*$Z31) -> 0 | AG31: =IF(ISBLANK(J31),IF(SWOT方格!J31>0,1,0),J31*AG$13*$Z31) -> 0 | AH31: =IF(ISBLANK(K31),IF(SWOT方格!K31>0,1,0),K31*AH$13*$Z31) -> 0 | ... AT31: =IF(ISBLANK(W31),IF(SWOT方格!W31>0,1,0),W31*AT$13*$Z31) -> 0
A32: ='1.設定項目名稱'!D10 -> W9 | B32: =IF(ISBLANK('1.設定項目名稱'!E10),"",'1.設定項目名稱'!E10) | Y32: =A32 -> W9 | Z32: =IF(ISBLANK(C32),1,C32) -> 1 | AA32: =IF(ISBLANK(D32),IF(SWOT方格!D32>0,1,0),D32*AA$13*$Z32) -> 0 | AB32: =IF(ISBLANK(E32),IF(SWOT方格!E32>0,1,0),E32*AB$13*$Z32) -> 0 | AC32: =IF(ISBLANK(F32),IF(SWOT方格!F32>0,1,0),F32*AC$13*$Z32) -> 0 | AD32: =IF(ISBLANK(G32),IF(SWOT方格!G32>0,1,0),G32*AD$13*$Z32) -> 0 | AE32: =IF(ISBLANK(H32),IF(SWOT方格!H32>0,1,0),H32*AE$13*$Z32) -> 0 | AF32: =IF(ISBLANK(I32),IF(SWOT方格!I32>0,1,0),I32*AF$13*$Z32) -> 0 | AG32: =IF(ISBLANK(J32),IF(SWOT方格!J32>0,1,0),J32*AG$13*$Z32) -> 0 | AH32: =IF(ISBLANK(K32),IF(SWOT方格!K32>0,1,0),K32*AH$13*$Z32) -> 0 | ... AT32: =IF(ISBLANK(W32),IF(SWOT方格!W32>0,1,0),W32*AT$13*$Z32) -> 0
A33: ='1.設定項目名稱'!D11 -> W10 | B33: =IF(ISBLANK('1.設定項目名稱'!E11),"",'1.設定項目名稱'!E11) | Y33: =A33 -> W10 | Z33: =IF(ISBLANK(C33),1,C33) -> 1 | AA33: =IF(ISBLANK(D33),IF(SWOT方格!D33>0,1,0),D33*AA$13*$Z33) -> 0 | AB33: =IF(ISBLANK(E33),IF(SWOT方格!E33>0,1,0),E33*AB$13*$Z33) -> 0 | AC33: =IF(ISBLANK(F33),IF(SWOT方格!F33>0,1,0),F33*AC$13*$Z33) -> 0 | AD33: =IF(ISBLANK(G33),IF(SWOT方格!G33>0,1,0),G33*AD$13*$Z33) -> 0 | AE33: =IF(ISBLANK(H33),IF(SWOT方格!H33>0,1,0),H33*AE$13*$Z33) -> 0 | AF33: =IF(ISBLANK(I33),IF(SWOT方格!I33>0,1,0),I33*AF$13*$Z33) -> 0 | AG33: =IF(ISBLANK(J33),IF(SWOT方格!J33>0,1,0),J33*AG$13*$Z33) -> 0 | AH33: =IF(ISBLANK(K33),IF(SWOT方格!K33>0,1,0),K33*AH$13*$Z33) -> 0 | ... AT33: =IF(ISBLANK(W33),IF(SWOT方格!W33>0,1,0),W33*AT$13*$Z33) -> 0

Sheet 3.SWOT方格調整
E1: =SWOT方格!E1 -> 項目 | O1: =SWOT方格!O1 -> 項目
D2: =SWOT方格!D2 -> O1 | E2: =SWOT方格!E2 -> 教育局積極補助學校設備更新供專案申請 | M2: =SWOT方格!M2 -> 0 | N2: =SWOT方格!N2 -> T1 | O2: =SWOT方格!O2 -> 社區學齡入學兒童數逐年降低增加招生難度
D3: =SWOT方格!D3 -> O2 | E3: =SWOT方格!E3 -> 民間團體培育外語師資尋求合作意願高 | M3: =SWOT方格!M3 -> 0 | N3: =SWOT方格!N3 -> T2 | O3: =SWOT方格!O3 -> 他校轉型實驗學校吸引本校生轉學就讀形成競爭
D4: =SWOT方格!D4 -> O3 | E4: =SWOT方格!E4 -> 大型商場和大企業機構進駐社區吸引建商推出新建案 | M4: =SWOT方格!M4 -> 0 | N4: =SWOT方格!N4 -> T3 | O4: =SWOT方格!O4 -> 家長關心外語學習促成學生參加課後外語補習人數漸增
D5: =SWOT方格!D5 -> O4 | E5: =SWOT方格!E5 -> 教育局推動優秀退休教師參與學校教學協助方案 | M5: =SWOT方格!M5 -> 0 | N5: =SWOT方格!N5 -> T4 | O5: =SWOT方格!O5 -> 民間教育團體培育優秀師資不合現行政策規定無法聘用
D6: =SWOT方格!D6 -> O5 | E6: =SWOT方格!E6 -> 民間文教演藝團體提供免費巡迴服務 | M6: =SWOT方格!M6 -> 0 | N6: =SWOT方格!N6 -> T5 | O6: =SWOT方格!O6
D7: =SWOT方格!D7 -> O6 | E7: =SWOT方格!E7 | M7: =SWOT方格!M7 -> 0 | N7: =SWOT方格!N7 -> T6 | O7: =SWOT方格!O7
D8: =SWOT方格!D8 -> O7 | E8: =SWOT方格!E8 | M8: =SWOT方格!M8 -> 0 | N8: =SWOT方格!N8 -> T7 | O8: =SWOT方格!O8
D9: =SWOT方格!D9 -> O8 | E9: =SWOT方格!E9 | M9: =SWOT方格!M9 -> 0 | N9: =SWOT方格!N9 -> T8 | O9: =SWOT方格!O9
D10: =SWOT方格!D10 -> O9 | E10: =SWOT方格!E10 | M10: =SWOT方格!M10 -> 0 | N10: =SWOT方格!N10 -> T9 | O10: =SWOT方格!O10
D11: =SWOT方格!D11 -> O10 | E11: =SWOT方格!E11 | M11: =SWOT方格!M11 -> 0 | N11: =SWOT方格!N11 -> T10 | O11: =SWOT方格!O11
D12: =SWOT方格!D12 -> O1 | E12: =SWOT方格!E12 -> O2 | F12: =SWOT方格!F12 -> O3 | G12: =SWOT方格!G12 -> O4 | H12: =SWOT方格!H12 -> O5 | I12: =SWOT方格!I12 -> O6 | J12: =SWOT方格!J12 -> O7 | K12: =SWOT方格!K12 -> O8 | ... W12: =SWOT方格!W12 -> T10
B13: =SWOT方格!B13 -> 項目 | C13: =SWOT方格!C13 -> 權重 | D13: =IF(SWOT方格!D13=0,"",SWOT方格!D13) -> 6.5 | E13: =IF(SWOT方格!E13=0,"",SWOT方格!E13) -> 2.5 | F13: =IF(SWOT方格!F13=0,"",SWOT方格!F13) -> 4.5 | G13: =IF(SWOT方格!G13=0,"",SWOT方格!G13) -> 5.5 | H13: =IF(SWOT方格!H13=0,"",SWOT方格!H13) -> 2 | I13: =IF(SWOT方格!I13=0,"",SWOT方格!I13) | J13: =IF(SWOT方格!J13=0,"",SWOT方格!J13) | K13: =IF(SWOT方格!K13=0,"",SWOT方格!K13) | ... W13: =IF(SWOT方格!W13=0,"",SWOT方格!W13)
A14: =SWOT方格!A14 -> S1 | B14: =SWOT方格!B14 -> 專任教師學歷高且專業力強 | C14: =IF(SWOT方格!C14=0,"",SWOT方格!C14) -> 4.5 | D14: =IF(SWOT方格!D14=0,"",SWOT方格!D14*設定交互項目!AA14) -> 29.25 | E14: =IF(SWOT方格!E14=0,"",SWOT方格!E14*設定交互項目!AB14) -> 11.25 | F14: =IF(SWOT方格!F14=0,"",SWOT方格!F14*設定交互項目!AC14) -> 20.25 | G14: =IF(SWOT方格!G14=0,"",SWOT方格!G14*設定交互項目!AD14) -> 24.75 | H14: =IF(SWOT方格!H14=0,"",SWOT方格!H14*設定交互項目!AE14) -> 9 | I14: =IF(SWOT方格!I14=0,"",SWOT方格!I14*設定交互項目!AF14) | J14: =IF(SWOT方格!J14=0,"",SWOT方格!J14*設定交互項目!AG14) | K14: =IF(SWOT方格!K14=0,"",SWOT方格!K14*設定交互項目!AH14) | ... W14: =IF(SWOT方格!W14=0,"",SWOT方格!W14*設定交互項目!AT14)
A15: =SWOT方格!A15 -> S2 | B15: =SWOT方格!B15 -> 教師高度樂業願意積極參與校務 | C15: =IF(SWOT方格!C15=0,"",SWOT方格!C15) -> 5 | D15: =IF(SWOT方格!D15=0,"",SWOT方格!D15*設定交互項目!AA15) -> 32.5 | E15: =IF(SWOT方格!E15=0,"",SWOT方格!E15*設定交互項目!AB15) -> 12.5 | F15: =IF(SWOT方格!F15=0,"",SWOT方格!F15*設定交互項目!AC15) -> 22.5 | G15: =IF(SWOT方格!G15=0,"",SWOT方格!G15*設定交互項目!AD15) -> 27.5 | H15: =IF(SWOT方格!H15=0,"",SWOT方格!H15*設定交互項目!AE15) -> 10 | I15: =IF(SWOT方格!I15=0,"",SWOT方格!I15*設定交互項目!AF15) | J15: =IF(SWOT方格!J15=0,"",SWOT方格!J15*設定交互項目!AG15) | K15: =IF(SWOT方格!K15=0,"",SWOT方格!K15*設定交互項目!AH15) | ... W15: =IF(SWOT方格!W15=0,"",SWOT方格!W15*設定交互項目!AT15)
A16: =SWOT方格!A16 -> S3 | B16: =SWOT方格!B16 -> 學校設備資源豐富滿足教學 | C16: =IF(SWOT方格!C16=0,"",SWOT方格!C16) -> 3 | D16: =IF(SWOT方格!D16=0,"",SWOT方格!D16*設定交互項目!AA16) -> 19.5 | E16: =IF(SWOT方格!E16=0,"",SWOT方格!E16*設定交互項目!AB16) -> 7.5 | F16: =IF(SWOT方格!F16=0,"",SWOT方格!F16*設定交互項目!AC16) -> 13.5 | G16: =IF(SWOT方格!G16=0,"",SWOT方格!G16*設定交互項目!AD16) -> 16.5 | H16: =IF(SWOT方格!H16=0,"",SWOT方格!H16*設定交互項目!AE16) -> 6 | I16: =IF(SWOT方格!I16=0,"",SWOT方格!I16*設定交互項目!AF16) | J16: =IF(SWOT方格!J16=0,"",SWOT方格!J16*設定交互項目!AG16) | K16: =IF(SWOT方格!K16=0,"",SWOT方格!K16*設定交互項目!AH16) | ... W16: =IF(SWOT方格!W16=0,"",SWOT方格!W16*設定交互項目!AT16)
A17: =SWOT方格!A17 -> S4 | B17: =SWOT方格!B17 -> 家長和社區關心和樂意協助學校 | C17: =IF(SWOT方格!C17=0,"",SWOT方格!C17) -> 5.5 | D17: =IF(SWOT方格!D17=0,"",SWOT方格!D17*設定交互項目!AA17) -> 35.75 | E17: =IF(SWOT方格!E17=0,"",SWOT方格!E17*設定交互項目!AB17) -> 13.75 | F17: =IF(SWOT方格!F17=0,"",SWOT方格!F17*設定交互項目!AC17) -> 24.75 | G17: =IF(SWOT方格!G17=0,"",SWOT方格!G17*設定交互項目!AD17) -> 30.25 | H17: =IF(SWOT方格!H17=0,"",SWOT方格!H17*設定交互項目!AE17) -> 11 | I17: =IF(SWOT方格!I17=0,"",SWOT方格!I17*設定交互項目!AF17) | J17: =IF(SWOT方格!J17=0,"",SWOT方格!J17*設定交互項目!AG17) | K17: =IF(SWOT方格!K17=0,"",SWOT方格!K17*設定交互項目!AH17) | ... W17: =IF(SWOT方格!W17=0,"",SWOT方格!W17*設定交互項目!AT17)
A18: =SWOT方格!A18 -> S5 | B18: =SWOT方格!B18 -> 學校特色教學團隊強且成果多 | C18: =IF(SWOT方格!C18=0,"",SWOT方格!C18) -> 5 | D18: =IF(SWOT方格!D18=0,"",SWOT方格!D18*設定交互項目!AA18) -> 32.5 | E18: =IF(SWOT方格!E18=0,"",SWOT方格!E18*設定交互項目!AB18) -> 12.5 | F18: =IF(SWOT方格!F18=0,"",SWOT方格!F18*設定交互項目!AC18) -> 22.5 | G18: =IF(SWOT方格!G18=0,"",SWOT方格!G18*設定交互項目!AD18) -> 27.5 | H18: =IF(SWOT方格!H18=0,"",SWOT方格!H18*設定交互項目!AE18) -> 10 | I18: =IF(SWOT方格!I18=0,"",SWOT方格!I18*設定交互項目!AF18) | J18: =IF(SWOT方格!J18=0,"",SWOT方格!J18*設定交互項目!AG18) | K18: =IF(SWOT方格!K18=0,"",SWOT方格!K18*設定交互項目!AH18) | ... W18: =IF(SWOT方格!W18=0,"",SWOT方格!W18*設定交互項目!AT18)
A19: =SWOT方格!A19 -> S6 | B19: =SWOT方格!B19 | C19: =IF(SWOT方格!C19=0,"",SWOT方格!C19) | D19: =IF(SWOT方格!D19=0,"",SWOT方格!D19*設定交互項目!AA19) | E19: =IF(SWOT方格!E19=0,"",SWOT方格!E19*設定交互項目!AB19) | F19: =IF(SWOT方格!F19=0,"",SWOT方格!F19*設定交互項目!AC19) | G19: =IF(SWOT方格!G19=0,"",SWOT方格!G19*設定交互項目!AD19) | H19: =IF(SWOT方格!H19=0,"",SWOT方格!H19*設定交互項目!AE19) | I19: =IF(SWOT方格!I19=0,"",SWOT方格!I19*設定交互項目!AF19) | J19: =IF(SWOT方格!J19=0,"",SWOT方格!J19*設定交互項目!AG19) | K19: =IF(SWOT方格!K19=0,"",SWOT方格!K19*設定交互項目!AH19) | ... W19: =IF(SWOT方格!W19=0,"",SWOT方格!W19*設定交互項目!AT19)
A20: =SWOT方格!A20 -> S7 | B20: =SWOT方格!B20 | C20: =IF(SWOT方格!C20=0,"",SWOT方格!C20) | D20: =IF(SWOT方格!D20=0,"",SWOT方格!D20*設定交互項目!AA20) | E20: =IF(SWOT方格!E20=0,"",SWOT方格!E20*設定交互項目!AB20) | F20: =IF(SWOT方格!F20=0,"",SWOT方格!F20*設定交互項目!AC20) | G20: =IF(SWOT方格!G20=0,"",SWOT方格!G20*設定交互項目!AD20) | H20: =IF(SWOT方格!H20=0,"",SWOT方格!H20*設定交互項目!AE20) | I20: =IF(SWOT方格!I20=0,"",SWOT方格!I20*設定交互項目!AF20) | J20: =IF(SWOT方格!J20=0,"",SWOT方格!J20*設定交互項目!AG20) | K20: =IF(SWOT方格!K20=0,"",SWOT方格!K20*設定交互項目!AH20) | ... W20: =IF(SWOT方格!W20=0,"",SWOT方格!W20*設定交互項目!AT20)
A21: =SWOT方格!A21 -> S8 | B21: =SWOT方格!B21 | C21: =IF(SWOT方格!C21=0,"",SWOT方格!C21) | D21: =IF(SWOT方格!D21=0,"",SWOT方格!D21*設定交互項目!AA21) | E21: =IF(SWOT方格!E21=0,"",SWOT方格!E21*設定交互項目!AB21) | F21: =IF(SWOT方格!F21=0,"",SWOT方格!F21*設定交互項目!AC21) | G21: =IF(SWOT方格!G21=0,"",SWOT方格!G21*設定交互項目!AD21) | H21: =IF(SWOT方格!H21=0,"",SWOT方格!H21*設定交互項目!AE21) | I21: =IF(SWOT方格!I21=0,"",SWOT方格!I21*設定交互項目!AF21) | J21: =IF(SWOT方格!J21=0,"",SWOT方格!J21*設定交互項目!AG21) | K21: =IF(SWOT方格!K21=0,"",SWOT方格!K21*設定交互項目!AH21) | ... W21: =IF(SWOT方格!W21=0,"",SWOT方格!W21*設定交互項目!AT21)
A22: =SWOT方格!A22 -> S9 | B22: =SWOT方格!B22 | C22: =IF(SWOT方格!C22=0,"",SWOT方格!C22) | D22: =IF(SWOT方格!D22=0,"",SWOT方格!D22*設定交互項目!AA22) | E22: =IF(SWOT方格!E22=0,"",SWOT方格!E22*設定交互項目!AB22) | F22: =IF(SWOT方格!F22=0,"",SWOT方格!F22*設定交互項目!AC22) | G22: =IF(SWOT方格!G22=0,"",SWOT方格!G22*設定交互項目!AD22) | H22: =IF(SWOT方格!H22=0,"",SWOT方格!H22*設定交互項目!AE22) | I22: =IF(SWOT方格!I22=0,"",SWOT方格!I22*設定交互項目!AF22) | J22: =IF(SWOT方格!J22=0,"",SWOT方格!J22*設定交互項目!AG22) | K22: =IF(SWOT方格!K22=0,"",SWOT方格!K22*設定交互項目!AH22) | ... W22: =IF(SWOT方格!W22=0,"",SWOT方格!W22*設定交互項目!AT22)
A23: =SWOT方格!A23 -> S10 | B23: =SWOT方格!B23 | C23: =IF(SWOT方格!C23=0,"",SWOT方格!C23) | D23: =IF(SWOT方格!D23=0,"",SWOT方格!D23*設定交互項目!AA23) | E23: =IF(SWOT方格!E23=0,"",SWOT方格!E23*設定交互項目!AB23) | F23: =IF(SWOT方格!F23=0,"",SWOT方格!F23*設定交互項目!AC23) | G23: =IF(SWOT方格!G23=0,"",SWOT方格!G23*設定交互項目!AD23) | H23: =IF(SWOT方格!H23=0,"",SWOT方格!H23*設定交互項目!AE23) | I23: =IF(SWOT方格!I23=0,"",SWOT方格!I23*設定交互項目!AF23) | J23: =IF(SWOT方格!J23=0,"",SWOT方格!J23*設定交互項目!AG23) | K23: =IF(SWOT方格!K23=0,"",SWOT方格!K23*設定交互項目!AH23) | ... W23: =IF(SWOT方格!W23=0,"",SWOT方格!W23*設定交互項目!AT23)
A24: =SWOT方格!A24 -> W1 | B24: =SWOT方格!B24 -> 教師年齡偏高多數屆臨退休 | C24: =IF(SWOT方格!C24=0,"",SWOT方格!C24) -> 3 | D24: =IF(SWOT方格!D24=0,"",SWOT方格!D24*設定交互項目!AA24) -> 19.5 | E24: =IF(SWOT方格!E24=0,"",SWOT方格!E24*設定交互項目!AB24) -> 7.5 | F24: =IF(SWOT方格!F24=0,"",SWOT方格!F24*設定交互項目!AC24) -> 13.5 | G24: =IF(SWOT方格!G24=0,"",SWOT方格!G24*設定交互項目!AD24) -> 16.5 | H24: =IF(SWOT方格!H24=0,"",SWOT方格!H24*設定交互項目!AE24) -> 6 | I24: =IF(SWOT方格!I24=0,"",SWOT方格!I24*設定交互項目!AF24) | J24: =IF(SWOT方格!J24=0,"",SWOT方格!J24*設定交互項目!AG24) | K24: =IF(SWOT方格!K24=0,"",SWOT方格!K24*設定交互項目!AH24) | ... W24: =IF(SWOT方格!W24=0,"",SWOT方格!W24*設定交互項目!AT24)
A25: =SWOT方格!A25 -> W2 | B25: =SWOT方格!B25 -> 經濟不利條件學生偏多需要協助 | C25: =IF(SWOT方格!C25=0,"",SWOT方格!C25) -> 3.5 | D25: =IF(SWOT方格!D25=0,"",SWOT方格!D25*設定交互項目!AA25) -> 22.75 | E25: =IF(SWOT方格!E25=0,"",SWOT方格!E25*設定交互項目!AB25) -> 8.75 | F25: =IF(SWOT方格!F25=0,"",SWOT方格!F25*設定交互項目!AC25) -> 15.75 | G25: =IF(SWOT方格!G25=0,"",SWOT方格!G25*設定交互項目!AD25) -> 19.25 | H25: =IF(SWOT方格!H25=0,"",SWOT方格!H25*設定交互項目!AE25) -> 7 | I25: =IF(SWOT方格!I25=0,"",SWOT方格!I25*設定交互項目!AF25) | J25: =IF(SWOT方格!J25=0,"",SWOT方格!J25*設定交互項目!AG25) | K25: =IF(SWOT方格!K25=0,"",SWOT方格!K25*設定交互項目!AH25) | ... W25: =IF(SWOT方格!W25=0,"",SWOT方格!W25*設定交互項目!AT25)
... A33: =SWOT方格!A33 -> W10 | B33: =SWOT方格!B33 | C33: =IF(SWOT方格!C33=0,"",SWOT方格!C33) | D33: =IF(SWOT方格!D33=0,"",SWOT方格!D33*設定交互項目!AA33) | E33: =IF(SWOT方格!E33=0,"",SWOT方格!E33*設定交互項目!AB33) | F33: =IF(SWOT方格!F33=0,"",SWOT方格!F33*設定交互項目!AC33) | G33: =IF(SWOT方格!G33=0,"",SWOT方格!G33*設定交互項目!AD33) | H33: =IF(SWOT方格!H33=0,"",SWOT方格!H33*設定交互項目!AE33) | I33: =IF(SWOT方格!I33=0,"",SWOT方格!I33*設定交互項目!AF33) | J33: =IF(SWOT方格!J33=0,"",SWOT方格!J33*設定交互項目!AG33) | K33: =IF(SWOT方格!K33=0,"",SWOT方格!K33*設定交互項目!AH33) | ... W33: =IF(SWOT方格!W33=0,"",SWOT方格!W33*設定交互項目!AT33)

Sheet 4.校正SWOT方格
E1: =SWOT方格!E1 -> 項目 | O1: =SWOT方格!O1 -> 項目
D2: =SWOT方格!D2 -> O1 | E2: =SWOT方格!E2 -> 教育局積極補助學校設備更新供專案申請 | M2: =SWOT方格!M2 -> 0 | N2: =SWOT方格!N2 -> T1 | O2: =SWOT方格!O2 -> 社區學齡入學兒童數逐年降低增加招生難度
D3: =SWOT方格!D3 -> O2 | E3: =SWOT方格!E3 -> 民間團體培育外語師資尋求合作意願高 | M3: =SWOT方格!M3 -> 0 | N3: =SWOT方格!N3 -> T2 | O3: =SWOT方格!O3 -> 他校轉型實驗學校吸引本校生轉學就讀形成競爭
D4: =SWOT方格!D4 -> O3 | E4: =SWOT方格!E4 -> 大型商場和大企業機構進駐社區吸引建商推出新建案 | M4: =SWOT方格!M4 -> 0 | N4: =SWOT方格!N4 -> T3 | O4: =SWOT方格!O4 -> 家長關心外語學習促成學生參加課後外語補習人數漸增
D5: =SWOT方格!D5 -> O4 | E5: =SWOT方格!E5 -> 教育局推動優秀退休教師參與學校教學協助方案 | M5: =SWOT方格!M5 -> 0 | N5: =SWOT方格!N5 -> T4 | O5: =SWOT方格!O5 -> 民間教育團體培育優秀師資不合現行政策規定無法聘用
D6: =SWOT方格!D6 -> O5 | E6: =SWOT方格!E6 -> 民間文教演藝團體提供免費巡迴服務 | M6: =SWOT方格!M6 -> 0 | N6: =SWOT方格!N6 -> T5 | O6: =SWOT方格!O6
D7: =SWOT方格!D7 -> O6 | E7: =SWOT方格!E7 | M7: =SWOT方格!M7 -> 0 | N7: =SWOT方格!N7 -> T6 | O7: =SWOT方格!O7
D8: =SWOT方格!D8 -> O7 | E8: =SWOT方格!E8 | M8: =SWOT方格!M8 -> 0 | N8: =SWOT方格!N8 -> T7 | O8: =SWOT方格!O8
D9: =SWOT方格!D9 -> O8 | E9: =SWOT方格!E9 | M9: =SWOT方格!M9 -> 0 | N9: =SWOT方格!N9 -> T8 | O9: =SWOT方格!O9
D10: =SWOT方格!D10 -> O9 | E10: =SWOT方格!E10 | M10: =SWOT方格!M10 -> 0 | N10: =SWOT方格!N10 -> T9 | O10: =SWOT方格!O10
D11: =SWOT方格!D11 -> O10 | E11: =SWOT方格!E11 | M11: =SWOT方格!M11 -> 0 | N11: =SWOT方格!N11 -> T10 | O11: =SWOT方格!O11
D12: =SWOT方格!D12 -> O1 | E12: =SWOT方格!E12 -> O2 | F12: =SWOT方格!F12 -> O3 | G12: =SWOT方格!G12 -> O4 | H12: =SWOT方格!H12 -> O5 | I12: =SWOT方格!I12 -> O6 | J12: =SWOT方格!J12 -> O7 | K12: =SWOT方格!K12 -> O8 | ... W12: =SWOT方格!W12 -> T10
B13: =SWOT方格!B13 -> 項目 | C13: =SWOT方格!C13 -> 權重 | D13: =IF(SWOT方格!D13=0,"",SWOT方格!D13) -> 6.5 | E13: =IF(SWOT方格!E13=0,"",SWOT方格!E13) -> 2.5 | F13: =IF(SWOT方格!F13=0,"",SWOT方格!F13) -> 4.5 | G13: =IF(SWOT方格!G13=0,"",SWOT方格!G13) -> 5.5 | H13: =IF(SWOT方格!H13=0,"",SWOT方格!H13) -> 2 | I13: =IF(SWOT方格!I13=0,"",SWOT方格!I13) | J13: =IF(SWOT方格!J13=0,"",SWOT方格!J13) | K13: =IF(SWOT方格!K13=0,"",SWOT方格!K13) | ... W13: =IF(SWOT方格!W13=0,"",SWOT方格!W13)
A14: =SWOT方格!A14 -> S1 | B14: =SWOT方格!B14 -> 專任教師學歷高且專業力強 | C14: =IF(SWOT方格!C14=0,"",SWOT方格!C14) -> 4.5 | D14: =IF('3.SWOT方格調整'!D14="","",SQRT('3.SWOT方格調整'!D14)) -> 5.4083269 | E14: =IF('3.SWOT方格調整'!E14="","",SQRT('3.SWOT方格調整'!E14)) -> 3.354102 | F14: =IF('3.SWOT方格調整'!F14="","",SQRT('3.SWOT方格調整'!F14)) -> 4.5 | G14: =IF('3.SWOT方格調整'!G14="","",SQRT('3.SWOT方格調整'!G14)) -> 4.9749372 | H14: =IF('3.SWOT方格調整'!H14="","",SQRT('3.SWOT方格調整'!H14)) -> 3 | I14: =IF('3.SWOT方格調整'!I14="","",SQRT('3.SWOT方格調整'!I14)) | J14: =IF('3.SWOT方格調整'!J14="","",SQRT('3.SWOT方格調整'!J14)) | K14: =IF('3.SWOT方格調整'!K14="","",SQRT('3.SWOT方格調整'!K14)) | ... W14: =IF('3.SWOT方格調整'!W14="","",SQRT('3.SWOT方格調整'!W14))
A15: =SWOT方格!A15 -> S2 | B15: =SWOT方格!B15 -> 教師高度樂業願意積極參與校務 | C15: =IF(SWOT方格!C15=0,"",SWOT方格!C15) -> 5 | D15: =IF('3.SWOT方格調整'!D15="","",SQRT('3.SWOT方格調整'!D15)) -> 5.7008771 | E15: =IF('3.SWOT方格調整'!E15="","",SQRT('3.SWOT方格調整'!E15)) -> 3.5355339 | F15: =IF('3.SWOT方格調整'!F15="","",SQRT('3.SWOT方格調整'!F15)) -> 4.7434165 | G15: =IF('3.SWOT方格調整'!G15="","",SQRT('3.SWOT方格調整'!G15)) -> 5.2440442 | H15: =IF('3.SWOT方格調整'!H15="","",SQRT('3.SWOT方格調整'!H15)) -> 3.1622777 | I15: =IF('3.SWOT方格調整'!I15="","",SQRT('3.SWOT方格調整'!I15)) | J15: =IF('3.SWOT方格調整'!J15="","",SQRT('3.SWOT方格調整'!J15)) | K15: =IF('3.SWOT方格調整'!K15="","",SQRT('3.SWOT方格調整'!K15)) | ... W15: =IF('3.SWOT方格調整'!W15="","",SQRT('3.SWOT方格調整'!W15))
A16: =SWOT方格!A16 -> S3 | B16: =SWOT方格!B16 -> 學校設備資源豐富滿足教學 | C16: =IF(SWOT方格!C16=0,"",SWOT方格!C16) -> 3 | D16: =IF('3.SWOT方格調整'!D16="","",SQRT('3.SWOT方格調整'!D16)) -> 4.4158804 | E16: =IF('3.SWOT方格調整'!E16="","",SQRT('3.SWOT方格調整'!E16)) -> 2.7386128 | F16: =IF('3.SWOT方格調整'!F16="","",SQRT('3.SWOT方格調整'!F16)) -> 3.6742346 | G16: =IF('3.SWOT方格調整'!G16="","",SQRT('3.SWOT方格調整'!G16)) -> 4.0620192 | H16: =IF('3.SWOT方格調整'!H16="","",SQRT('3.SWOT方格調整'!H16)) -> 2.4494897 | I16: =IF('3.SWOT方格調整'!I16="","",SQRT('3.SWOT方格調整'!I16)) | J16: =IF('3.SWOT方格調整'!J16="","",SQRT('3.SWOT方格調整'!J16)) | K16: =IF('3.SWOT方格調整'!K16="","",SQRT('3.SWOT方格調整'!K16)) | ... W16: =IF('3.SWOT方格調整'!W16="","",SQRT('3.SWOT方格調整'!W16))
A17: =SWOT方格!A17 -> S4 | B17: =SWOT方格!B17 -> 家長和社區關心和樂意協助學校 | C17: =IF(SWOT方格!C17=0,"",SWOT方格!C17) -> 5.5 | D17: =IF('3.SWOT方格調整'!D17="","",SQRT('3.SWOT方格調整'!D17)) -> 5.9791304 | E17: =IF('3.SWOT方格調整'!E17="","",SQRT('3.SWOT方格調整'!E17)) -> 3.7080992 | F17: =IF('3.SWOT方格調整'!F17="","",SQRT('3.SWOT方格調整'!F17)) -> 4.9749372 | G17: =IF('3.SWOT方格調整'!G17="","",SQRT('3.SWOT方格調整'!G17)) -> 5.5 | H17: =IF('3.SWOT方格調整'!H17="","",SQRT('3.SWOT方格調整'!H17)) -> 3.3166248 | I17: =IF('3.SWOT方格調整'!I17="","",SQRT('3.SWOT方格調整'!I17)) | J17: =IF('3.SWOT方格調整'!J17="","",SQRT('3.SWOT方格調整'!J17)) | K17: =IF('3.SWOT方格調整'!K17="","",SQRT('3.SWOT方格調整'!K17)) | ... W17: =IF('3.SWOT方格調整'!W17="","",SQRT('3.SWOT方格調整'!W17))
A18: =SWOT方格!A18 -> S5 | B18: =SWOT方格!B18 -> 學校特色教學團隊強且成果多 | C18: =IF(SWOT方格!C18=0,"",SWOT方格!C18) -> 5 | D18: =IF('3.SWOT方格調整'!D18="","",SQRT('3.SWOT方格調整'!D18)) -> 5.7008771 | E18: =IF('3.SWOT方格調整'!E18="","",SQRT('3.SWOT方格調整'!E18)) -> 3.5355339 | F18: =IF('3.SWOT方格調整'!F18="","",SQRT('3.SWOT方格調整'!F18)) -> 4.7434165 | G18: =IF('3.SWOT方格調整'!G18="","",SQRT('3.SWOT方格調整'!G18)) -> 5.2440442 | H18: =IF('3.SWOT方格調整'!H18="","",SQRT('3.SWOT方格調整'!H18)) -> 3.1622777 | I18: =IF('3.SWOT方格調整'!I18="","",SQRT('3.SWOT方格調整'!I18)) | J18: =IF('3.SWOT方格調整'!J18="","",SQRT('3.SWOT方格調整'!J18)) | K18: =IF('3.SWOT方格調整'!K18="","",SQRT('3.SWOT方格調整'!K18)) | ... W18: =IF('3.SWOT方格調整'!W18="","",SQRT('3.SWOT方格調整'!W18))
A19: =SWOT方格!A19 -> S6 | B19: =SWOT方格!B19 | C19: =IF(SWOT方格!C19=0,"",SWOT方格!C19) | D19: =IF('3.SWOT方格調整'!D19="","",SQRT('3.SWOT方格調整'!D19)) | E19: =IF('3.SWOT方格調整'!E19="","",SQRT('3.SWOT方格調整'!E19)) | F19: =IF('3.SWOT方格調整'!F19="","",SQRT('3.SWOT方格調整'!F19)) | G19: =IF('3.SWOT方格調整'!G19="","",SQRT('3.SWOT方格調整'!G19)) | H19: =IF('3.SWOT方格調整'!H19="","",SQRT('3.SWOT方格調整'!H19)) | I19: =IF('3.SWOT方格調整'!I19="","",SQRT('3.SWOT方格調整'!I19)) | J19: =IF('3.SWOT方格調整'!J19="","",SQRT('3.SWOT方格調整'!J19)) | K19: =IF('3.SWOT方格調整'!K19="","",SQRT('3.SWOT方格調整'!K19)) | ... W19: =IF('3.SWOT方格調整'!W19="","",SQRT('3.SWOT方格調整'!W19))
A20: =SWOT方格!A20 -> S7 | B20: =SWOT方格!B20 | C20: =IF(SWOT方格!C20=0,"",SWOT方格!C20) | D20: =IF('3.SWOT方格調整'!D20="","",SQRT('3.SWOT方格調整'!D20)) | E20: =IF('3.SWOT方格調整'!E20="","",SQRT('3.SWOT方格調整'!E20)) | F20: =IF('3.SWOT方格調整'!F20="","",SQRT('3.SWOT方格調整'!F20)) | G20: =IF('3.SWOT方格調整'!G20="","",SQRT('3.SWOT方格調整'!G20)) | H20: =IF('3.SWOT方格調整'!H20="","",SQRT('3.SWOT方格調整'!H20)) | I20: =IF('3.SWOT方格調整'!I20="","",SQRT('3.SWOT方格調整'!I20)) | J20: =IF('3.SWOT方格調整'!J20="","",SQRT('3.SWOT方格調整'!J20)) | K20: =IF('3.SWOT方格調整'!K20="","",SQRT('3.SWOT方格調整'!K20)) | ... W20: =IF('3.SWOT方格調整'!W20="","",SQRT('3.SWOT方格調整'!W20))
A21: =SWOT方格!A21 -> S8 | B21: =SWOT方格!B21 | C21: =IF(SWOT方格!C21=0,"",SWOT方格!C21) | D21: =IF('3.SWOT方格調整'!D21="","",SQRT('3.SWOT方格調整'!D21)) | E21: =IF('3.SWOT方格調整'!E21="","",SQRT('3.SWOT方格調整'!E21)) | F21: =IF('3.SWOT方格調整'!F21="","",SQRT('3.SWOT方格調整'!F21)) | G21: =IF('3.SWOT方格調整'!G21="","",SQRT('3.SWOT方格調整'!G21)) | H21: =IF('3.SWOT方格調整'!H21="","",SQRT('3.SWOT方格調整'!H21)) | I21: =IF('3.SWOT方格調整'!I21="","",SQRT('3.SWOT方格調整'!I21)) | J21: =IF('3.SWOT方格調整'!J21="","",SQRT('3.SWOT方格調整'!J21)) | K21: =IF('3.SWOT方格調整'!K21="","",SQRT('3.SWOT方格調整'!K21)) | ... W21: =IF('3.SWOT方格調整'!W21="","",SQRT('3.SWOT方格調整'!W21))
A22: =SWOT方格!A22 -> S9 | B22: =SWOT方格!B22 | C22: =IF(SWOT方格!C22=0,"",SWOT方格!C22) | D22: =IF('3.SWOT方格調整'!D22="","",SQRT('3.SWOT方格調整'!D22)) | E22: =IF('3.SWOT方格調整'!E22="","",SQRT('3.SWOT方格調整'!E22)) | F22: =IF('3.SWOT方格調整'!F22="","",SQRT('3.SWOT方格調整'!F22)) | G22: =IF('3.SWOT方格調整'!G22="","",SQRT('3.SWOT方格調整'!G22)) | H22: =IF('3.SWOT方格調整'!H22="","",SQRT('3.SWOT方格調整'!H22)) | I22: =IF('3.SWOT方格調整'!I22="","",SQRT('3.SWOT方格調整'!I22)) | J22: =IF('3.SWOT方格調整'!J22="","",SQRT('3.SWOT方格調整'!J22)) | K22: =IF('3.SWOT方格調整'!K22="","",SQRT('3.SWOT方格調整'!K22)) | ... W22: =IF('3.SWOT方格調整'!W22="","",SQRT('3.SWOT方格調整'!W22))
A23: =SWOT方格!A23 -> S10 | B23: =SWOT方格!B23 | C23: =IF(SWOT方格!C23=0,"",SWOT方格!C23) | D23: =IF('3.SWOT方格調整'!D23="","",SQRT('3.SWOT方格調整'!D23)) | E23: =IF('3.SWOT方格調整'!E23="","",SQRT('3.SWOT方格調整'!E23)) | F23: =IF('3.SWOT方格調整'!F23="","",SQRT('3.SWOT方格調整'!F23)) | G23: =IF('3.SWOT方格調整'!G23="","",SQRT('3.SWOT方格調整'!G23)) | H23: =IF('3.SWOT方格調整'!H23="","",SQRT('3.SWOT方格調整'!H23)) | I23: =IF('3.SWOT方格調整'!I23="","",SQRT('3.SWOT方格調整'!I23)) | J23: =IF('3.SWOT方格調整'!J23="","",SQRT('3.SWOT方格調整'!J23)) | K23: =IF('3.SWOT方格調整'!K23="","",SQRT('3.SWOT方格調整'!K23)) | ... W23: =IF('3.SWOT方格調整'!W23="","",SQRT('3.SWOT方格調整'!W23))
A24: =SWOT方格!A24 -> W1 | B24: =SWOT方格!B24 -> 教師年齡偏高多數屆臨退休 | C24: =IF(SWOT方格!C24=0,"",SWOT方格!C24) -> 3 | D24: =IF('3.SWOT方格調整'!D24="","",SQRT('3.SWOT方格調整'!D24)) -> 4.4158804 | E24: =IF('3.SWOT方格調整'!E24="","",SQRT('3.SWOT方格調整'!E24)) -> 2.7386128 | F24: =IF('3.SWOT方格調整'!F24="","",SQRT('3.SWOT方格調整'!F24)) -> 3.6742346 | G24: =IF('3.SWOT方格調整'!G24="","",SQRT('3.SWOT方格調整'!G24)) -> 4.0620192 | H24: =IF('3.SWOT方格調整'!H24="","",SQRT('3.SWOT方格調整'!H24)) -> 2.4494897 | I24: =IF('3.SWOT方格調整'!I24="","",SQRT('3.SWOT方格調整'!I24)) | J24: =IF('3.SWOT方格調整'!J24="","",SQRT('3.SWOT方格調整'!J24)) | K24: =IF('3.SWOT方格調整'!K24="","",SQRT('3.SWOT方格調整'!K24)) | ... W24: =IF('3.SWOT方格調整'!W24="","",SQRT('3.SWOT方格調整'!W24))
A25: =SWOT方格!A25 -> W2 | B25: =SWOT方格!B25 -> 經濟不利條件學生偏多需要協助 | C25: =IF(SWOT方格!C25=0,"",SWOT方格!C25) -> 3.5 | D25: =IF('3.SWOT方格調整'!D25="","",SQRT('3.SWOT方格調整'!D25)) -> 4.769696 | E25: =IF('3.SWOT方格調整'!E25="","",SQRT('3.SWOT方格調整'!E25)) -> 2.9580399 | F25: =IF('3.SWOT方格調整'!F25="","",SQRT('3.SWOT方格調整'!F25)) -> 3.968627 | G25: =IF('3.SWOT方格調整'!G25="","",SQRT('3.SWOT方格調整'!G25)) -> 4.3874822 | H25: =IF('3.SWOT方格調整'!H25="","",SQRT('3.SWOT方格調整'!H25)) -> 2.6457513 | I25: =IF('3.SWOT方格調整'!I25="","",SQRT('3.SWOT方格調整'!I25)) | J25: =IF('3.SWOT方格調整'!J25="","",SQRT('3.SWOT方格調整'!J25)) | K25: =IF('3.SWOT方格調整'!K25="","",SQRT('3.SWOT方格調整'!K25)) | ... W25: =IF('3.SWOT方格調整'!W25="","",SQRT('3.SWOT方格調整'!W25))
... A33: =SWOT方格!A33 -> W10 | B33: =SWOT方格!B33 | C33: =IF(SWOT方格!C33=0,"",SWOT方格!C33) | D33: =IF('3.SWOT方格調整'!D33="","",SQRT('3.SWOT方格調整'!D33)) | E33: =IF('3.SWOT方格調整'!E33="","",SQRT('3.SWOT方格調整'!E33)) | F33: =IF('3.SWOT方格調整'!F33="","",SQRT('3.SWOT方格調整'!F33)) | G33: =IF('3.SWOT方格調整'!G33="","",SQRT('3.SWOT方格調整'!G33)) | H33: =IF('3.SWOT方格調整'!H33="","",SQRT('3.SWOT方格調整'!H33)) | I33: =IF('3.SWOT方格調整'!I33="","",SQRT('3.SWOT方格調整'!I33)) | J33: =IF('3.SWOT方格調整'!J33="","",SQRT('3.SWOT方格調整'!J33)) | K33: =IF('3.SWOT方格調整'!K33="","",SQRT('3.SWOT方格調整'!K33)) | ... W33: =IF('3.SWOT方格調整'!W33="","",SQRT('3.SWOT方格調整'!W33))

Sheet 5.SWOT交互項排序
E1: =SWOT方格!E1 -> 項目 | O1: =SWOT方格!O1 -> 項目
D2: =SWOT方格!D2 -> O1 | E2: =SWOT方格!E2 -> 教育局積極補助學校設備更新供專案申請 | N2: =SWOT方格!N2 -> T1 | O2: =SWOT方格!O2 -> 社區學齡入學兒童數逐年降低增加招生難度
D3: =SWOT方格!D3 -> O2 | E3: =SWOT方格!E3 -> 民間團體培育外語師資尋求合作意願高 | N3: =SWOT方格!N3 -> T2 | O3: =SWOT方格!O3 -> 他校轉型實驗學校吸引本校生轉學就讀形成競爭
D4: =SWOT方格!D4 -> O3 | E4: =SWOT方格!E4 -> 大型商場和大企業機構進駐社區吸引建商推出新建案 | N4: =SWOT方格!N4 -> T3 | O4: =SWOT方格!O4 -> 家長關心外語學習促成學生參加課後外語補習人數漸增
D5: =SWOT方格!D5 -> O4 | E5: =SWOT方格!E5 -> 教育局推動優秀退休教師參與學校教學協助方案 | N5: =SWOT方格!N5 -> T4 | O5: =SWOT方格!O5 -> 民間教育團體培育優秀師資不合現行政策規定無法聘用
D6: =SWOT方格!D6 -> O5 | E6: =SWOT方格!E6 -> 民間文教演藝團體提供免費巡迴服務 | N6: =SWOT方格!N6 -> T5 | O6: =SWOT方格!O6
D7: =SWOT方格!D7 -> O6 | E7: =SWOT方格!E7 | N7: =SWOT方格!N7 -> T6 | O7: =SWOT方格!O7
D8: =SWOT方格!D8 -> O7 | E8: =SWOT方格!E8 | N8: =SWOT方格!N8 -> T7 | O8: =SWOT方格!O8
D9: =SWOT方格!D9 -> O8 | E9: =SWOT方格!E9 | N9: =SWOT方格!N9 -> T8 | O9: =SWOT方格!O9
D10: =SWOT方格!D10 -> O9 | E10: =SWOT方格!E10 | N10: =SWOT方格!N10 -> T9 | O10: =SWOT方格!O10
D11: =SWOT方格!D11 -> O10 | E11: =SWOT方格!E11 | N11: =SWOT方格!N11 -> T10 | O11: =SWOT方格!O11
D12: =SWOT方格!D12 -> O1 | E12: =SWOT方格!E12 -> O2 | F12: =SWOT方格!F12 -> O3 | G12: =SWOT方格!G12 -> O4 | H12: =SWOT方格!H12 -> O5 | I12: =SWOT方格!I12 -> O6 | J12: =SWOT方格!J12 -> O7 | K12: =SWOT方格!K12 -> O8 | ... W12: =SWOT方格!W12 -> T10
B13: =SWOT方格!B13 -> 項目 | C13: =SWOT方格!C13 -> 權重 | D13: =IF(SWOT方格!D13=0,"",SWOT方格!D13) -> 6.5 | E13: =IF(SWOT方格!E13=0,"",SWOT方格!E13) -> 2.5 | F13: =IF(SWOT方格!F13=0,"",SWOT方格!F13) -> 4.5 | G13: =IF(SWOT方格!G13=0,"",SWOT方格!G13) -> 5.5 | H13: =IF(SWOT方格!H13=0,"",SWOT方格!H13) -> 2 | I13: =IF(SWOT方格!I13=0,"",SWOT方格!I13) | J13: =IF(SWOT方格!J13=0,"",SWOT方格!J13) | K13: =IF(SWOT方格!K13=0,"",SWOT方格!K13) | ... W13: =IF(SWOT方格!W13=0,"",SWOT方格!W13)
A14: =SWOT方格!A14 -> S1 | B14: =SWOT方格!B14 -> 專任教師學歷高且專業力強 | C14: =IF(SWOT方格!C14=0,"",SWOT方格!C14) -> 4.5 | D14: =IF('3.SWOT方格調整'!D14="","",RANK('4.校正SWOT方格'!D14,'4.校正SWOT方格'!$D$14:$M$23)) -> 5 | E14: =IF('3.SWOT方格調整'!E14="","",RANK('4.校正SWOT方格'!E14,'4.校正SWOT方格'!$D$14:$M$23)) -> 19 | F14: =IF('3.SWOT方格調整'!F14="","",RANK('4.校正SWOT方格'!F14,'4.校正SWOT方格'!$D$14:$M$23)) -> 12 | G14: =IF('3.SWOT方格調整'!G14="","",RANK('4.校正SWOT方格'!G14,'4.校正SWOT方格'!$D$14:$M$23)) -> 8 | H14: =IF('3.SWOT方格調整'!H14="","",RANK('4.校正SWOT方格'!H14,'4.校正SWOT方格'!$D$14:$M$23)) -> 23 | I14: =IF('3.SWOT方格調整'!I14="","",RANK('4.校正SWOT方格'!I14,'4.校正SWOT方格'!$D$14:$M$23)) | J14: =IF('3.SWOT方格調整'!J14="","",RANK('4.校正SWOT方格'!J14,'4.校正SWOT方格'!$D$14:$M$23)) | K14: =IF('3.SWOT方格調整'!K14="","",RANK('4.校正SWOT方格'!K14,'4.校正SWOT方格'!$D$14:$M$23)) | ... M14: =IF('3.SWOT方格調整'!M14="","",RANK('4.校正SWOT方格'!M14,'4.校正SWOT方格'!$D$14:$M$23)) | N14: =IF('3.SWOT方格調整'!N14="","",RANK('4.校正SWOT方格'!N14,'4.校正SWOT方格'!$N$14:$W$23)) -> 7 | O14: =IF('3.SWOT方格調整'!O14="","",RANK('4.校正SWOT方格'!O14,'4.校正SWOT方格'!$N$14:$W$23)) -> 15 | P14: =IF('3.SWOT方格調整'!P14="","",RANK('4.校正SWOT方格'!P14,'4.校正SWOT方格'!$N$14:$W$23)) -> 8 | Q14: =IF('3.SWOT方格調整'!Q14="","",RANK('4.校正SWOT方格'!Q14,'4.校正SWOT方格'!$N$14:$W$23)) -> 15 | R14: =IF('3.SWOT方格調整'!R14="","",RANK('4.校正SWOT方格'!R14,'4.校正SWOT方格'!$N$14:$W$23)) | S14: =IF('3.SWOT方格調整'!S14="","",RANK('4.校正SWOT方格'!S14,'4.校正SWOT方格'!$N$14:$W$23)) | T14: =IF('3.SWOT方格調整'!T14="","",RANK('4.校正SWOT方格'!T14,'4.校正SWOT方格'!$N$14:$W$23)) | U14: =IF('3.SWOT方格調整'!U14="","",RANK('4.校正SWOT方格'!U14,'4.校正SWOT方格'!$N$14:$W$23)) | ... W14: =IF('3.SWOT方格調整'!W14="","",RANK('4.校正SWOT方格'!W14,'4.校正SWOT方格'!$N$14:$W$23))
A15: =SWOT方格!A15 -> S2 | B15: =SWOT方格!B15 -> 教師高度樂業願意積極參與校務 | C15: =IF(SWOT方格!C15=0,"",SWOT方格!C15) -> 5 | D15: =IF('3.SWOT方格調整'!D15="","",RANK('4.校正SWOT方格'!D15,'4.校正SWOT方格'!$D$14:$M$23)) -> 2 | E15: =IF('3.SWOT方格調整'!E15="","",RANK('4.校正SWOT方格'!E15,'4.校正SWOT方格'!$D$14:$M$23)) -> 17 | F15: =IF('3.SWOT方格調整'!F15="","",RANK('4.校正SWOT方格'!F15,'4.校正SWOT方格'!$D$14:$M$23)) -> 10 | G15: =IF('3.SWOT方格調整'!G15="","",RANK('4.校正SWOT方格'!G15,'4.校正SWOT方格'!$D$14:$M$23)) -> 6 | H15: =IF('3.SWOT方格調整'!H15="","",RANK('4.校正SWOT方格'!H15,'4.校正SWOT方格'!$D$14:$M$23)) -> 21 | I15: =IF('3.SWOT方格調整'!I15="","",RANK('4.校正SWOT方格'!I15,'4.校正SWOT方格'!$D$14:$M$23)) | J15: =IF('3.SWOT方格調整'!J15="","",RANK('4.校正SWOT方格'!J15,'4.校正SWOT方格'!$D$14:$M$23)) | K15: =IF('3.SWOT方格調整'!K15="","",RANK('4.校正SWOT方格'!K15,'4.校正SWOT方格'!$D$14:$M$23)) | ... M15: =IF('3.SWOT方格調整'!M15="","",RANK('4.校正SWOT方格'!M15,'4.校正SWOT方格'!$D$14:$M$23)) | N15: =IF('3.SWOT方格調整'!N15="","",RANK('4.校正SWOT方格'!N15,'4.校正SWOT方格'!$N$14:$W$23)) -> 2 | O15: =IF('3.SWOT方格調整'!O15="","",RANK('4.校正SWOT方格'!O15,'4.校正SWOT方格'!$N$14:$W$23)) -> 11 | P15: =IF('3.SWOT方格調整'!P15="","",RANK('4.校正SWOT方格'!P15,'4.校正SWOT方格'!$N$14:$W$23)) -> 5 | Q15: =IF('3.SWOT方格調整'!Q15="","",RANK('4.校正SWOT方格'!Q15,'4.校正SWOT方格'!$N$14:$W$23)) -> 11 | R15: =IF('3.SWOT方格調整'!R15="","",RANK('4.校正SWOT方格'!R15,'4.校正SWOT方格'!$N$14:$W$23)) | S15: =IF('3.SWOT方格調整'!S15="","",RANK('4.校正SWOT方格'!S15,'4.校正SWOT方格'!$N$14:$W$23)) | T15: =IF('3.SWOT方格調整'!T15="","",RANK('4.校正SWOT方格'!T15,'4.校正SWOT方格'!$N$14:$W$23)) | U15: =IF('3.SWOT方格調整'!U15="","",RANK('4.校正SWOT方格'!U15,'4.校正SWOT方格'!$N$14:$W$23)) | ... W15: =IF('3.SWOT方格調整'!W15="","",RANK('4.校正SWOT方格'!W15,'4.校正SWOT方格'!$N$14:$W$23))
A16: =SWOT方格!A16 -> S3 | B16: =SWOT方格!B16 -> 學校設備資源豐富滿足教學 | C16: =IF(SWOT方格!C16=0,"",SWOT方格!C16) -> 3 | D16: =IF('3.SWOT方格調整'!D16="","",RANK('4.校正SWOT方格'!D16,'4.校正SWOT方格'!$D$14:$M$23)) -> 13 | E16: =IF('3.SWOT方格調整'!E16="","",RANK('4.校正SWOT方格'!E16,'4.校正SWOT方格'!$D$14:$M$23)) -> 24 | F16: =IF('3.SWOT方格調整'!F16="","",RANK('4.校正SWOT方格'!F16,'4.校正SWOT方格'!$D$14:$M$23)) -> 16 | G16: =IF('3.SWOT方格調整'!G16="","",RANK('4.校正SWOT方格'!G16,'4.校正SWOT方格'!$D$14:$M$23)) -> 14 | H16: =IF('3.SWOT方格調整'!H16="","",RANK('4.校正SWOT方格'!H16,'4.校正SWOT方格'!$D$14:$M$23)) -> 25 | I16: =IF('3.SWOT方格調整'!I16="","",RANK('4.校正SWOT方格'!I16,'4.校正SWOT方格'!$D$14:$M$23)) | J16: =IF('3.SWOT方格調整'!J16="","",RANK('4.校正SWOT方格'!J16,'4.校正SWOT方格'!$D$14:$M$23)) | K16: =IF('3.SWOT方格調整'!K16="","",RANK('4.校正SWOT方格'!K16,'4.校正SWOT方格'!$D$14:$M$23)) | ... M16: =IF('3.SWOT方格調整'!M16="","",RANK('4.校正SWOT方格'!M16,'4.校正SWOT方格'!$D$14:$M$23)) | N16: =IF('3.SWOT方格調整'!N16="","",RANK('4.校正SWOT方格'!N16,'4.校正SWOT方格'!$N$14:$W$23)) -> 17 | O16: =IF('3.SWOT方格調整'!O16="","",RANK('4.校正SWOT方格'!O16,'4.校正SWOT方格'!$N$14:$W$23)) -> 19 | P16: =IF('3.SWOT方格調整'!P16="","",RANK('4.校正SWOT方格'!P16,'4.校正SWOT方格'!$N$14:$W$23)) -> 18 | Q16: =IF('3.SWOT方格調整'!Q16="","",RANK('4.校正SWOT方格'!Q16,'4.校正SWOT方格'!$N$14:$W$23)) -> 19 | R16: =IF('3.SWOT方格調整'!R16="","",RANK('4.校正SWOT方格'!R16,'4.校正SWOT方格'!$N$14:$W$23)) | S16: =IF('3.SWOT方格調整'!S16="","",RANK('4.校正SWOT方格'!S16,'4.校正SWOT方格'!$N$14:$W$23)) | T16: =IF('3.SWOT方格調整'!T16="","",RANK('4.校正SWOT方格'!T16,'4.校正SWOT方格'!$N$14:$W$23)) | U16: =IF('3.SWOT方格調整'!U16="","",RANK('4.校正SWOT方格'!U16,'4.校正SWOT方格'!$N$14:$W$23)) | ... W16: =IF('3.SWOT方格調整'!W16="","",RANK('4.校正SWOT方格'!W16,'4.校正SWOT方格'!$N$14:$W$23))
A17: =SWOT方格!A17 -> S4 | B17: =SWOT方格!B17 -> 家長和社區關心和樂意協助學校 | C17: =IF(SWOT方格!C17=0,"",SWOT方格!C17) -> 5.5 | D17: =IF('3.SWOT方格調整'!D17="","",RANK('4.校正SWOT方格'!D17,'4.校正SWOT方格'!$D$14:$M$23)) -> 1 | E17: =IF('3.SWOT方格調整'!E17="","",RANK('4.校正SWOT方格'!E17,'4.校正SWOT方格'!$D$14:$M$23)) -> 15 | F17: =IF('3.SWOT方格調整'!F17="","",RANK('4.校正SWOT方格'!F17,'4.校正SWOT方格'!$D$14:$M$23)) -> 8 | G17: =IF('3.SWOT方格調整'!G17="","",RANK('4.校正SWOT方格'!G17,'4.校正SWOT方格'!$D$14:$M$23)) -> 4 | H17: =IF('3.SWOT方格調整'!H17="","",RANK('4.校正SWOT方格'!H17,'4.校正SWOT方格'!$D$14:$M$23)) -> 20 | I17: =IF('3.SWOT方格調整'!I17="","",RANK('4.校正SWOT方格'!I17,'4.校正SWOT方格'!$D$14:$M$23)) | J17: =IF('3.SWOT方格調整'!J17="","",RANK('4.校正SWOT方格'!J17,'4.校正SWOT方格'!$D$14:$M$23)) | K17: =IF('3.SWOT方格調整'!K17="","",RANK('4.校正SWOT方格'!K17,'4.校正SWOT方格'!$D$14:$M$23)) | ... M17: =IF('3.SWOT方格調整'!M17="","",RANK('4.校正SWOT方格'!M17,'4.校正SWOT方格'!$D$14:$M$23)) | N17: =IF('3.SWOT方格調整'!N17="","",RANK('4.校正SWOT方格'!N17,'4.校正SWOT方格'!$N$14:$W$23)) -> 1 | O17: =IF('3.SWOT方格調整'!O17="","",RANK('4.校正SWOT方格'!O17,'4.校正SWOT方格'!$N$14:$W$23)) -> 9 | P17: =IF('3.SWOT方格調整'!P17="","",RANK('4.校正SWOT方格'!P17,'4.校正SWOT方格'!$N$14:$W$23)) -> 2 | Q17: =IF('3.SWOT方格調整'!Q17="","",RANK('4.校正SWOT方格'!Q17,'4.校正SWOT方格'!$N$14:$W$23)) -> 9 | R17: =IF('3.SWOT方格調整'!R17="","",RANK('4.校正SWOT方格'!R17,'4.校正SWOT方格'!$N$14:$W$23)) | S17: =IF('3.SWOT方格調整'!S17="","",RANK('4.校正SWOT方格'!S17,'4.校正SWOT方格'!$N$14:$W$23)) | T17: =IF('3.SWOT方格調整'!T17="","",RANK('4.校正SWOT方格'!T17,'4.校正SWOT方格'!$N$14:$W$23)) | U17: =IF('3.SWOT方格調整'!U17="","",RANK('4.校正SWOT方格'!U17,'4.校正SWOT方格'!$N$14:$W$23)) | ... W17: =IF('3.SWOT方格調整'!W17="","",RANK('4.校正SWOT方格'!W17,'4.校正SWOT方格'!$N$14:$W$23))
A18: =SWOT方格!A18 -> S5 | B18: =SWOT方格!B18 -> 學校特色教學團隊強且成果多 | C18: =IF(SWOT方格!C18=0,"",SWOT方格!C18) -> 5 | D18: =IF('3.SWOT方格調整'!D18="","",RANK('4.校正SWOT方格'!D18,'4.校正SWOT方格'!$D$14:$M$23)) -> 2 | E18: =IF('3.SWOT方格調整'!E18="","",RANK('4.校正SWOT方格'!E18,'4.校正SWOT方格'!$D$14:$M$23)) -> 17 | F18: =IF('3.SWOT方格調整'!F18="","",RANK('4.校正SWOT方格'!F18,'4.校正SWOT方格'!$D$14:$M$23)) -> 10 | G18: =IF('3.SWOT方格調整'!G18="","",RANK('4.校正SWOT方格'!G18,'4.校正SWOT方格'!$D$14:$M$23)) -> 6 | H18: =IF('3.SWOT方格調整'!H18="","",RANK('4.校正SWOT方格'!H18,'4.校正SWOT方格'!$D$14:$M$23)) -> 21 | I18: =IF('3.SWOT方格調整'!I18="","",RANK('4.校正SWOT方格'!I18,'4.校正SWOT方格'!$D$14:$M$23)) | J18: =IF('3.SWOT方格調整'!J18="","",RANK('4.校正SWOT方格'!J18,'4.校正SWOT方格'!$D$14:$M$23)) | K18: =IF('3.SWOT方格調整'!K18="","",RANK('4.校正SWOT方格'!K18,'4.校正SWOT方格'!$D$14:$M$23)) | ... M18: =IF('3.SWOT方格調整'!M18="","",RANK('4.校正SWOT方格'!M18,'4.校正SWOT方格'!$D$14:$M$23)) | N18: =IF('3.SWOT方格調整'!N18="","",RANK('4.校正SWOT方格'!N18,'4.校正SWOT方格'!$N$14:$W$23)) -> 2 | O18: =IF('3.SWOT方格調整'!O18="","",RANK('4.校正SWOT方格'!O18,'4.校正SWOT方格'!$N$14:$W$23)) -> 11 | P18: =IF('3.SWOT方格調整'!P18="","",RANK('4.校正SWOT方格'!P18,'4.校正SWOT方格'!$N$14:$W$23)) -> 5 | Q18: =IF('3.SWOT方格調整'!Q18="","",RANK('4.校正SWOT方格'!Q18,'4.校正SWOT方格'!$N$14:$W$23)) -> 11 | R18: =IF('3.SWOT方格調整'!R18="","",RANK('4.校正SWOT方格'!R18,'4.校正SWOT方格'!$N$14:$W$23)) | S18: =IF('3.SWOT方格調整'!S18="","",RANK('4.校正SWOT方格'!S18,'4.校正SWOT方格'!$N$14:$W$23)) | T18: =IF('3.SWOT方格調整'!T18="","",RANK('4.校正SWOT方格'!T18,'4.校正SWOT方格'!$N$14:$W$23)) | U18: =IF('3.SWOT方格調整'!U18="","",RANK('4.校正SWOT方格'!U18,'4.校正SWOT方格'!$N$14:$W$23)) | ... W18: =IF('3.SWOT方格調整'!W18="","",RANK('4.校正SWOT方格'!W18,'4.校正SWOT方格'!$N$14:$W$23))
A19: =SWOT方格!A19 -> S6 | B19: =SWOT方格!B19 | C19: =IF(SWOT方格!C19=0,"",SWOT方格!C19) | D19: =IF('3.SWOT方格調整'!D19="","",RANK('4.校正SWOT方格'!D19,'4.校正SWOT方格'!$D$14:$M$23)) | E19: =IF('3.SWOT方格調整'!E19="","",RANK('4.校正SWOT方格'!E19,'4.校正SWOT方格'!$D$14:$M$23)) | F19: =IF('3.SWOT方格調整'!F19="","",RANK('4.校正SWOT方格'!F19,'4.校正SWOT方格'!$D$14:$M$23)) | G19: =IF('3.SWOT方格調整'!G19="","",RANK('4.校正SWOT方格'!G19,'4.校正SWOT方格'!$D$14:$M$23)) | H19: =IF('3.SWOT方格調整'!H19="","",RANK('4.校正SWOT方格'!H19,'4.校正SWOT方格'!$D$14:$M$23)) | I19: =IF('3.SWOT方格調整'!I19="","",RANK('4.校正SWOT方格'!I19,'4.校正SWOT方格'!$D$14:$M$23)) | J19: =IF('3.SWOT方格調整'!J19="","",RANK('4.校正SWOT方格'!J19,'4.校正SWOT方格'!$D$14:$M$23)) | K19: =IF('3.SWOT方格調整'!K19="","",RANK('4.校正SWOT方格'!K19,'4.校正SWOT方格'!$D$14:$M$23)) | ... M19: =IF('3.SWOT方格調整'!M19="","",RANK('4.校正SWOT方格'!M19,'4.校正SWOT方格'!$D$14:$M$23)) | N19: =IF('3.SWOT方格調整'!N19="","",RANK('4.校正SWOT方格'!N19,'4.校正SWOT方格'!$N$14:$W$23)) | O19: =IF('3.SWOT方格調整'!O19="","",RANK('4.校正SWOT方格'!O19,'4.校正SWOT方格'!$N$14:$W$23)) | P19: =IF('3.SWOT方格調整'!P19="","",RANK('4.校正SWOT方格'!P19,'4.校正SWOT方格'!$N$14:$W$23)) | Q19: =IF('3.SWOT方格調整'!Q19="","",RANK('4.校正SWOT方格'!Q19,'4.校正SWOT方格'!$N$14:$W$23)) | R19: =IF('3.SWOT方格調整'!R19="","",RANK('4.校正SWOT方格'!R19,'4.校正SWOT方格'!$N$14:$W$23)) | S19: =IF('3.SWOT方格調整'!S19="","",RANK('4.校正SWOT方格'!S19,'4.校正SWOT方格'!$N$14:$W$23)) | T19: =IF('3.SWOT方格調整'!T19="","",RANK('4.校正SWOT方格'!T19,'4.校正SWOT方格'!$N$14:$W$23)) | U19: =IF('3.SWOT方格調整'!U19="","",RANK('4.校正SWOT方格'!U19,'4.校正SWOT方格'!$N$14:$W$23)) | ... W19: =IF('3.SWOT方格調整'!W19="","",RANK('4.校正SWOT方格'!W19,'4.校正SWOT方格'!$N$14:$W$23))
A20: =SWOT方格!A20 -> S7 | B20: =SWOT方格!B20 | C20: =IF(SWOT方格!C20=0,"",SWOT方格!C20) | D20: =IF('3.SWOT方格調整'!D20="","",RANK('4.校正SWOT方格'!D20,'4.校正SWOT方格'!$D$14:$M$23)) | E20: =IF('3.SWOT方格調整'!E20="","",RANK('4.校正SWOT方格'!E20,'4.校正SWOT方格'!$D$14:$M$23)) | F20: =IF('3.SWOT方格調整'!F20="","",RANK('4.校正SWOT方格'!F20,'4.校正SWOT方格'!$D$14:$M$23)) | G20: =IF('3.SWOT方格調整'!G20="","",RANK('4.校正SWOT方格'!G20,'4.校正SWOT方格'!$D$14:$M$23)) | H20: =IF('3.SWOT方格調整'!H20="","",RANK('4.校正SWOT方格'!H20,'4.校正SWOT方格'!$D$14:$M$23)) | I20: =IF('3.SWOT方格調整'!I20="","",RANK('4.校正SWOT方格'!I20,'4.校正SWOT方格'!$D$14:$M$23)) | J20: =IF('3.SWOT方格調整'!J20="","",RANK('4.校正SWOT方格'!J20,'4.校正SWOT方格'!$D$14:$M$23)) | K20: =IF('3.SWOT方格調整'!K20="","",RANK('4.校正SWOT方格'!K20,'4.校正SWOT方格'!$D$14:$M$23)) | ... M20: =IF('3.SWOT方格調整'!M20="","",RANK('4.校正SWOT方格'!M20,'4.校正SWOT方格'!$D$14:$M$23)) | N20: =IF('3.SWOT方格調整'!N20="","",RANK('4.校正SWOT方格'!N20,'4.校正SWOT方格'!$N$14:$W$23)) | O20: =IF('3.SWOT方格調整'!O20="","",RANK('4.校正SWOT方格'!O20,'4.校正SWOT方格'!$N$14:$W$23)) | P20: =IF('3.SWOT方格調整'!P20="","",RANK('4.校正SWOT方格'!P20,'4.校正SWOT方格'!$N$14:$W$23)) | Q20: =IF('3.SWOT方格調整'!Q20="","",RANK('4.校正SWOT方格'!Q20,'4.校正SWOT方格'!$N$14:$W$23)) | R20: =IF('3.SWOT方格調整'!R20="","",RANK('4.校正SWOT方格'!R20,'4.校正SWOT方格'!$N$14:$W$23)) | S20: =IF('3.SWOT方格調整'!S20="","",RANK('4.校正SWOT方格'!S20,'4.校正SWOT方格'!$N$14:$W$23)) | T20: =IF('3.SWOT方格調整'!T20="","",RANK('4.校正SWOT方格'!T20,'4.校正SWOT方格'!$N$14:$W$23)) | U20: =IF('3.SWOT方格調整'!U20="","",RANK('4.校正SWOT方格'!U20,'4.校正SWOT方格'!$N$14:$W$23)) | ... W20: =IF('3.SWOT方格調整'!W20="","",RANK('4.校正SWOT方格'!W20,'4.校正SWOT方格'!$N$14:$W$23))
A21: =SWOT方格!A21 -> S8 | B21: =SWOT方格!B21 | C21: =IF(SWOT方格!C21=0,"",SWOT方格!C21) | D21: =IF('3.SWOT方格調整'!D21="","",RANK('4.校正SWOT方格'!D21,'4.校正SWOT方格'!$D$14:$M$23)) | E21: =IF('3.SWOT方格調整'!E21="","",RANK('4.校正SWOT方格'!E21,'4.校正SWOT方格'!$D$14:$M$23)) | F21: =IF('3.SWOT方格調整'!F21="","",RANK('4.校正SWOT方格'!F21,'4.校正SWOT方格'!$D$14:$M$23)) | G21: =IF('3.SWOT方格調整'!G21="","",RANK('4.校正SWOT方格'!G21,'4.校正SWOT方格'!$D$14:$M$23)) | H21: =IF('3.SWOT方格調整'!H21="","",RANK('4.校正SWOT方格'!H21,'4.校正SWOT方格'!$D$14:$M$23)) | I21: =IF('3.SWOT方格調整'!I21="","",RANK('4.校正SWOT方格'!I21,'4.校正SWOT方格'!$D$14:$M$23)) | J21: =IF('3.SWOT方格調整'!J21="","",RANK('4.校正SWOT方格'!J21,'4.校正SWOT方格'!$D$14:$M$23)) | K21: =IF('3.SWOT方格調整'!K21="","",RANK('4.校正SWOT方格'!K21,'4.校正SWOT方格'!$D$14:$M$23)) | ... M21: =IF('3.SWOT方格調整'!M21="","",RANK('4.校正SWOT方格'!M21,'4.校正SWOT方格'!$D$14:$M$23)) | N21: =IF('3.SWOT方格調整'!N21="","",RANK('4.校正SWOT方格'!N21,'4.校正SWOT方格'!$N$14:$W$23)) | O21: =IF('3.SWOT方格調整'!O21="","",RANK('4.校正SWOT方格'!O21,'4.校正SWOT方格'!$N$14:$W$23)) | P21: =IF('3.SWOT方格調整'!P21="","",RANK('4.校正SWOT方格'!P21,'4.校正SWOT方格'!$N$14:$W$23)) | Q21: =IF('3.SWOT方格調整'!Q21="","",RANK('4.校正SWOT方格'!Q21,'4.校正SWOT方格'!$N$14:$W$23)) | R21: =IF('3.SWOT方格調整'!R21="","",RANK('4.校正SWOT方格'!R21,'4.校正SWOT方格'!$N$14:$W$23)) | S21: =IF('3.SWOT方格調整'!S21="","",RANK('4.校正SWOT方格'!S21,'4.校正SWOT方格'!$N$14:$W$23)) | T21: =IF('3.SWOT方格調整'!T21="","",RANK('4.校正SWOT方格'!T21,'4.校正SWOT方格'!$N$14:$W$23)) | U21: =IF('3.SWOT方格調整'!U21="","",RANK('4.校正SWOT方格'!U21,'4.校正SWOT方格'!$N$14:$W$23)) | ... W21: =IF('3.SWOT方格調整'!W21="","",RANK('4.校正SWOT方格'!W21,'4.校正SWOT方格'!$N$14:$W$23))
A22: =SWOT方格!A22 -> S9 | B22: =SWOT方格!B22 | C22: =IF(SWOT方格!C22=0,"",SWOT方格!C22) | D22: =IF('3.SWOT方格調整'!D22="","",RANK('4.校正SWOT方格'!D22,'4.校正SWOT方格'!$D$14:$M$23)) | E22: =IF('3.SWOT方格調整'!E22="","",RANK('4.校正SWOT方格'!E22,'4.校正SWOT方格'!$D$14:$M$23)) | F22: =IF('3.SWOT方格調整'!F22="","",RANK('4.校正SWOT方格'!F22,'4.校正SWOT方格'!$D$14:$M$23)) | G22: =IF('3.SWOT方格調整'!G22="","",RANK('4.校正SWOT方格'!G22,'4.校正SWOT方格'!$D$14:$M$23)) | H22: =IF('3.SWOT方格調整'!H22="","",RANK('4.校正SWOT方格'!H22,'4.校正SWOT方格'!$D$14:$M$23)) | I22: =IF('3.SWOT方格調整'!I22="","",RANK('4.校正SWOT方格'!I22,'4.校正SWOT方格'!$D$14:$M$23)) | J22: =IF('3.SWOT方格調整'!J22="","",RANK('4.校正SWOT方格'!J22,'4.校正SWOT方格'!$D$14:$M$23)) | K22: =IF('3.SWOT方格調整'!K22="","",RANK('4.校正SWOT方格'!K22,'4.校正SWOT方格'!$D$14:$M$23)) | ... M22: =IF('3.SWOT方格調整'!M22="","",RANK('4.校正SWOT方格'!M22,'4.校正SWOT方格'!$D$14:$M$23)) | N22: =IF('3.SWOT方格調整'!N22="","",RANK('4.校正SWOT方格'!N22,'4.校正SWOT方格'!$N$14:$W$23)) | O22: =IF('3.SWOT方格調整'!O22="","",RANK('4.校正SWOT方格'!O22,'4.校正SWOT方格'!$N$14:$W$23)) | P22: =IF('3.SWOT方格調整'!P22="","",RANK('4.校正SWOT方格'!P22,'4.校正SWOT方格'!$N$14:$W$23)) | Q22: =IF('3.SWOT方格調整'!Q22="","",RANK('4.校正SWOT方格'!Q22,'4.校正SWOT方格'!$N$14:$W$23)) | R22: =IF('3.SWOT方格調整'!R22="","",RANK('4.校正SWOT方格'!R22,'4.校正SWOT方格'!$N$14:$W$23)) | S22: =IF('3.SWOT方格調整'!S22="","",RANK('4.校正SWOT方格'!S22,'4.校正SWOT方格'!$N$14:$W$23)) | T22: =IF('3.SWOT方格調整'!T22="","",RANK('4.校正SWOT方格'!T22,'4.校正SWOT方格'!$N$14:$W$23)) | U22: =IF('3.SWOT方格調整'!U22="","",RANK('4.校正SWOT方格'!U22,'4.校正SWOT方格'!$N$14:$W$23)) | ... W22: =IF('3.SWOT方格調整'!W22="","",RANK('4.校正SWOT方格'!W22,'4.校正SWOT方格'!$N$14:$W$23))
A23: =SWOT方格!A23 -> S10 | B23: =SWOT方格!B23 | C23: =IF(SWOT方格!C23=0,"",SWOT方格!C23) | D23: =IF('3.SWOT方格調整'!D23="","",RANK('4.校正SWOT方格'!D23,'4.校正SWOT方格'!$D$14:$M$23)) | E23: =IF('3.SWOT方格調整'!E23="","",RANK('4.校正SWOT方格'!E23,'4.校正SWOT方格'!$D$14:$M$23)) | F23: =IF('3.SWOT方格調整'!F23="","",RANK('4.校正SWOT方格'!F23,'4.校正SWOT方格'!$D$14:$M$23)) | G23: =IF('3.SWOT方格調整'!G23="","",RANK('4.校正SWOT方格'!G23,'4.校正SWOT方格'!$D$14:$M$23)) | H23: =IF('3.SWOT方格調整'!H23="","",RANK('4.校正SWOT方格'!H23,'4.校正SWOT方格'!$D$14:$M$23)) | I23: =IF('3.SWOT方格調整'!I23="","",RANK('4.校正SWOT方格'!I23,'4.校正SWOT方格'!$D$14:$M$23)) | J23: =IF('3.SWOT方格調整'!J23="","",RANK('4.校正SWOT方格'!J23,'4.校正SWOT方格'!$D$14:$M$23)) | K23: =IF('3.SWOT方格調整'!K23="","",RANK('4.校正SWOT方格'!K23,'4.校正SWOT方格'!$D$14:$M$23)) | ... M23: =IF('3.SWOT方格調整'!M23="","",RANK('4.校正SWOT方格'!M23,'4.校正SWOT方格'!$D$14:$M$23)) | N23: =IF('3.SWOT方格調整'!N23="","",RANK('4.校正SWOT方格'!N23,'4.校正SWOT方格'!$N$14:$W$23)) | O23: =IF('3.SWOT方格調整'!O23="","",RANK('4.校正SWOT方格'!O23,'4.校正SWOT方格'!$N$14:$W$23)) | P23: =IF('3.SWOT方格調整'!P23="","",RANK('4.校正SWOT方格'!P23,'4.校正SWOT方格'!$N$14:$W$23)) | Q23: =IF('3.SWOT方格調整'!Q23="","",RANK('4.校正SWOT方格'!Q23,'4.校正SWOT方格'!$N$14:$W$23)) | R23: =IF('3.SWOT方格調整'!R23="","",RANK('4.校正SWOT方格'!R23,'4.校正SWOT方格'!$N$14:$W$23)) | S23: =IF('3.SWOT方格調整'!S23="","",RANK('4.校正SWOT方格'!S23,'4.校正SWOT方格'!$N$14:$W$23)) | T23: =IF('3.SWOT方格調整'!T23="","",RANK('4.校正SWOT方格'!T23,'4.校正SWOT方格'!$N$14:$W$23)) | U23: =IF('3.SWOT方格調整'!U23="","",RANK('4.校正SWOT方格'!U23,'4.校正SWOT方格'!$N$14:$W$23)) | ... W23: =IF('3.SWOT方格調整'!W23="","",RANK('4.校正SWOT方格'!W23,'4.校正SWOT方格'!$N$14:$W$23))
A24: =SWOT方格!A24 -> W1 | B24: =SWOT方格!B24 -> 教師年齡偏高多數屆臨退休 | C24: =IF(SWOT方格!C24=0,"",SWOT方格!C24) -> 3 | D24: =IF('3.SWOT方格調整'!D24="","",RANK('4.校正SWOT方格'!D24,'4.校正SWOT方格'!$D$24:$M$33)) -> 11 | E24: =IF('3.SWOT方格調整'!E24="","",RANK('4.校正SWOT方格'!E24,'4.校正SWOT方格'!$D$24:$M$33)) -> 23 | F24: =IF('3.SWOT方格調整'!F24="","",RANK('4.校正SWOT方格'!F24,'4.校正SWOT方格'!$D$24:$M$33)) -> 16 | G24: =IF('3.SWOT方格調整'!G24="","",RANK('4.校正SWOT方格'!G24,'4.校正SWOT方格'!$D$24:$M$33)) -> 13 | H24: =IF('3.SWOT方格調整'!H24="","",RANK('4.校正SWOT方格'!H24,'4.校正SWOT方格'!$D$24:$M$33)) -> 25 | I24: =IF('3.SWOT方格調整'!I24="","",RANK('4.校正SWOT方格'!I24,'4.校正SWOT方格'!$D$24:$M$33)) | J24: =IF('3.SWOT方格調整'!J24="","",RANK('4.校正SWOT方格'!J24,'4.校正SWOT方格'!$D$24:$M$33)) | K24: =IF('3.SWOT方格調整'!K24="","",RANK('4.校正SWOT方格'!K24,'4.校正SWOT方格'!$D$24:$M$33)) | ... M24: =IF('3.SWOT方格調整'!M24="","",RANK('4.校正SWOT方格'!M24,'4.校正SWOT方格'!$D$24:$M$33)) | N24: =IF('3.SWOT方格調整'!N24="","",RANK('4.校正SWOT方格'!N24,'4.校正SWOT方格'!$N$24:$W$33)) -> 15 | O24: =IF('3.SWOT方格調整'!O24="","",RANK('4.校正SWOT方格'!O24,'4.校正SWOT方格'!$N$24:$W$33)) -> 19 | P24: =IF('3.SWOT方格調整'!P24="","",RANK('4.校正SWOT方格'!P24,'4.校正SWOT方格'!$N$24:$W$33)) -> 16 | Q24: =IF('3.SWOT方格調整'!Q24="","",RANK('4.校正SWOT方格'!Q24,'4.校正SWOT方格'!$N$24:$W$33)) -> 19 | R24: =IF('3.SWOT方格調整'!R24="","",RANK('4.校正SWOT方格'!R24,'4.校正SWOT方格'!$N$24:$W$33)) | S24: =IF('3.SWOT方格調整'!S24="","",RANK('4.校正SWOT方格'!S24,'4.校正SWOT方格'!$N$24:$W$33)) | T24: =IF('3.SWOT方格調整'!T24="","",RANK('4.校正SWOT方格'!T24,'4.校正SWOT方格'!$N$24:$W$33)) | U24: =IF('3.SWOT方格調整'!U24="","",RANK('4.校正SWOT方格'!U24,'4.校正SWOT方格'!$N$24:$W$33)) | ... W24: =IF('3.SWOT方格調整'!W24="","",RANK('4.校正SWOT方格'!W24,'4.校正SWOT方格'!$N$24:$W$33))
A25: =SWOT方格!A25 -> W2 | B25: =SWOT方格!B25 -> 經濟不利條件學生偏多需要協助 | C25: =IF(SWOT方格!C25=0,"",SWOT方格!C25) -> 3.5 | D25: =IF('3.SWOT方格調整'!D25="","",RANK('4.校正SWOT方格'!D25,'4.校正SWOT方格'!$D$24:$M$33)) -> 8 | E25: =IF('3.SWOT方格調整'!E25="","",RANK('4.校正SWOT方格'!E25,'4.校正SWOT方格'!$D$24:$M$33)) -> 22 | F25: =IF('3.SWOT方格調整'!F25="","",RANK('4.校正SWOT方格'!F25,'4.校正SWOT方格'!$D$24:$M$33)) -> 14 | G25: =IF('3.SWOT方格調整'!G25="","",RANK('4.校正SWOT方格'!G25,'4.校正SWOT方格'!$D$24:$M$33)) -> 12 | H25: =IF('3.SWOT方格調整'!H25="","",RANK('4.校正SWOT方格'!H25,'4.校正SWOT方格'!$D$24:$M$33)) -> 24 | I25: =IF('3.SWOT方格調整'!I25="","",RANK('4.校正SWOT方格'!I25,'4.校正SWOT方格'!$D$24:$M$33)) | J25: =IF('3.SWOT方格調整'!J25="","",RANK('4.校正SWOT方格'!J25,'4.校正SWOT方格'!$D$24:$M$33)) | K25: =IF('3.SWOT方格調整'!K25="","",RANK('4.校正SWOT方格'!K25,'4.校正SWOT方格'!$D$24:$M$33)) | ... M25: =IF('3.SWOT方格調整'!M25="","",RANK('4.校正SWOT方格'!M25,'4.校正SWOT方格'!$D$24:$M$33)) | N25: =IF('3.SWOT方格調整'!N25="","",RANK('4.校正SWOT方格'!N25,'4.校正SWOT方格'!$N$24:$W$33)) -> 9 | O25: =IF('3.SWOT方格調整'!O25="","",RANK('4.校正SWOT方格'!O25,'4.校正SWOT方格'!$N$24:$W$33)) -> 17 | P25: =IF('3.SWOT方格調整'!P25="","",RANK('4.校正SWOT方格'!P25,'4.校正SWOT方格'!$N$24:$W$33)) -> 14 | Q25: =IF('3.SWOT方格調整'!Q25="","",RANK('4.校正SWOT方格'!Q25,'4.校正SWOT方格'!$N$24:$W$33)) -> 17 | R25: =IF('3.SWOT方格調整'!R25="","",RANK('4.校正SWOT方格'!R25,'4.校正SWOT方格'!$N$24:$W$33)) | S25: =IF('3.SWOT方格調整'!S25="","",RANK('4.校正SWOT方格'!S25,'4.校正SWOT方格'!$N$24:$W$33)) | T25: =IF('3.SWOT方格調整'!T25="","",RANK('4.校正SWOT方格'!T25,'4.校正SWOT方格'!$N$24:$W$33)) | U25: =IF('3.SWOT方格調整'!U25="","",RANK('4.校正SWOT方格'!U25,'4.校正SWOT方格'!$N$24:$W$33)) | ... W25: =IF('3.SWOT方格調整'!W25="","",RANK('4.校正SWOT方格'!W25,'4.校正SWOT方格'!$N$24:$W$33))
A26: =SWOT方格!A26 -> W3 | B26: =SWOT方格!B26 -> 圖書設備汰舊更新較慢 | C26: =IF(SWOT方格!C26=0,"",SWOT方格!C26) -> 4.5 | D26: =IF('3.SWOT方格調整'!D26="","",RANK('4.校正SWOT方格'!D26,'4.校正SWOT方格'!$D$24:$M$33)) -> 3 | E26: =IF('3.SWOT方格調整'!E26="","",RANK('4.校正SWOT方格'!E26,'4.校正SWOT方格'!$D$24:$M$33)) -> 18 | F26: =IF('3.SWOT方格調整'!F26="","",RANK('4.校正SWOT方格'!F26,'4.校正SWOT方格'!$D$24:$M$33)) -> 9 | G26: =IF('3.SWOT方格調整'!G26="","",RANK('4.校正SWOT方格'!G26,'4.校正SWOT方格'!$D$24:$M$33)) -> 6 | H26: =IF('3.SWOT方格調整'!H26="","",RANK('4.校正SWOT方格'!H26,'4.校正SWOT方格'!$D$24:$M$33)) -> 20 | I26: =IF('3.SWOT方格調整'!I26="","",RANK('4.校正SWOT方格'!I26,'4.校正SWOT方格'!$D$24:$M$33)) | J26: =IF('3.SWOT方格調整'!J26="","",RANK('4.校正SWOT方格'!J26,'4.校正SWOT方格'!$D$24:$M$33)) | K26: =IF('3.SWOT方格調整'!K26="","",RANK('4.校正SWOT方格'!K26,'4.校正SWOT方格'!$D$24:$M$33)) | ... M26: =IF('3.SWOT方格調整'!M26="","",RANK('4.校正SWOT方格'!M26,'4.校正SWOT方格'!$D$24:$M$33)) | N26: =IF('3.SWOT方格調整'!N26="","",RANK('4.校正SWOT方格'!N26,'4.校正SWOT方格'!$N$24:$W$33)) -> 3 | O26: =IF('3.SWOT方格調整'!O26="","",RANK('4.校正SWOT方格'!O26,'4.校正SWOT方格'!$N$24:$W$33)) -> 10 | P26: =IF('3.SWOT方格調整'!P26="","",RANK('4.校正SWOT方格'!P26,'4.校正SWOT方格'!$N$24:$W$33)) -> 7 | Q26: =IF('3.SWOT方格調整'!Q26="","",RANK('4.校正SWOT方格'!Q26,'4.校正SWOT方格'!$N$24:$W$33)) -> 10 | R26: =IF('3.SWOT方格調整'!R26="","",RANK('4.校正SWOT方格'!R26,'4.校正SWOT方格'!$N$24:$W$33)) | S26: =IF('3.SWOT方格調整'!S26="","",RANK('4.校正SWOT方格'!S26,'4.校正SWOT方格'!$N$24:$W$33)) | T26: =IF('3.SWOT方格調整'!T26="","",RANK('4.校正SWOT方格'!T26,'4.校正SWOT方格'!$N$24:$W$33)) | U26: =IF('3.SWOT方格調整'!U26="","",RANK('4.校正SWOT方格'!U26,'4.校正SWOT方格'!$N$24:$W$33)) | ... W26: =IF('3.SWOT方格調整'!W26="","",RANK('4.校正SWOT方格'!W26,'4.校正SWOT方格'!$N$24:$W$33))
A27: =SWOT方格!A27 -> W4 | B27: =SWOT方格!B27 -> 外語教學師資不足需向外招聘 | C27: =IF(SWOT方格!C27=0,"",SWOT方格!C27) -> 6 | D27: =IF('3.SWOT方格調整'!D27="","",RANK('4.校正SWOT方格'!D27,'4.校正SWOT方格'!$D$24:$M$33)) -> 1 | E27: =IF('3.SWOT方格調整'!E27="","",RANK('4.校正SWOT方格'!E27,'4.校正SWOT方格'!$D$24:$M$33)) -> 15 | F27: =IF('3.SWOT方格調整'!F27="","",RANK('4.校正SWOT方格'!F27,'4.校正SWOT方格'!$D$24:$M$33)) -> 5 | G27: =IF('3.SWOT方格調整'!G27="","",RANK('4.校正SWOT方格'!G27,'4.校正SWOT方格'!$D$24:$M$33)) -> 2 | H27: =IF('3.SWOT方格調整'!H27="","",RANK('4.校正SWOT方格'!H27,'4.校正SWOT方格'!$D$24:$M$33)) -> 17 | I27: =IF('3.SWOT方格調整'!I27="","",RANK('4.校正SWOT方格'!I27,'4.校正SWOT方格'!$D$24:$M$33)) | J27: =IF('3.SWOT方格調整'!J27="","",RANK('4.校正SWOT方格'!J27,'4.校正SWOT方格'!$D$24:$M$33)) | K27: =IF('3.SWOT方格調整'!K27="","",RANK('4.校正SWOT方格'!K27,'4.校正SWOT方格'!$D$24:$M$33)) | ... M27: =IF('3.SWOT方格調整'!M27="","",RANK('4.校正SWOT方格'!M27,'4.校正SWOT方格'!$D$24:$M$33)) | N27: =IF('3.SWOT方格調整'!N27="","",RANK('4.校正SWOT方格'!N27,'4.校正SWOT方格'!$N$24:$W$33)) -> 1 | O27: =IF('3.SWOT方格調整'!O27="","",RANK('4.校正SWOT方格'!O27,'4.校正SWOT方格'!$N$24:$W$33)) -> 5 | P27: =IF('3.SWOT方格調整'!P27="","",RANK('4.校正SWOT方格'!P27,'4.校正SWOT方格'!$N$24:$W$33)) -> 2 | Q27: =IF('3.SWOT方格調整'!Q27="","",RANK('4.校正SWOT方格'!Q27,'4.校正SWOT方格'!$N$24:$W$33)) -> 5 | R27: =IF('3.SWOT方格調整'!R27="","",RANK('4.校正SWOT方格'!R27,'4.校正SWOT方格'!$N$24:$W$33)) | S27: =IF('3.SWOT方格調整'!S27="","",RANK('4.校正SWOT方格'!S27,'4.校正SWOT方格'!$N$24:$W$33)) | T27: =IF('3.SWOT方格調整'!T27="","",RANK('4.校正SWOT方格'!T27,'4.校正SWOT方格'!$N$24:$W$33)) | U27: =IF('3.SWOT方格調整'!U27="","",RANK('4.校正SWOT方格'!U27,'4.校正SWOT方格'!$N$24:$W$33)) | ... W27: =IF('3.SWOT方格調整'!W27="","",RANK('4.校正SWOT方格'!W27,'4.校正SWOT方格'!$N$24:$W$33))
A28: =SWOT方格!A28 -> W5 | B28: =SWOT方格!B28 -> 科技課程教材相對他校顯得陳舊 | C28: =IF(SWOT方格!C28=0,"",SWOT方格!C28) -> 4.5 | D28: =IF('3.SWOT方格調整'!D28="","",RANK('4.校正SWOT方格'!D28,'4.校正SWOT方格'!$D$24:$M$33)) -> 3 | E28: =IF('3.SWOT方格調整'!E28="","",RANK('4.校正SWOT方格'!E28,'4.校正SWOT方格'!$D$24:$M$33)) -> 18 | F28: =IF('3.SWOT方格調整'!F28="","",RANK('4.校正SWOT方格'!F28,'4.校正SWOT方格'!$D$24:$M$33)) -> 9 | G28: =IF('3.SWOT方格調整'!G28="","",RANK('4.校正SWOT方格'!G28,'4.校正SWOT方格'!$D$24:$M$33)) -> 6 | H28: =IF('3.SWOT方格調整'!H28="","",RANK('4.校正SWOT方格'!H28,'4.校正SWOT方格'!$D$24:$M$33)) -> 20 | I28: =IF('3.SWOT方格調整'!I28="","",RANK('4.校正SWOT方格'!I28,'4.校正SWOT方格'!$D$24:$M$33)) | J28: =IF('3.SWOT方格調整'!J28="","",RANK('4.校正SWOT方格'!J28,'4.校正SWOT方格'!$D$24:$M$33)) | K28: =IF('3.SWOT方格調整'!K28="","",RANK('4.校正SWOT方格'!K28,'4.校正SWOT方格'!$D$24:$M$33)) | ... M28: =IF('3.SWOT方格調整'!M28="","",RANK('4.校正SWOT方格'!M28,'4.校正SWOT方格'!$D$24:$M$33)) | N28: =IF('3.SWOT方格調整'!N28="","",RANK('4.校正SWOT方格'!N28,'4.校正SWOT方格'!$N$24:$W$33)) -> 3 | O28: =IF('3.SWOT方格調整'!O28="","",RANK('4.校正SWOT方格'!O28,'4.校正SWOT方格'!$N$24:$W$33)) -> 10 | P28: =IF('3.SWOT方格調整'!P28="","",RANK('4.校正SWOT方格'!P28,'4.校正SWOT方格'!$N$24:$W$33)) -> 7 | Q28: =IF('3.SWOT方格調整'!Q28="","",RANK('4.校正SWOT方格'!Q28,'4.校正SWOT方格'!$N$24:$W$33)) -> 10 | R28: =IF('3.SWOT方格調整'!R28="","",RANK('4.校正SWOT方格'!R28,'4.校正SWOT方格'!$N$24:$W$33)) | S28: =IF('3.SWOT方格調整'!S28="","",RANK('4.校正SWOT方格'!S28,'4.校正SWOT方格'!$N$24:$W$33)) | T28: =IF('3.SWOT方格調整'!T28="","",RANK('4.校正SWOT方格'!T28,'4.校正SWOT方格'!$N$24:$W$33)) | U28: =IF('3.SWOT方格調整'!U28="","",RANK('4.校正SWOT方格'!U28,'4.校正SWOT方格'!$N$24:$W$33)) | ... W28: =IF('3.SWOT方格調整'!W28="","",RANK('4.校正SWOT方格'!W28,'4.校正SWOT方格'!$N$24:$W$33))
A29: =SWOT方格!A29 -> W6 | B29: =SWOT方格!B29 | C29: =IF(SWOT方格!C29=0,"",SWOT方格!C29) | D29: =IF('3.SWOT方格調整'!D29="","",RANK('4.校正SWOT方格'!D29,'4.校正SWOT方格'!$D$24:$M$33)) | E29: =IF('3.SWOT方格調整'!E29="","",RANK('4.校正SWOT方格'!E29,'4.校正SWOT方格'!$D$24:$M$33)) | F29: =IF('3.SWOT方格調整'!F29="","",RANK('4.校正SWOT方格'!F29,'4.校正SWOT方格'!$D$24:$M$33)) | G29: =IF('3.SWOT方格調整'!G29="","",RANK('4.校正SWOT方格'!G29,'4.校正SWOT方格'!$D$24:$M$33)) | H29: =IF('3.SWOT方格調整'!H29="","",RANK('4.校正SWOT方格'!H29,'4.校正SWOT方格'!$D$24:$M$33)) | I29: =IF('3.SWOT方格調整'!I29="","",RANK('4.校正SWOT方格'!I29,'4.校正SWOT方格'!$D$24:$M$33)) | J29: =IF('3.SWOT方格調整'!J29="","",RANK('4.校正SWOT方格'!J29,'4.校正SWOT方格'!$D$24:$M$33)) | K29: =IF('3.SWOT方格調整'!K29="","",RANK('4.校正SWOT方格'!K29,'4.校正SWOT方格'!$D$24:$M$33)) | ... M29: =IF('3.SWOT方格調整'!M29="","",RANK('4.校正SWOT方格'!M29,'4.校正SWOT方格'!$D$24:$M$33)) | N29: =IF('3.SWOT方格調整'!N29="","",RANK('4.校正SWOT方格'!N29,'4.校正SWOT方格'!$N$24:$W$33)) | O29: =IF('3.SWOT方格調整'!O29="","",RANK('4.校正SWOT方格'!O29,'4.校正SWOT方格'!$N$24:$W$33)) | P29: =IF('3.SWOT方格調整'!P29="","",RANK('4.校正SWOT方格'!P29,'4.校正SWOT方格'!$N$24:$W$33)) | Q29: =IF('3.SWOT方格調整'!Q29="","",RANK('4.校正SWOT方格'!Q29,'4.校正SWOT方格'!$N$24:$W$33)) | R29: =IF('3.SWOT方格調整'!R29="","",RANK('4.校正SWOT方格'!R29,'4.校正SWOT方格'!$N$24:$W$33)) | S29: =IF('3.SWOT方格調整'!S29="","",RANK('4.校正SWOT方格'!S29,'4.校正SWOT方格'!$N$24:$W$33)) | T29: =IF('3.SWOT方格調整'!T29="","",RANK('4.校正SWOT方格'!T29,'4.校正SWOT方格'!$N$24:$W$33)) | U29: =IF('3.SWOT方格調整'!U29="","",RANK('4.校正SWOT方格'!U29,'4.校正SWOT方格'!$N$24:$W$33)) | ... W29: =IF('3.SWOT方格調整'!W29="","",RANK('4.校正SWOT方格'!W29,'4.校正SWOT方格'!$N$24:$W$33))
A30: =SWOT方格!A30 -> W7 | B30: =SWOT方格!B30 | C30: =IF(SWOT方格!C30=0,"",SWOT方格!C30) | D30: =IF('3.SWOT方格調整'!D30="","",RANK('4.校正SWOT方格'!D30,'4.校正SWOT方格'!$D$24:$M$33)) | E30: =IF('3.SWOT方格調整'!E30="","",RANK('4.校正SWOT方格'!E30,'4.校正SWOT方格'!$D$24:$M$33)) | F30: =IF('3.SWOT方格調整'!F30="","",RANK('4.校正SWOT方格'!F30,'4.校正SWOT方格'!$D$24:$M$33)) | G30: =IF('3.SWOT方格調整'!G30="","",RANK('4.校正SWOT方格'!G30,'4.校正SWOT方格'!$D$24:$M$33)) | H30: =IF('3.SWOT方格調整'!H30="","",RANK('4.校正SWOT方格'!H30,'4.校正SWOT方格'!$D$24:$M$33)) | I30: =IF('3.SWOT方格調整'!I30="","",RANK('4.校正SWOT方格'!I30,'4.校正SWOT方格'!$D$24:$M$33)) | J30: =IF('3.SWOT方格調整'!J30="","",RANK('4.校正SWOT方格'!J30,'4.校正SWOT方格'!$D$24:$M$33)) | K30: =IF('3.SWOT方格調整'!K30="","",RANK('4.校正SWOT方格'!K30,'4.校正SWOT方格'!$D$24:$M$33)) | ... M30: =IF('3.SWOT方格調整'!M30="","",RANK('4.校正SWOT方格'!M30,'4.校正SWOT方格'!$D$24:$M$33)) | N30: =IF('3.SWOT方格調整'!N30="","",RANK('4.校正SWOT方格'!N30,'4.校正SWOT方格'!$N$24:$W$33)) | O30: =IF('3.SWOT方格調整'!O30="","",RANK('4.校正SWOT方格'!O30,'4.校正SWOT方格'!$N$24:$W$33)) | P30: =IF('3.SWOT方格調整'!P30="","",RANK('4.校正SWOT方格'!P30,'4.校正SWOT方格'!$N$24:$W$33)) | Q30: =IF('3.SWOT方格調整'!Q30="","",RANK('4.校正SWOT方格'!Q30,'4.校正SWOT方格'!$N$24:$W$33)) | R30: =IF('3.SWOT方格調整'!R30="","",RANK('4.校正SWOT方格'!R30,'4.校正SWOT方格'!$N$24:$W$33)) | S30: =IF('3.SWOT方格調整'!S30="","",RANK('4.校正SWOT方格'!S30,'4.校正SWOT方格'!$N$24:$W$33)) | T30: =IF('3.SWOT方格調整'!T30="","",RANK('4.校正SWOT方格'!T30,'4.校正SWOT方格'!$N$24:$W$33)) | U30: =IF('3.SWOT方格調整'!U30="","",RANK('4.校正SWOT方格'!U30,'4.校正SWOT方格'!$N$24:$W$33)) | ... W30: =IF('3.SWOT方格調整'!W30="","",RANK('4.校正SWOT方格'!W30,'4.校正SWOT方格'!$N$24:$W$33))
A31: =SWOT方格!A31 -> W8 | B31: =SWOT方格!B31 | C31: =IF(SWOT方格!C31=0,"",SWOT方格!C31) | D31: =IF('3.SWOT方格調整'!D31="","",RANK('4.校正SWOT方格'!D31,'4.校正SWOT方格'!$D$24:$M$33)) | E31: =IF('3.SWOT方格調整'!E31="","",RANK('4.校正SWOT方格'!E31,'4.校正SWOT方格'!$D$24:$M$33)) | F31: =IF('3.SWOT方格調整'!F31="","",RANK('4.校正SWOT方格'!F31,'4.校正SWOT方格'!$D$24:$M$33)) | G31: =IF('3.SWOT方格調整'!G31="","",RANK('4.校正SWOT方格'!G31,'4.校正SWOT方格'!$D$24:$M$33)) | H31: =IF('3.SWOT方格調整'!H31="","",RANK('4.校正SWOT方格'!H31,'4.校正SWOT方格'!$D$24:$M$33)) | I31: =IF('3.SWOT方格調整'!I31="","",RANK('4.校正SWOT方格'!I31,'4.校正SWOT方格'!$D$24:$M$33)) | J31: =IF('3.SWOT方格調整'!J31="","",RANK('4.校正SWOT方格'!J31,'4.校正SWOT方格'!$D$24:$M$33)) | K31: =IF('3.SWOT方格調整'!K31="","",RANK('4.校正SWOT方格'!K31,'4.校正SWOT方格'!$D$24:$M$33)) | ... M31: =IF('3.SWOT方格調整'!M31="","",RANK('4.校正SWOT方格'!M31,'4.校正SWOT方格'!$D$24:$M$33)) | N31: =IF('3.SWOT方格調整'!N31="","",RANK('4.校正SWOT方格'!N31,'4.校正SWOT方格'!$N$24:$W$33)) | O31: =IF('3.SWOT方格調整'!O31="","",RANK('4.校正SWOT方格'!O31,'4.校正SWOT方格'!$N$24:$W$33)) | P31: =IF('3.SWOT方格調整'!P31="","",RANK('4.校正SWOT方格'!P31,'4.校正SWOT方格'!$N$24:$W$33)) | Q31: =IF('3.SWOT方格調整'!Q31="","",RANK('4.校正SWOT方格'!Q31,'4.校正SWOT方格'!$N$24:$W$33)) | R31: =IF('3.SWOT方格調整'!R31="","",RANK('4.校正SWOT方格'!R31,'4.校正SWOT方格'!$N$24:$W$33)) | S31: =IF('3.SWOT方格調整'!S31="","",RANK('4.校正SWOT方格'!S31,'4.校正SWOT方格'!$N$24:$W$33)) | T31: =IF('3.SWOT方格調整'!T31="","",RANK('4.校正SWOT方格'!T31,'4.校正SWOT方格'!$N$24:$W$33)) | U31: =IF('3.SWOT方格調整'!U31="","",RANK('4.校正SWOT方格'!U31,'4.校正SWOT方格'!$N$24:$W$33)) | ... W31: =IF('3.SWOT方格調整'!W31="","",RANK('4.校正SWOT方格'!W31,'4.校正SWOT方格'!$N$24:$W$33))
A32: =SWOT方格!A32 -> W9 | B32: =SWOT方格!B32 | C32: =IF(SWOT方格!C32=0,"",SWOT方格!C32) | D32: =IF('3.SWOT方格調整'!D32="","",RANK('4.校正SWOT方格'!D32,'4.校正SWOT方格'!$D$24:$M$33)) | E32: =IF('3.SWOT方格調整'!E32="","",RANK('4.校正SWOT方格'!E32,'4.校正SWOT方格'!$D$24:$M$33)) | F32: =IF('3.SWOT方格調整'!F32="","",RANK('4.校正SWOT方格'!F32,'4.校正SWOT方格'!$D$24:$M$33)) | G32: =IF('3.SWOT方格調整'!G32="","",RANK('4.校正SWOT方格'!G32,'4.校正SWOT方格'!$D$24:$M$33)) | H32: =IF('3.SWOT方格調整'!H32="","",RANK('4.校正SWOT方格'!H32,'4.校正SWOT方格'!$D$24:$M$33)) | I32: =IF('3.SWOT方格調整'!I32="","",RANK('4.校正SWOT方格'!I32,'4.校正SWOT方格'!$D$24:$M$33)) | J32: =IF('3.SWOT方格調整'!J32="","",RANK('4.校正SWOT方格'!J32,'4.校正SWOT方格'!$D$24:$M$33)) | K32: =IF('3.SWOT方格調整'!K32="","",RANK('4.校正SWOT方格'!K32,'4.校正SWOT方格'!$D$24:$M$33)) | ... M32: =IF('3.SWOT方格調整'!M32="","",RANK('4.校正SWOT方格'!M32,'4.校正SWOT方格'!$D$24:$M$33)) | N32: =IF('3.SWOT方格調整'!N32="","",RANK('4.校正SWOT方格'!N32,'4.校正SWOT方格'!$N$24:$W$33)) | O32: =IF('3.SWOT方格調整'!O32="","",RANK('4.校正SWOT方格'!O32,'4.校正SWOT方格'!$N$24:$W$33)) | P32: =IF('3.SWOT方格調整'!P32="","",RANK('4.校正SWOT方格'!P32,'4.校正SWOT方格'!$N$24:$W$33)) | Q32: =IF('3.SWOT方格調整'!Q32="","",RANK('4.校正SWOT方格'!Q32,'4.校正SWOT方格'!$N$24:$W$33)) | R32: =IF('3.SWOT方格調整'!R32="","",RANK('4.校正SWOT方格'!R32,'4.校正SWOT方格'!$N$24:$W$33)) | S32: =IF('3.SWOT方格調整'!S32="","",RANK('4.校正SWOT方格'!S32,'4.校正SWOT方格'!$N$24:$W$33)) | T32: =IF('3.SWOT方格調整'!T32="","",RANK('4.校正SWOT方格'!T32,'4.校正SWOT方格'!$N$24:$W$33)) | U32: =IF('3.SWOT方格調整'!U32="","",RANK('4.校正SWOT方格'!U32,'4.校正SWOT方格'!$N$24:$W$33)) | ... W32: =IF('3.SWOT方格調整'!W32="","",RANK('4.校正SWOT方格'!W32,'4.校正SWOT方格'!$N$24:$W$33))
A33: =SWOT方格!A33 -> W10 | B33: =SWOT方格!B33 | C33: =IF(SWOT方格!C33=0,"",SWOT方格!C33) | D33: =IF('3.SWOT方格調整'!D33="","",RANK('4.校正SWOT方格'!D33,'4.校正SWOT方格'!$D$24:$M$33)) | E33: =IF('3.SWOT方格調整'!E33="","",RANK('4.校正SWOT方格'!E33,'4.校正SWOT方格'!$D$24:$M$33)) | F33: =IF('3.SWOT方格調整'!F33="","",RANK('4.校正SWOT方格'!F33,'4.校正SWOT方格'!$D$24:$M$33)) | G33: =IF('3.SWOT方格調整'!G33="","",RANK('4.校正SWOT方格'!G33,'4.校正SWOT方格'!$D$24:$M$33)) | H33: =IF('3.SWOT方格調整'!H33="","",RANK('4.校正SWOT方格'!H33,'4.校正SWOT方格'!$D$24:$M$33)) | I33: =IF('3.SWOT方格調整'!I33="","",RANK('4.校正SWOT方格'!I33,'4.校正SWOT方格'!$D$24:$M$33)) | J33: =IF('3.SWOT方格調整'!J33="","",RANK('4.校正SWOT方格'!J33,'4.校正SWOT方格'!$D$24:$M$33)) | K33: =IF('3.SWOT方格調整'!K33="","",RANK('4.校正SWOT方格'!K33,'4.校正SWOT方格'!$D$24:$M$33)) | ... M33: =IF('3.SWOT方格調整'!M33="","",RANK('4.校正SWOT方格'!M33,'4.校正SWOT方格'!$D$24:$M$33)) | N33: =IF('3.SWOT方格調整'!N33="","",RANK('4.校正SWOT方格'!N33,'4.校正SWOT方格'!$N$24:$W$33)) | O33: =IF('3.SWOT方格調整'!O33="","",RANK('4.校正SWOT方格'!O33,'4.校正SWOT方格'!$N$24:$W$33)) | P33: =IF('3.SWOT方格調整'!P33="","",RANK('4.校正SWOT方格'!P33,'4.校正SWOT方格'!$N$24:$W$33)) | Q33: =IF('3.SWOT方格調整'!Q33="","",RANK('4.校正SWOT方格'!Q33,'4.校正SWOT方格'!$N$24:$W$33)) | R33: =IF('3.SWOT方格調整'!R33="","",RANK('4.校正SWOT方格'!R33,'4.校正SWOT方格'!$N$24:$W$33)) | S33: =IF('3.SWOT方格調整'!S33="","",RANK('4.校正SWOT方格'!S33,'4.校正SWOT方格'!$N$24:$W$33)) | T33: =IF('3.SWOT方格調整'!T33="","",RANK('4.校正SWOT方格'!T33,'4.校正SWOT方格'!$N$24:$W$33)) | U33: =IF('3.SWOT方格調整'!U33="","",RANK('4.校正SWOT方格'!U33,'4.校正SWOT方格'!$N$24:$W$33)) | ... W33: =IF('3.SWOT方格調整'!W33="","",RANK('4.校正SWOT方格'!W33,'4.校正SWOT方格'!$N$24:$W$33))

Sheet SWOT交互項
C1: 交互值 | D1: 排序 | M1: WO組合項 | N1: 交互值 | R1: 交互值 | S1: 排序 | AB1: WO組合項 | AC1: 交互值 | AG1: 交互值 | AH1: 排序 | AQ1: WO組合項 | AR1: 交互值 | AV1: 交互值 | AW1: 排序 | BF1: WO組合項 | BG1: 交互值
A2: S1 | B2: O1 | C2: ='4.校正SWOT方格'!D14 -> 5.4083269 | D2: ='5.SWOT交互項排序'!D14 -> 5 | E2: =D2 -> 5 | F2: =E2 -> 5 | G2: =F2 -> 5 | H2: =G2 -> 5 | I2: 1 | J2: =MATCH(I2,H$2:H$101,0) -> 4 | K2: =OFFSET(A$1,J2,0) -> S4 | L2: =OFFSET(B$1,J2,0) -> O1 | M2: =CONCATENATE(K2,L2) -> S4O1 | N2: =OFFSET(C$1,J2,0) -> 5.9791304 | P2: S1 | Q2: T1 | R2: ='4.校正SWOT方格'!N14 -> 4.9749372 | S2: ='5.SWOT交互項排序'!N14 -> 7 | T2: =S2 -> 7 | U2: =T2 -> 7 | V2: =U2 -> 7 | W2: =V2 -> 7 | X2: 1 | Y2: =MATCH(X2,W$2:W$101,0) -> 4 | Z2: =OFFSET(P$1,Y2,0) -> S4 | AA2: =OFFSET(Q$1,Y2,0) -> T1 | AB2: =CONCATENATE(Z2,AA2) -> S4T1 | AC2: =OFFSET(R$1,Y2,0) -> 5.5 | AE2: W1 | AF2: O1 | AG2: ='4.校正SWOT方格'!D24 -> 4.4158804 | AH2: ='5.SWOT交互項排序'!D24 -> 11 | AI2: =AH2 -> 11 | AJ2: =AI2 -> 11 | AK2: =AJ2 -> 11 | AL2: =AK2 -> 11 | AM2: 1 | AN2: =MATCH(AM2,AL$2:AL$101,0) -> 4 | AO2: =OFFSET(AE$1,AN2,0) -> W4 | AP2: =OFFSET(AF$1,AN2,0) -> O1 | AQ2: =CONCATENATE(AO2,AP2) -> W4O1 | AR2: =OFFSET(AG$1,AN2,0) -> 6.244998 | AT2: W1 | AU2: T1 | AV2: ='4.校正SWOT方格'!N24 -> 4.0620192 | AW2: ='5.SWOT交互項排序'!N24 -> 15 | AX2: =AW2 -> 15 | AY2: =AX2 -> 15 | AZ2: =AY2 -> 15 | BA2: =AZ2 -> 15 | BB2: 1 | BC2: =MATCH(BB2,BA$2:BA$101,0) -> 4 | BD2: =OFFSET(AT$1,BC2,0) -> W4 | BE2: =OFFSET(AU$1,BC2,0) -> T1 | BF2: =CONCATENATE(BD2,BE2) -> W4T1 | BG2: =OFFSET(AV$1,BC2,0) -> 5.7445626
A3: S2 | B3: O1 | C3: ='4.校正SWOT方格'!D15 -> 5.7008771 | D3: ='5.SWOT交互項排序'!D15 -> 2 | E3: =IF(MATCH(D3,D$2:D2,0)>0,D3+1,D3) -> #N/A | F3: =IF(ISERROR(E3),D3,E3) -> 2 | G3: =IF(MATCH(F3,F$2:F2,0)>0,F3+1,F3) -> #N/A | H3: =IF(ISERROR(G3),F3,G3) -> 2 | I3: 2 | J3: =MATCH(I3,H$2:H$101,0) -> 2 | K3: =OFFSET(A$1,J3,0) -> S2 | L3: =OFFSET(B$1,J3,0) -> O1 | M3: =CONCATENATE(K3,L3) -> S2O1 | N3: =OFFSET(C$1,J3,0) -> 5.7008771 | P3: S2 | Q3: T1 | R3: ='4.校正SWOT方格'!N15 -> 5.2440442 | S3: ='5.SWOT交互項排序'!N15 -> 2 | T3: =IF(MATCH(S3,S$2:S2,0)>0,S3+1,S3) -> #N/A | U3: =IF(ISERROR(T3),S3,T3) -> 2 | V3: =IF(MATCH(U3,U$2:U2,0)>0,U3+1,U3) -> #N/A | W3: =IF(ISERROR(V3),U3,V3) -> 2 | X3: 2 | Y3: =MATCH(X3,W$2:W$101,0) -> 2 | Z3: =OFFSET(P$1,Y3,0) -> S2 | AA3: =OFFSET(Q$1,Y3,0) -> T1 | AB3: =CONCATENATE(Z3,AA3) -> S2T1 | AC3: =OFFSET(R$1,Y3,0) -> 5.2440442 | AE3: W2 | AF3: O1 | AG3: ='4.校正SWOT方格'!D25 -> 4.769696 | AH3: ='5.SWOT交互項排序'!D25 -> 8 | AI3: =IF(MATCH(AH3,AH$2:AH2,0)>0,AH3+1,AH3) -> #N/A | AJ3: =IF(ISERROR(AI3),AH3,AI3) -> 8 | AK3: =IF(MATCH(AJ3,AJ$2:AJ2,0)>0,AJ3+1,AJ3) -> #N/A | AL3: =IF(ISERROR(AK3),AJ3,AK3) -> 8 | AM3: 2 | AN3: =MATCH(AM3,AL$2:AL$101,0) -> 34 | AO3: =OFFSET(AE$1,AN3,0) -> W4 | AP3: =OFFSET(AF$1,AN3,0) -> O4 | AQ3: =CONCATENATE(AO3,AP3) -> W4O4 | AR3: =OFFSET(AG$1,AN3,0) -> 5.7445626 | AT3: W2 | AU3: T1 | AV3: ='4.校正SWOT方格'!N25 -> 4.3874822 | AW3: ='5.SWOT交互項排序'!N25 -> 9 | AX3: =IF(MATCH(AW3,AW$2:AW2,0)>0,AW3+1,AW3) -> #N/A | AY3: =IF(ISERROR(AX3),AW3,AX3) -> 9 | AZ3: =IF(MATCH(AY3,AY$2:AY2,0)>0,AY3+1,AY3) -> #N/A | BA3: =IF(ISERROR(AZ3),AY3,AZ3) -> 9 | BB3: 2 | BC3: =MATCH(BB3,BA$2:BA$101,0) -> 24 | BD3: =OFFSET(AT$1,BC3,0) -> W4 | BE3: =OFFSET(AU$1,BC3,0) -> T3 | BF3: =CONCATENATE(BD3,BE3) -> W4T3 | BG3: =OFFSET(AV$1,BC3,0) -> 5.4772256
A4: S3 | B4: O1 | C4: ='4.校正SWOT方格'!D16 -> 4.4158804 | D4: ='5.SWOT交互項排序'!D16 -> 13 | E4: =IF(MATCH(D4,D$2:D3,0)>0,D4+1,D4) -> #N/A | F4: =IF(ISERROR(E4),D4,E4) -> 13 | G4: =IF(MATCH(F4,F$2:F3,0)>0,F4+1,F4) -> #N/A | H4: =IF(ISERROR(G4),F4,G4) -> 13 | I4: 3 | J4: =MATCH(I4,H$2:H$101,0) -> 5 | K4: =OFFSET(A$1,J4,0) -> S5 | L4: =OFFSET(B$1,J4,0) -> O1 | M4: =CONCATENATE(K4,L4) -> S5O1 | N4: =OFFSET(C$1,J4,0) -> 5.7008771 | P4: S3 | Q4: T1 | R4: ='4.校正SWOT方格'!N16 -> 4.0620192 | S4: ='5.SWOT交互項排序'!N16 -> 17 | T4: =IF(MATCH(S4,S$2:S3,0)>0,S4+1,S4) -> #N/A | U4: =IF(ISERROR(T4),S4,T4) -> 17 | V4: =IF(MATCH(U4,U$2:U3,0)>0,U4+1,U4) -> #N/A | W4: =IF(ISERROR(V4),U4,V4) -> 17 | X4: 3 | Y4: =MATCH(X4,W$2:W$101,0) -> 5 | Z4: =OFFSET(P$1,Y4,0) -> S5 | AA4: =OFFSET(Q$1,Y4,0) -> T1 | AB4: =CONCATENATE(Z4,AA4) -> S5T1 | AC4: =OFFSET(R$1,Y4,0) -> 5.2440442 | AE4: W3 | AF4: O1 | AG4: ='4.校正SWOT方格'!D26 -> 5.4083269 | AH4: ='5.SWOT交互項排序'!D26 -> 3 | AI4: =IF(MATCH(AH4,AH$2:AH3,0)>0,AH4+1,AH4) -> #N/A | AJ4: =IF(ISERROR(AI4),AH4,AI4) -> 3 | AK4: =IF(MATCH(AJ4,AJ$2:AJ3,0)>0,AJ4+1,AJ4) -> #N/A | AL4: =IF(ISERROR(AK4),AJ4,AK4) -> 3 | AM4: 3 | AN4: =MATCH(AM4,AL$2:AL$101,0) -> 3 | AO4: =OFFSET(AE$1,AN4,0) -> W3 | AP4: =OFFSET(AF$1,AN4,0) -> O1 | AQ4: =CONCATENATE(AO4,AP4) -> W3O1 | AR4: =OFFSET(AG$1,AN4,0) -> 5.4083269 | AT4: W3 | AU4: T1 | AV4: ='4.校正SWOT方格'!N26 -> 4.9749372 | AW4: ='5.SWOT交互項排序'!N26 -> 3 | AX4: =IF(MATCH(AW4,AW$2:AW3,0)>0,AW4+1,AW4) -> #N/A | AY4: =IF(ISERROR(AX4),AW4,AX4) -> 3 | AZ4: =IF(MATCH(AY4,AY$2:AY3,0)>0,AY4+1,AY4) -> #N/A | BA4: =IF(ISERROR(AZ4),AY4,AZ4) -> 3 | BB4: 3 | BC4: =MATCH(BB4,BA$2:BA$101,0) -> 3 | BD4: =OFFSET(AT$1,BC4,0) -> W3 | BE4: =OFFSET(AU$1,BC4,0) -> T1 | BF4: =CONCATENATE(BD4,BE4) -> W3T1 | BG4: =OFFSET(AV$1,BC4,0) -> 4.9749372
A5: S4 | B5: O1 | C5: ='4.校正SWOT方格'!D17 -> 5.9791304 | D5: ='5.SWOT交互項排序'!D17 -> 1 | E5: =IF(MATCH(D5,D$2:D4,0)>0,D5+1,D5) -> #N/A | F5: =IF(ISERROR(E5),D5,E5) -> 1 | G5: =IF(MATCH(F5,F$2:F4,0)>0,F5+1,F5) -> #N/A | H5: =IF(ISERROR(G5),F5,G5) -> 1 | I5: 4 | J5: =MATCH(I5,H$2:H$101,0) -> 34 | K5: =OFFSET(A$1,J5,0) -> S4 | L5: =OFFSET(B$1,J5,0) -> O4 | M5: =CONCATENATE(K5,L5) -> S4O4 | N5: =OFFSET(C$1,J5,0) -> 5.5 | P5: S4 | Q5: T1 | R5: ='4.校正SWOT方格'!N17 -> 5.5 | S5: ='5.SWOT交互項排序'!N17 -> 1 | T5: =IF(MATCH(S5,S$2:S4,0)>0,S5+1,S5) -> #N/A | U5: =IF(ISERROR(T5),S5,T5) -> 1 | V5: =IF(MATCH(U5,U$2:U4,0)>0,U5+1,U5) -> #N/A | W5: =IF(ISERROR(V5),U5,V5) -> 1 | X5: 4 | Y5: =MATCH(X5,W$2:W$101,0) -> 24 | Z5: =OFFSET(P$1,Y5,0) -> S4 | AA5: =OFFSET(Q$1,Y5,0) -> T3 | AB5: =CONCATENATE(Z5,AA5) -> S4T3 | AC5: =OFFSET(R$1,Y5,0) -> 5.2440442 | AE5: W4 | AF5: O1 | AG5: ='4.校正SWOT方格'!D27 -> 6.244998 | AH5: ='5.SWOT交互項排序'!D27 -> 1 | AI5: =IF(MATCH(AH5,AH$2:AH4,0)>0,AH5+1,AH5) -> #N/A | AJ5: =IF(ISERROR(AI5),AH5,AI5) -> 1 | AK5: =IF(MATCH(AJ5,AJ$2:AJ4,0)>0,AJ5+1,AJ5) -> #N/A | AL5: =IF(ISERROR(AK5),AJ5,AK5) -> 1 | AM5: 4 | AN5: =MATCH(AM5,AL$2:AL$101,0) -> 5 | AO5: =OFFSET(AE$1,AN5,0) -> W5 | AP5: =OFFSET(AF$1,AN5,0) -> O1 | AQ5: =CONCATENATE(AO5,AP5) -> W5O1 | AR5: =OFFSET(AG$1,AN5,0) -> 5.4083269 | AT5: W4 | AU5: T1 | AV5: ='4.校正SWOT方格'!N27 -> 5.7445626 | AW5: ='5.SWOT交互項排序'!N27 -> 1 | AX5: =IF(MATCH(AW5,AW$2:AW4,0)>0,AW5+1,AW5) -> #N/A | AY5: =IF(ISERROR(AX5),AW5,AX5) -> 1 | AZ5: =IF(MATCH(AY5,AY$2:AY4,0)>0,AY5+1,AY5) -> #N/A | BA5: =IF(ISERROR(AZ5),AY5,AZ5) -> 1 | BB5: 4 | BC5: =MATCH(BB5,BA$2:BA$101,0) -> 5 | BD5: =OFFSET(AT$1,BC5,0) -> W5 | BE5: =OFFSET(AU$1,BC5,0) -> T1 | BF5: =CONCATENATE(BD5,BE5) -> W5T1 | BG5: =OFFSET(AV$1,BC5,0) -> 4.9749372
A6: S5 | B6: O1 | C6: ='4.校正SWOT方格'!D18 -> 5.7008771 | D6: ='5.SWOT交互項排序'!D18 -> 2 | E6: =IF(MATCH(D6,D$2:D5,0)>0,D6+1,D6) -> 3 | F6: =IF(ISERROR(E6),D6,E6) -> 3 | G6: =IF(MATCH(F6,F$2:F5,0)>0,F6+1,F6) -> #N/A | H6: =IF(ISERROR(G6),F6,G6) -> 3 | I6: 5 | J6: =MATCH(I6,H$2:H$101,0) -> 1 | K6: =OFFSET(A$1,J6,0) -> S1 | L6: =OFFSET(B$1,J6,0) -> O1 | M6: =CONCATENATE(K6,L6) -> S1O1 | N6: =OFFSET(C$1,J6,0) -> 5.4083269 | P6: S5 | Q6: T1 | R6: ='4.校正SWOT方格'!N18 -> 5.2440442 | S6: ='5.SWOT交互項排序'!N18 -> 2 | T6: =IF(MATCH(S6,S$2:S5,0)>0,S6+1,S6) -> 3 | U6: =IF(ISERROR(T6),S6,T6) -> 3 | V6: =IF(MATCH(U6,U$2:U5,0)>0,U6+1,U6) -> #N/A | W6: =IF(ISERROR(V6),U6,V6) -> 3 | X6: 5 | Y6: =MATCH(X6,W$2:W$101,0) -> 22 | Z6: =OFFSET(P$1,Y6,0) -> S2 | AA6: =OFFSET(Q$1,Y6,0) -> T3 | AB6: =CONCATENATE(Z6,AA6) -> S2T3 | AC6: =OFFSET(R$1,Y6,0) -> 5 | AE6: W5 | AF6: O1 | AG6: ='4.校正SWOT方格'!D28 -> 5.4083269 | AH6: ='5.SWOT交互項排序'!D28 -> 3 | AI6: =IF(MATCH(AH6,AH$2:AH5,0)>0,AH6+1,AH6) -> 4 | AJ6: =IF(ISERROR(AI6),AH6,AI6) -> 4 | AK6: =IF(MATCH(AJ6,AJ$2:AJ5,0)>0,AJ6+1,AJ6) -> #N/A | AL6: =IF(ISERROR(AK6),AJ6,AK6) -> 4 | AM6: 5 | AN6: =MATCH(AM6,AL$2:AL$101,0) -> 24 | AO6: =OFFSET(AE$1,AN6,0) -> W4 | AP6: =OFFSET(AF$1,AN6,0) -> O3 | AQ6: =CONCATENATE(AO6,AP6) -> W4O3 | AR6: =OFFSET(AG$1,AN6,0) -> 5.1961524 | AT6: W5 | AU6: T1 | AV6: ='4.校正SWOT方格'!N28 -> 4.9749372 | AW6: ='5.SWOT交互項排序'!N28 -> 3 | AX6: =IF(MATCH(AW6,AW$2:AW5,0)>0,AW6+1,AW6) -> 4 | AY6: =IF(ISERROR(AX6),AW6,AX6) -> 4 | AZ6: =IF(MATCH(AY6,AY$2:AY5,0)>0,AY6+1,AY6) -> #N/A | BA6: =IF(ISERROR(AZ6),AY6,AZ6) -> 4 | BB6: 5 | BC6: =MATCH(BB6,BA$2:BA$101,0) -> 14 | BD6: =OFFSET(AT$1,BC6,0) -> W4 | BE6: =OFFSET(AU$1,BC6,0) -> T2 | BF6: =CONCATENATE(BD6,BE6) -> W4T2 | BG6: =OFFSET(AV$1,BC6,0) -> 4.8989795
A7: S6 | B7: O1 | C7: ='4.校正SWOT方格'!D19 | D7: ='5.SWOT交互項排序'!D19 | E7: =IF(MATCH(D7,D$2:D6,0)>0,D7+1,D7) -> #N/A | F7: =IF(ISERROR(E7),D7,E7) | G7: =IF(MATCH(F7,F$2:F6,0)>0,F7+1,F7) -> #N/A | H7: =IF(ISERROR(G7),F7,G7) | I7: 6 | J7: =MATCH(I7,H$2:H$101,0) -> 32 | K7: =OFFSET(A$1,J7,0) -> S2 | L7: =OFFSET(B$1,J7,0) -> O4 | M7: =CONCATENATE(K7,L7) -> S2O4 | N7: =OFFSET(C$1,J7,0) -> 5.2440442 | P7: S6 | Q7: T1 | R7: ='4.校正SWOT方格'!N19 | S7: ='5.SWOT交互項排序'!N19 | T7: =IF(MATCH(S7,S$2:S6,0)>0,S7+1,S7) -> #N/A | U7: =IF(ISERROR(T7),S7,T7) | V7: =IF(MATCH(U7,U$2:U6,0)>0,U7+1,U7) -> #N/A | W7: =IF(ISERROR(V7),U7,V7) | X7: 6 | Y7: =MATCH(X7,W$2:W$101,0) -> 25 | Z7: =OFFSET(P$1,Y7,0) -> S5 | AA7: =OFFSET(Q$1,Y7,0) -> T3 | AB7: =CONCATENATE(Z7,AA7) -> S5T3 | AC7: =OFFSET(R$1,Y7,0) -> 5 | AE7: W6 | AF7: O1 | AG7: ='4.校正SWOT方格'!D29 | AH7: ='5.SWOT交互項排序'!D29 | AI7: =IF(MATCH(AH7,AH$2:AH6,0)>0,AH7+1,AH7) -> #N/A | AJ7: =IF(ISERROR(AI7),AH7,AI7) | AK7: =IF(MATCH(AJ7,AJ$2:AJ6,0)>0,AJ7+1,AJ7) -> #N/A | AL7: =IF(ISERROR(AK7),AJ7,AK7) | AM7: 6 | AN7: =MATCH(AM7,AL$2:AL$101,0) -> 33 | AO7: =OFFSET(AE$1,AN7,0) -> W3 | AP7: =OFFSET(AF$1,AN7,0) -> O4 | AQ7: =CONCATENATE(AO7,AP7) -> W3O4 | AR7: =OFFSET(AG$1,AN7,0) -> 4.9749372 | AT7: W6 | AU7: T1 | AV7: ='4.校正SWOT方格'!N29 | AW7: ='5.SWOT交互項排序'!N29 | AX7: =IF(MATCH(AW7,AW$2:AW6,0)>0,AW7+1,AW7) -> #N/A | AY7: =IF(ISERROR(AX7),AW7,AX7) | AZ7: =IF(MATCH(AY7,AY$2:AY6,0)>0,AY7+1,AY7) -> #N/A | BA7: =IF(ISERROR(AZ7),AY7,AZ7) | BB7: 6 | BC7: =MATCH(BB7,BA$2:BA$101,0) -> 34 | BD7: =OFFSET(AT$1,BC7,0) -> W4 | BE7: =OFFSET(AU$1,BC7,0) -> T4 | BF7: =CONCATENATE(BD7,BE7) -> W4T4 | BG7: =OFFSET(AV$1,BC7,0) -> 4.8989795
A8: S7 | B8: O1 | C8: ='4.校正SWOT方格'!D20 | D8: ='5.SWOT交互項排序'!D20 | E8: =IF(MATCH(D8,D$2:D7,0)>0,D8+1,D8) -> #VALUE! | F8: =IF(ISERROR(E8),D8,E8) | G8: =IF(MATCH(F8,F$2:F7,0)>0,F8+1,F8) -> #VALUE! | H8: =IF(ISERROR(G8),F8,G8) | I8: 7 | J8: =MATCH(I8,H$2:H$101,0) -> 35 | K8: =OFFSET(A$1,J8,0) -> S5 | L8: =OFFSET(B$1,J8,0) -> O4 | M8: =CONCATENATE(K8,L8) -> S5O4 | N8: =OFFSET(C$1,J8,0) -> 5.2440442 | P8: S7 | Q8: T1 | R8: ='4.校正SWOT方格'!N20 | S8: ='5.SWOT交互項排序'!N20 | T8: =IF(MATCH(S8,S$2:S7,0)>0,S8+1,S8) -> #VALUE! | U8: =IF(ISERROR(T8),S8,T8) | V8: =IF(MATCH(U8,U$2:U7,0)>0,U8+1,U8) -> #VALUE! | W8: =IF(ISERROR(V8),U8,V8) | X8: 7 | Y8: =MATCH(X8,W$2:W$101,0) -> 1 | Z8: =OFFSET(P$1,Y8,0) -> S1 | AA8: =OFFSET(Q$1,Y8,0) -> T1 | AB8: =CONCATENATE(Z8,AA8) -> S1T1 | AC8: =OFFSET(R$1,Y8,0) -> 4.9749372 | AE8: W7 | AF8: O1 | AG8: ='4.校正SWOT方格'!D30 | AH8: ='5.SWOT交互項排序'!D30 | AI8: =IF(MATCH(AH8,AH$2:AH7,0)>0,AH8+1,AH8) -> #VALUE! | AJ8: =IF(ISERROR(AI8),AH8,AI8) | AK8: =IF(MATCH(AJ8,AJ$2:AJ7,0)>0,AJ8+1,AJ8) -> #VALUE! | AL8: =IF(ISERROR(AK8),AJ8,AK8) | AM8: 7 | AN8: =MATCH(AM8,AL$2:AL$101,0) -> 35 | AO8: =OFFSET(AE$1,AN8,0) -> W5 | AP8: =OFFSET(AF$1,AN8,0) -> O4 | AQ8: =CONCATENATE(AO8,AP8) -> W5O4 | AR8: =OFFSET(AG$1,AN8,0) -> 4.9749372 | AT8: W7 | AU8: T1 | AV8: ='4.校正SWOT方格'!N30 | AW8: ='5.SWOT交互項排序'!N30 | AX8: =IF(MATCH(AW8,AW$2:AW7,0)>0,AW8+1,AW8) -> #VALUE! | AY8: =IF(ISERROR(AX8),AW8,AX8) | AZ8: =IF(MATCH(AY8,AY$2:AY7,0)>0,AY8+1,AY8) -> #VALUE! | BA8: =IF(ISERROR(AZ8),AY8,AZ8) | BB8: 7 | BC8: =MATCH(BB8,BA$2:BA$101,0) -> 23 | BD8: =OFFSET(AT$1,BC8,0) -> W3 | BE8: =OFFSET(AU$1,BC8,0) -> T3 | BF8: =CONCATENATE(BD8,BE8) -> W3T3 | BG8: =OFFSET(AV$1,BC8,0) -> 4.7434165
A9: S8 | B9: O1 | C9: ='4.校正SWOT方格'!D21 | D9: ='5.SWOT交互項排序'!D21 | E9: =IF(MATCH(D9,D$2:D8,0)>0,D9+1,D9) -> #VALUE! | F9: =IF(ISERROR(E9),D9,E9) | G9: =IF(MATCH(F9,F$2:F8,0)>0,F9+1,F9) -> #VALUE! | H9: =IF(ISERROR(G9),F9,G9) | I9: 8 | J9: =MATCH(I9,H$2:H$101,0) -> 24 | K9: =OFFSET(A$1,J9,0) -> S4 | L9: =OFFSET(B$1,J9,0) -> O3 | M9: =CONCATENATE(K9,L9) -> S4O3 | N9: =OFFSET(C$1,J9,0) -> 4.9749372 | P9: S8 | Q9: T1 | R9: ='4.校正SWOT方格'!N21 | S9: ='5.SWOT交互項排序'!N21 | T9: =IF(MATCH(S9,S$2:S8,0)>0,S9+1,S9) -> #VALUE! | U9: =IF(ISERROR(T9),S9,T9) | V9: =IF(MATCH(U9,U$2:U8,0)>0,U9+1,U9) -> #VALUE! | W9: =IF(ISERROR(V9),U9,V9) | X9: 8 | Y9: =MATCH(X9,W$2:W$101,0) -> 21 | Z9: =OFFSET(P$1,Y9,0) -> S1 | AA9: =OFFSET(Q$1,Y9,0) -> T3 | AB9: =CONCATENATE(Z9,AA9) -> S1T3 | AC9: =OFFSET(R$1,Y9,0) -> 4.7434165 | AE9: W8 | AF9: O1 | AG9: ='4.校正SWOT方格'!D31 | AH9: ='5.SWOT交互項排序'!D31 | AI9: =IF(MATCH(AH9,AH$2:AH8,0)>0,AH9+1,AH9) -> #VALUE! | AJ9: =IF(ISERROR(AI9),AH9,AI9) | AK9: =IF(MATCH(AJ9,AJ$2:AJ8,0)>0,AJ9+1,AJ9) -> #VALUE! | AL9: =IF(ISERROR(AK9),AJ9,AK9) | AM9: 8 | AN9: =MATCH(AM9,AL$2:AL$101,0) -> 2 | AO9: =OFFSET(AE$1,AN9,0) -> W2 | AP9: =OFFSET(AF$1,AN9,0) -> O1 | AQ9: =CONCATENATE(AO9,AP9) -> W2O1 | AR9: =OFFSET(AG$1,AN9,0) -> 4.769696 | AT9: W8 | AU9: T1 | AV9: ='4.校正SWOT方格'!N31 | AW9: ='5.SWOT交互項排序'!N31 | AX9: =IF(MATCH(AW9,AW$2:AW8,0)>0,AW9+1,AW9) -> #VALUE! | AY9: =IF(ISERROR(AX9),AW9,AX9) | AZ9: =IF(MATCH(AY9,AY$2:AY8,0)>0,AY9+1,AY9) -> #VALUE! | BA9: =IF(ISERROR(AZ9),AY9,AZ9) | BB9: 8 | BC9: =MATCH(BB9,BA$2:BA$101,0) -> 25 | BD9: =OFFSET(AT$1,BC9,0) -> W5 | BE9: =OFFSET(AU$1,BC9,0) -> T3 | BF9: =CONCATENATE(BD9,BE9) -> W5T3 | BG9: =OFFSET(AV$1,BC9,0) -> 4.7434165
A10: S9 | B10: O1 | C10: ='4.校正SWOT方格'!D22 | D10: ='5.SWOT交互項排序'!D22 | E10: =IF(MATCH(D10,D$2:D9,0)>0,D10+1,D10) -> #VALUE! | F10: =IF(ISERROR(E10),D10,E10) | G10: =IF(MATCH(F10,F$2:F9,0)>0,F10+1,F10) -> #VALUE! | H10: =IF(ISERROR(G10),F10,G10) | I10: 9 | J10: =MATCH(I10,H$2:H$101,0) -> 31 | K10: =OFFSET(A$1,J10,0) -> S1 | L10: =OFFSET(B$1,J10,0) -> O4 | M10: =CONCATENATE(K10,L10) -> S1O4 | N10: =OFFSET(C$1,J10,0) -> 4.9749372 | P10: S9 | Q10: T1 | R10: ='4.校正SWOT方格'!N22 | S10: ='5.SWOT交互項排序'!N22 | T10: =IF(MATCH(S10,S$2:S9,0)>0,S10+1,S10) -> #VALUE! | U10: =IF(ISERROR(T10),S10,T10) | V10: =IF(MATCH(U10,U$2:U9,0)>0,U10+1,U10) -> #VALUE! | W10: =IF(ISERROR(V10),U10,V10) | X10: 9 | Y10: =MATCH(X10,W$2:W$101,0) -> 14 | Z10: =OFFSET(P$1,Y10,0) -> S4 | AA10: =OFFSET(Q$1,Y10,0) -> T2 | AB10: =CONCATENATE(Z10,AA10) -> S4T2 | AC10: =OFFSET(R$1,Y10,0) -> 4.6904158 | AE10: W9 | AF10: O1 | AG10: ='4.校正SWOT方格'!D32 | AH10: ='5.SWOT交互項排序'!D32 | AI10: =IF(MATCH(AH10,AH$2:AH9,0)>0,AH10+1,AH10) -> #VALUE! | AJ10: =IF(ISERROR(AI10),AH10,AI10) | AK10: =IF(MATCH(AJ10,AJ$2:AJ9,0)>0,AJ10+1,AJ10) -> #VALUE! | AL10: =IF(ISERROR(AK10),AJ10,AK10) | AM10: 9 | AN10: =MATCH(AM10,AL$2:AL$101,0) -> 23 | AO10: =OFFSET(AE$1,AN10,0) -> W3 | AP10: =OFFSET(AF$1,AN10,0) -> O3 | AQ10: =CONCATENATE(AO10,AP10) -> W3O3 | AR10: =OFFSET(AG$1,AN10,0) -> 4.5 | AT10: W9 | AU10: T1 | AV10: ='4.校正SWOT方格'!N32 | AW10: ='5.SWOT交互項排序'!N32 | AX10: =IF(MATCH(AW10,AW$2:AW9,0)>0,AW10+1,AW10) -> #VALUE! | AY10: =IF(ISERROR(AX10),AW10,AX10) | AZ10: =IF(MATCH(AY10,AY$2:AY9,0)>0,AY10+1,AY10) -> #VALUE! | BA10: =IF(ISERROR(AZ10),AY10,AZ10) | BB10: 9 | BC10: =MATCH(BB10,BA$2:BA$101,0) -> 2 | BD10: =OFFSET(AT$1,BC10,0) -> W2 | BE10: =OFFSET(AU$1,BC10,0) -> T1 | BF10: =CONCATENATE(BD10,BE10) -> W2T1 | BG10: =OFFSET(AV$1,BC10,0) -> 4.3874822
A11: S10 | B11: O1 | C11: ='4.校正SWOT方格'!D23 | D11: ='5.SWOT交互項排序'!D23 | E11: =IF(MATCH(D11,D$2:D10,0)>0,D11+1,D11) -> #VALUE! | F11: =IF(ISERROR(E11),D11,E11) | G11: =IF(MATCH(F11,F$2:F10,0)>0,F11+1,F11) -> #VALUE! | H11: =IF(ISERROR(G11),F11,G11) | I11: 10 | J11: =MATCH(I11,H$2:H$101,0) -> 22 | K11: =OFFSET(A$1,J11,0) -> S2 | L11: =OFFSET(B$1,J11,0) -> O3 | M11: =CONCATENATE(K11,L11) -> S2O3 | N11: =OFFSET(C$1,J11,0) -> 4.7434165 | P11: S10 | Q11: T1 | R11: ='4.校正SWOT方格'!N23 | S11: ='5.SWOT交互項排序'!N23 | T11: =IF(MATCH(S11,S$2:S10,0)>0,S11+1,S11) -> #VALUE! | U11: =IF(ISERROR(T11),S11,T11) | V11: =IF(MATCH(U11,U$2:U10,0)>0,U11+1,U11) -> #VALUE! | W11: =IF(ISERROR(V11),U11,V11) | X11: 10 | Y11: =MATCH(X11,W$2:W$101,0) -> 34 | Z11: =OFFSET(P$1,Y11,0) -> S4 | AA11: =OFFSET(Q$1,Y11,0) -> T4 | AB11: =CONCATENATE(Z11,AA11) -> S4T4 | AC11: =OFFSET(R$1,Y11,0) -> 4.6904158 | AE11: W10 | AF11: O1 | AG11: ='4.校正SWOT方格'!D33 | AH11: ='5.SWOT交互項排序'!D33 | AI11: =IF(MATCH(AH11,AH$2:AH10,0)>0,AH11+1,AH11) -> #VALUE! | AJ11: =IF(ISERROR(AI11),AH11,AI11) | AK11: =IF(MATCH(AJ11,AJ$2:AJ10,0)>0,AJ11+1,AJ11) -> #VALUE! | AL11: =IF(ISERROR(AK11),AJ11,AK11) | AM11: 10 | AN11: =MATCH(AM11,AL$2:AL$101,0) -> 25 | AO11: =OFFSET(AE$1,AN11,0) -> W5 | AP11: =OFFSET(AF$1,AN11,0) -> O3 | AQ11: =CONCATENATE(AO11,AP11) -> W5O3 | AR11: =OFFSET(AG$1,AN11,0) -> 4.5 | AT11: W10 | AU11: T1 | AV11: ='4.校正SWOT方格'!N33 | AW11: ='5.SWOT交互項排序'!N33 | AX11: =IF(MATCH(AW11,AW$2:AW10,0)>0,AW11+1,AW11) -> #VALUE! | AY11: =IF(ISERROR(AX11),AW11,AX11) | AZ11: =IF(MATCH(AY11,AY$2:AY10,0)>0,AY11+1,AY11) -> #VALUE! | BA11: =IF(ISERROR(AZ11),AY11,AZ11) | BB11: 10 | BC11: =MATCH(BB11,BA$2:BA$101,0) -> 13 | BD11: =OFFSET(AT$1,BC11,0) -> W3 | BE11: =OFFSET(AU$1,BC11,0) -> T2 | BF11: =CONCATENATE(BD11,BE11) -> W3T2 | BG11: =OFFSET(AV$1,BC11,0) -> 4.2426407
A12: S1 | B12: O2 | C12: ='4.校正SWOT方格'!E14 -> 3.354102 | D12: ='5.SWOT交互項排序'!E14 -> 19 | E12: =IF(MATCH(D12,D$2:D11,0)>0,D12+1,D12) -> #N/A | F12: =IF(ISERROR(E12),D12,E12) -> 19 | G12: =IF(MATCH(F12,F$2:F11,0)>0,F12+1,F12) -> #N/A | H12: =IF(ISERROR(G12),F12,G12) -> 19 | P12: S1 | Q12: T2 | R12: ='4.校正SWOT方格'!O14 -> 4.2426407 | S12: ='5.SWOT交互項排序'!O14 -> 15 | T12: =IF(MATCH(S12,S$2:S11,0)>0,S12+1,S12) -> #N/A | U12: =IF(ISERROR(T12),S12,T12) -> 15 | V12: =IF(MATCH(U12,U$2:U11,0)>0,U12+1,U12) -> #N/A | W12: =IF(ISERROR(V12),U12,V12) -> 15 | AE12: W1 | AF12: O2 | AG12: ='4.校正SWOT方格'!E24 -> 2.7386128 | AH12: ='5.SWOT交互項排序'!E24 -> 23 | AI12: =IF(MATCH(AH12,AH$2:AH11,0)>0,AH12+1,AH12) -> #N/A | AJ12: =IF(ISERROR(AI12),AH12,AI12) -> 23 | AK12: =IF(MATCH(AJ12,AJ$2:AJ11,0)>0,AJ12+1,AJ12) -> #N/A | AL12: =IF(ISERROR(AK12),AJ12,AK12) -> 23 | AT12: W1 | AU12: T2 | AV12: ='4.校正SWOT方格'!O24 -> 3.4641016 | AW12: ='5.SWOT交互項排序'!O24 -> 19 | AX12: =IF(MATCH(AW12,AW$2:AW11,0)>0,AW12+1,AW12) -> #N/A | AY12: =IF(ISERROR(AX12),AW12,AX12) -> 19 | AZ12: =IF(MATCH(AY12,AY$2:AY11,0)>0,AY12+1,AY12) -> #N/A | BA12: =IF(ISERROR(AZ12),AY12,AZ12) -> 19
A13: S2 | B13: O2 | C13: ='4.校正SWOT方格'!E15 -> 3.5355339 | D13: ='5.SWOT交互項排序'!E15 -> 17 | E13: =IF(MATCH(D13,D$2:D12,0)>0,D13+1,D13) -> #N/A | F13: =IF(ISERROR(E13),D13,E13) -> 17 | G13: =IF(MATCH(F13,F$2:F12,0)>0,F13+1,F13) -> #N/A | H13: =IF(ISERROR(G13),F13,G13) -> 17 | P13: S2 | Q13: T2 | R13: ='4.校正SWOT方格'!O15 -> 4.472136 | S13: ='5.SWOT交互項排序'!O15 -> 11 | T13: =IF(MATCH(S13,S$2:S12,0)>0,S13+1,S13) -> #N/A | U13: =IF(ISERROR(T13),S13,T13) -> 11 | V13: =IF(MATCH(U13,U$2:U12,0)>0,U13+1,U13) -> #N/A | W13: =IF(ISERROR(V13),U13,V13) -> 11 | AE13: W2 | AF13: O2 | AG13: ='4.校正SWOT方格'!E25 -> 2.9580399 | AH13: ='5.SWOT交互項排序'!E25 -> 22 | AI13: =IF(MATCH(AH13,AH$2:AH12,0)>0,AH13+1,AH13) -> #N/A | AJ13: =IF(ISERROR(AI13),AH13,AI13) -> 22 | AK13: =IF(MATCH(AJ13,AJ$2:AJ12,0)>0,AJ13+1,AJ13) -> #N/A | AL13: =IF(ISERROR(AK13),AJ13,AK13) -> 22 | AT13: W2 | AU13: T2 | AV13: ='4.校正SWOT方格'!O25 -> 3.7416574 | AW13: ='5.SWOT交互項排序'!O25 -> 17 | AX13: =IF(MATCH(AW13,AW$2:AW12,0)>0,AW13+1,AW13) -> #N/A | AY13: =IF(ISERROR(AX13),AW13,AX13) -> 17 | AZ13: =IF(MATCH(AY13,AY$2:AY12,0)>0,AY13+1,AY13) -> #N/A | BA13: =IF(ISERROR(AZ13),AY13,AZ13) -> 17
A14: S3 | B14: O2 | C14: ='4.校正SWOT方格'!E16 -> 2.7386128 | D14: ='5.SWOT交互項排序'!E16 -> 24 | E14: =IF(MATCH(D14,D$2:D13,0)>0,D14+1,D14) -> #N/A | F14: =IF(ISERROR(E14),D14,E14) -> 24 | G14: =IF(MATCH(F14,F$2:F13,0)>0,F14+1,F14) -> #N/A | H14: =IF(ISERROR(G14),F14,G14) -> 24 | P14: S3 | Q14: T2 | R14: ='4.校正SWOT方格'!O16 -> 3.4641016 | S14: ='5.SWOT交互項排序'!O16 -> 19 | T14: =IF(MATCH(S14,S$2:S13,0)>0,S14+1,S14) -> #N/A | U14: =IF(ISERROR(T14),S14,T14) -> 19 | V14: =IF(MATCH(U14,U$2:U13,0)>0,U14+1,U14) -> #N/A | W14: =IF(ISERROR(V14),U14,V14) -> 19 | AE14: W3 | AF14: O2 | AG14: ='4.校正SWOT方格'!E26 -> 3.354102 | AH14: ='5.SWOT交互項排序'!E26 -> 18 | AI14: =IF(MATCH(AH14,AH$2:AH13,0)>0,AH14+1,AH14) -> #N/A | AJ14: =IF(ISERROR(AI14),AH14,AI14) -> 18 | AK14: =IF(MATCH(AJ14,AJ$2:AJ13,0)>0,AJ14+1,AJ14) -> #N/A | AL14: =IF(ISERROR(AK14),AJ14,AK14) -> 18 | AT14: W3 | AU14: T2 | AV14: ='4.校正SWOT方格'!O26 -> 4.2426407 | AW14: ='5.SWOT交互項排序'!O26 -> 10 | AX14: =IF(MATCH(AW14,AW$2:AW13,0)>0,AW14+1,AW14) -> #N/A | AY14: =IF(ISERROR(AX14),AW14,AX14) -> 10 | AZ14: =IF(MATCH(AY14,AY$2:AY13,0)>0,AY14+1,AY14) -> #N/A | BA14: =IF(ISERROR(AZ14),AY14,AZ14) -> 10
A15: S4 | B15: O2 | C15: ='4.校正SWOT方格'!E17 -> 3.7080992 | D15: ='5.SWOT交互項排序'!E17 -> 15 | E15: =IF(MATCH(D15,D$2:D14,0)>0,D15+1,D15) -> #N/A | F15: =IF(ISERROR(E15),D15,E15) -> 15 | G15: =IF(MATCH(F15,F$2:F14,0)>0,F15+1,F15) -> #N/A | H15: =IF(ISERROR(G15),F15,G15) -> 15 | P15: S4 | Q15: T2 | R15: ='4.校正SWOT方格'!O17 -> 4.6904158 | S15: ='5.SWOT交互項排序'!O17 -> 9 | T15: =IF(MATCH(S15,S$2:S14,0)>0,S15+1,S15) -> #N/A | U15: =IF(ISERROR(T15),S15,T15) -> 9 | V15: =IF(MATCH(U15,U$2:U14,0)>0,U15+1,U15) -> #N/A | W15: =IF(ISERROR(V15),U15,V15) -> 9 | AE15: W4 | AF15: O2 | AG15: ='4.校正SWOT方格'!E27 -> 3.8729833 | AH15: ='5.SWOT交互項排序'!E27 -> 15 | AI15: =IF(MATCH(AH15,AH$2:AH14,0)>0,AH15+1,AH15) -> #N/A | AJ15: =IF(ISERROR(AI15),AH15,AI15) -> 15 | AK15: =IF(MATCH(AJ15,AJ$2:AJ14,0)>0,AJ15+1,AJ15) -> #N/A | AL15: =IF(ISERROR(AK15),AJ15,AK15) -> 15 | AT15: W4 | AU15: T2 | AV15: ='4.校正SWOT方格'!O27 -> 4.8989795 | AW15: ='5.SWOT交互項排序'!O27 -> 5 | AX15: =IF(MATCH(AW15,AW$2:AW14,0)>0,AW15+1,AW15) -> #N/A | AY15: =IF(ISERROR(AX15),AW15,AX15) -> 5 | AZ15: =IF(MATCH(AY15,AY$2:AY14,0)>0,AY15+1,AY15) -> #N/A | BA15: =IF(ISERROR(AZ15),AY15,AZ15) -> 5
A16: S5 | B16: O2 | C16: ='4.校正SWOT方格'!E18 -> 3.5355339 | D16: ='5.SWOT交互項排序'!E18 -> 17 | E16: =IF(MATCH(D16,D$2:D15,0)>0,D16+1,D16) -> 18 | F16: =IF(ISERROR(E16),D16,E16) -> 18 | G16: =IF(MATCH(F16,F$2:F15,0)>0,F16+1,F16) -> #N/A | H16: =IF(ISERROR(G16),F16,G16) -> 18 | P16: S5 | Q16: T2 | R16: ='4.校正SWOT方格'!O18 -> 4.472136 | S16: ='5.SWOT交互項排序'!O18 -> 11 | T16: =IF(MATCH(S16,S$2:S15,0)>0,S16+1,S16) -> 12 | U16: =IF(ISERROR(T16),S16,T16) -> 12 | V16: =IF(MATCH(U16,U$2:U15,0)>0,U16+1,U16) -> #N/A | W16: =IF(ISERROR(V16),U16,V16) -> 12 | AE16: W5 | AF16: O2 | AG16: ='4.校正SWOT方格'!E28 -> 3.354102 | AH16: ='5.SWOT交互項排序'!E28 -> 18 | AI16: =IF(MATCH(AH16,AH$2:AH15,0)>0,AH16+1,AH16) -> 19 | AJ16: =IF(ISERROR(AI16),AH16,AI16) -> 19 | AK16: =IF(MATCH(AJ16,AJ$2:AJ15,0)>0,AJ16+1,AJ16) -> #N/A | AL16: =IF(ISERROR(AK16),AJ16,AK16) -> 19 | AT16: W5 | AU16: T2 | AV16: ='4.校正SWOT方格'!O28 -> 4.2426407 | AW16: ='5.SWOT交互項排序'!O28 -> 10 | AX16: =IF(MATCH(AW16,AW$2:AW15,0)>0,AW16+1,AW16) -> 11 | AY16: =IF(ISERROR(AX16),AW16,AX16) -> 11 | AZ16: =IF(MATCH(AY16,AY$2:AY15,0)>0,AY16+1,AY16) -> #N/A | BA16: =IF(ISERROR(AZ16),AY16,AZ16) -> 11
A17: S6 | B17: O2 | C17: ='4.校正SWOT方格'!E19 | D17: ='5.SWOT交互項排序'!E19 | E17: =IF(MATCH(D17,D$2:D16,0)>0,D17+1,D17) -> #VALUE! | F17: =IF(ISERROR(E17),D17,E17) | G17: =IF(MATCH(F17,F$2:F16,0)>0,F17+1,F17) -> #VALUE! | H17: =IF(ISERROR(G17),F17,G17) | P17: S6 | Q17: T2 | R17: ='4.校正SWOT方格'!O19 | S17: ='5.SWOT交互項排序'!O19 | T17: =IF(MATCH(S17,S$2:S16,0)>0,S17+1,S17) -> #VALUE! | U17: =IF(ISERROR(T17),S17,T17) | V17: =IF(MATCH(U17,U$2:U16,0)>0,U17+1,U17) -> #VALUE! | W17: =IF(ISERROR(V17),U17,V17) | AE17: W6 | AF17: O2 | AG17: ='4.校正SWOT方格'!E29 | AH17: ='5.SWOT交互項排序'!E29 | AI17: =IF(MATCH(AH17,AH$2:AH16,0)>0,AH17+1,AH17) -> #VALUE! | AJ17: =IF(ISERROR(AI17),AH17,AI17) | AK17: =IF(MATCH(AJ17,AJ$2:AJ16,0)>0,AJ17+1,AJ17) -> #VALUE! | AL17: =IF(ISERROR(AK17),AJ17,AK17) | AT17: W6 | AU17: T2 | AV17: ='4.校正SWOT方格'!O29 | AW17: ='5.SWOT交互項排序'!O29 | AX17: =IF(MATCH(AW17,AW$2:AW16,0)>0,AW17+1,AW17) -> #VALUE! | AY17: =IF(ISERROR(AX17),AW17,AX17) | AZ17: =IF(MATCH(AY17,AY$2:AY16,0)>0,AY17+1,AY17) -> #VALUE! | BA17: =IF(ISERROR(AZ17),AY17,AZ17)
A18: S7 | B18: O2 | C18: ='4.校正SWOT方格'!E20 | D18: ='5.SWOT交互項排序'!E20 | E18: =IF(MATCH(D18,D$2:D17,0)>0,D18+1,D18) -> #VALUE! | F18: =IF(ISERROR(E18),D18,E18) | G18: =IF(MATCH(F18,F$2:F17,0)>0,F18+1,F18) -> #VALUE! | H18: =IF(ISERROR(G18),F18,G18) | P18: S7 | Q18: T2 | R18: ='4.校正SWOT方格'!O20 | S18: ='5.SWOT交互項排序'!O20 | T18: =IF(MATCH(S18,S$2:S17,0)>0,S18+1,S18) -> #VALUE! | U18: =IF(ISERROR(T18),S18,T18) | V18: =IF(MATCH(U18,U$2:U17,0)>0,U18+1,U18) -> #VALUE! | W18: =IF(ISERROR(V18),U18,V18) | AE18: W7 | AF18: O2 | AG18: ='4.校正SWOT方格'!E30 | AH18: ='5.SWOT交互項排序'!E30 | AI18: =IF(MATCH(AH18,AH$2:AH17,0)>0,AH18+1,AH18) -> #VALUE! | AJ18: =IF(ISERROR(AI18),AH18,AI18) | AK18: =IF(MATCH(AJ18,AJ$2:AJ17,0)>0,AJ18+1,AJ18) -> #VALUE! | AL18: =IF(ISERROR(AK18),AJ18,AK18) | AT18: W7 | AU18: T2 | AV18: ='4.校正SWOT方格'!O30 | AW18: ='5.SWOT交互項排序'!O30 | AX18: =IF(MATCH(AW18,AW$2:AW17,0)>0,AW18+1,AW18) -> #VALUE! | AY18: =IF(ISERROR(AX18),AW18,AX18) | AZ18: =IF(MATCH(AY18,AY$2:AY17,0)>0,AY18+1,AY18) -> #VALUE! | BA18: =IF(ISERROR(AZ18),AY18,AZ18)
A19: S8 | B19: O2 | C19: ='4.校正SWOT方格'!E21 | D19: ='5.SWOT交互項排序'!E21 | E19: =IF(MATCH(D19,D$2:D18,0)>0,D19+1,D19) -> #VALUE! | F19: =IF(ISERROR(E19),D19,E19) | G19: =IF(MATCH(F19,F$2:F18,0)>0,F19+1,F19) -> #VALUE! | H19: =IF(ISERROR(G19),F19,G19) | P19: S8 | Q19: T2 | R19: ='4.校正SWOT方格'!O21 | S19: ='5.SWOT交互項排序'!O21 | T19: =IF(MATCH(S19,S$2:S18,0)>0,S19+1,S19) -> #VALUE! | U19: =IF(ISERROR(T19),S19,T19) | V19: =IF(MATCH(U19,U$2:U18,0)>0,U19+1,U19) -> #VALUE! | W19: =IF(ISERROR(V19),U19,V19) | AE19: W8 | AF19: O2 | AG19: ='4.校正SWOT方格'!E31 | AH19: ='5.SWOT交互項排序'!E31 | AI19: =IF(MATCH(AH19,AH$2:AH18,0)>0,AH19+1,AH19) -> #VALUE! | AJ19: =IF(ISERROR(AI19),AH19,AI19) | AK19: =IF(MATCH(AJ19,AJ$2:AJ18,0)>0,AJ19+1,AJ19) -> #VALUE! | AL19: =IF(ISERROR(AK19),AJ19,AK19) | AT19: W8 | AU19: T2 | AV19: ='4.校正SWOT方格'!O31 | AW19: ='5.SWOT交互項排序'!O31 | AX19: =IF(MATCH(AW19,AW$2:AW18,0)>0,AW19+1,AW19) -> #VALUE! | AY19: =IF(ISERROR(AX19),AW19,AX19) | AZ19: =IF(MATCH(AY19,AY$2:AY18,0)>0,AY19+1,AY19) -> #VALUE! | BA19: =IF(ISERROR(AZ19),AY19,AZ19)
A20: S9 | B20: O2 | C20: ='4.校正SWOT方格'!E22 | D20: ='5.SWOT交互項排序'!E22 | E20: =IF(MATCH(D20,D$2:D19,0)>0,D20+1,D20) -> #VALUE! | F20: =IF(ISERROR(E20),D20,E20) | G20: =IF(MATCH(F20,F$2:F19,0)>0,F20+1,F20) -> #VALUE! | H20: =IF(ISERROR(G20),F20,G20) | P20: S9 | Q20: T2 | R20: ='4.校正SWOT方格'!O22 | S20: ='5.SWOT交互項排序'!O22 | T20: =IF(MATCH(S20,S$2:S19,0)>0,S20+1,S20) -> #VALUE! | U20: =IF(ISERROR(T20),S20,T20) | V20: =IF(MATCH(U20,U$2:U19,0)>0,U20+1,U20) -> #VALUE! | W20: =IF(ISERROR(V20),U20,V20) | AE20: W9 | AF20: O2 | AG20: ='4.校正SWOT方格'!E32 | AH20: ='5.SWOT交互項排序'!E32 | AI20: =IF(MATCH(AH20,AH$2:AH19,0)>0,AH20+1,AH20) -> #VALUE! | AJ20: =IF(ISERROR(AI20),AH20,AI20) | AK20: =IF(MATCH(AJ20,AJ$2:AJ19,0)>0,AJ20+1,AJ20) -> #VALUE! | AL20: =IF(ISERROR(AK20),AJ20,AK20) | AT20: W9 | AU20: T2 | AV20: ='4.校正SWOT方格'!O32 | AW20: ='5.SWOT交互項排序'!O32 | AX20: =IF(MATCH(AW20,AW$2:AW19,0)>0,AW20+1,AW20) -> #VALUE! | AY20: =IF(ISERROR(AX20),AW20,AX20) | AZ20: =IF(MATCH(AY20,AY$2:AY19,0)>0,AY20+1,AY20) -> #VALUE! | BA20: =IF(ISERROR(AZ20),AY20,AZ20)
A21: S10 | B21: O2 | C21: ='4.校正SWOT方格'!E23 | D21: ='5.SWOT交互項排序'!E23 | E21: =IF(MATCH(D21,D$2:D20,0)>0,D21+1,D21) -> #VALUE! | F21: =IF(ISERROR(E21),D21,E21) | G21: =IF(MATCH(F21,F$2:F20,0)>0,F21+1,F21) -> #VALUE! | H21: =IF(ISERROR(G21),F21,G21) | P21: S10 | Q21: T2 | R21: ='4.校正SWOT方格'!O23 | S21: ='5.SWOT交互項排序'!O23 | T21: =IF(MATCH(S21,S$2:S20,0)>0,S21+1,S21) -> #VALUE! | U21: =IF(ISERROR(T21),S21,T21) | V21: =IF(MATCH(U21,U$2:U20,0)>0,U21+1,U21) -> #VALUE! | W21: =IF(ISERROR(V21),U21,V21) | AE21: W10 | AF21: O2 | AG21: ='4.校正SWOT方格'!E33 | AH21: ='5.SWOT交互項排序'!E33 | AI21: =IF(MATCH(AH21,AH$2:AH20,0)>0,AH21+1,AH21) -> #VALUE! | AJ21: =IF(ISERROR(AI21),AH21,AI21) | AK21: =IF(MATCH(AJ21,AJ$2:AJ20,0)>0,AJ21+1,AJ21) -> #VALUE! | AL21: =IF(ISERROR(AK21),AJ21,AK21) | AT21: W10 | AU21: T2 | AV21: ='4.校正SWOT方格'!O33 | AW21: ='5.SWOT交互項排序'!O33 | AX21: =IF(MATCH(AW21,AW$2:AW20,0)>0,AW21+1,AW21) -> #VALUE! | AY21: =IF(ISERROR(AX21),AW21,AX21) | AZ21: =IF(MATCH(AY21,AY$2:AY20,0)>0,AY21+1,AY21) -> #VALUE! | BA21: =IF(ISERROR(AZ21),AY21,AZ21)
A22: S1 | B22: O3 | C22: ='4.校正SWOT方格'!F14 -> 4.5 | D22: ='5.SWOT交互項排序'!F14 -> 12 | E22: =IF(MATCH(D22,D$2:D21,0)>0,D22+1,D22) -> #N/A | F22: =IF(ISERROR(E22),D22,E22) -> 12 | G22: =IF(MATCH(F22,F$2:F21,0)>0,F22+1,F22) -> #N/A | H22: =IF(ISERROR(G22),F22,G22) -> 12 | P22: S1 | Q22: T3 | R22: ='4.校正SWOT方格'!P14 -> 4.7434165 | S22: ='5.SWOT交互項排序'!P14 -> 8 | T22: =IF(MATCH(S22,S$2:S21,0)>0,S22+1,S22) -> #N/A | U22: =IF(ISERROR(T22),S22,T22) -> 8 | V22: =IF(MATCH(U22,U$2:U21,0)>0,U22+1,U22) -> #N/A | W22: =IF(ISERROR(V22),U22,V22) -> 8 | AE22: W1 | AF22: O3 | AG22: ='4.校正SWOT方格'!F24 -> 3.6742346 | AH22: ='5.SWOT交互項排序'!F24 -> 16 | AI22: =IF(MATCH(AH22,AH$2:AH21,0)>0,AH22+1,AH22) -> #N/A | AJ22: =IF(ISERROR(AI22),AH22,AI22) -> 16 | AK22: =IF(MATCH(AJ22,AJ$2:AJ21,0)>0,AJ22+1,AJ22) -> #N/A | AL22: =IF(ISERROR(AK22),AJ22,AK22) -> 16 | AT22: W1 | AU22: T3 | AV22: ='4.校正SWOT方格'!P24 -> 3.8729833 | AW22: ='5.SWOT交互項排序'!P24 -> 16 | AX22: =IF(MATCH(AW22,AW$2:AW21,0)>0,AW22+1,AW22) -> #N/A | AY22: =IF(ISERROR(AX22),AW22,AX22) -> 16 | AZ22: =IF(MATCH(AY22,AY$2:AY21,0)>0,AY22+1,AY22) -> #N/A | BA22: =IF(ISERROR(AZ22),AY22,AZ22) -> 16
A23: S2 | B23: O3 | C23: ='4.校正SWOT方格'!F15 -> 4.7434165 | D23: ='5.SWOT交互項排序'!F15 -> 10 | E23: =IF(MATCH(D23,D$2:D22,0)>0,D23+1,D23) -> #N/A | F23: =IF(ISERROR(E23),D23,E23) -> 10 | G23: =IF(MATCH(F23,F$2:F22,0)>0,F23+1,F23) -> #N/A | H23: =IF(ISERROR(G23),F23,G23) -> 10 | P23: S2 | Q23: T3 | R23: ='4.校正SWOT方格'!P15 -> 5 | S23: ='5.SWOT交互項排序'!P15 -> 5 | T23: =IF(MATCH(S23,S$2:S22,0)>0,S23+1,S23) -> #N/A | U23: =IF(ISERROR(T23),S23,T23) -> 5 | V23: =IF(MATCH(U23,U$2:U22,0)>0,U23+1,U23) -> #N/A | W23: =IF(ISERROR(V23),U23,V23) -> 5 | AE23: W2 | AF23: O3 | AG23: ='4.校正SWOT方格'!F25 -> 3.968627 | AH23: ='5.SWOT交互項排序'!F25 -> 14 | AI23: =IF(MATCH(AH23,AH$2:AH22,0)>0,AH23+1,AH23) -> #N/A | AJ23: =IF(ISERROR(AI23),AH23,AI23) -> 14 | AK23: =IF(MATCH(AJ23,AJ$2:AJ22,0)>0,AJ23+1,AJ23) -> #N/A | AL23: =IF(ISERROR(AK23),AJ23,AK23) -> 14 | AT23: W2 | AU23: T3 | AV23: ='4.校正SWOT方格'!P25 -> 4.1833001 | AW23: ='5.SWOT交互項排序'!P25 -> 14 | AX23: =IF(MATCH(AW23,AW$2:AW22,0)>0,AW23+1,AW23) -> #N/A | AY23: =IF(ISERROR(AX23),AW23,AX23) -> 14 | AZ23: =IF(MATCH(AY23,AY$2:AY22,0)>0,AY23+1,AY23) -> #N/A | BA23: =IF(ISERROR(AZ23),AY23,AZ23) -> 14
A24: S3 | B24: O3 | C24: ='4.校正SWOT方格'!F16 -> 3.6742346 | D24: ='5.SWOT交互項排序'!F16 -> 16 | E24: =IF(MATCH(D24,D$2:D23,0)>0,D24+1,D24) -> #N/A | F24: =IF(ISERROR(E24),D24,E24) -> 16 | G24: =IF(MATCH(F24,F$2:F23,0)>0,F24+1,F24) -> #N/A | H24: =IF(ISERROR(G24),F24,G24) -> 16 | P24: S3 | Q24: T3 | R24: ='4.校正SWOT方格'!P16 -> 3.8729833 | S24: ='5.SWOT交互項排序'!P16 -> 18 | T24: =IF(MATCH(S24,S$2:S23,0)>0,S24+1,S24) -> #N/A | U24: =IF(ISERROR(T24),S24,T24) -> 18 | V24: =IF(MATCH(U24,U$2:U23,0)>0,U24+1,U24) -> #N/A | W24: =IF(ISERROR(V24),U24,V24) -> 18 | AE24: W3 | AF24: O3 | AG24: ='4.校正SWOT方格'!F26 -> 4.5 | AH24: ='5.SWOT交互項排序'!F26 -> 9 | AI24: =IF(MATCH(AH24,AH$2:AH23,0)>0,AH24+1,AH24) -> #N/A | AJ24: =IF(ISERROR(AI24),AH24,AI24) -> 9 | AK24: =IF(MATCH(AJ24,AJ$2:AJ23,0)>0,AJ24+1,AJ24) -> #N/A | AL24: =IF(ISERROR(AK24),AJ24,AK24) -> 9 | AT24: W3 | AU24: T3 | AV24: ='4.校正SWOT方格'!P26 -> 4.7434165 | AW24: ='5.SWOT交互項排序'!P26 -> 7 | AX24: =IF(MATCH(AW24,AW$2:AW23,0)>0,AW24+1,AW24) -> #N/A | AY24: =IF(ISERROR(AX24),AW24,AX24) -> 7 | AZ24: =IF(MATCH(AY24,AY$2:AY23,0)>0,AY24+1,AY24) -> #N/A | BA24: =IF(ISERROR(AZ24),AY24,AZ24) -> 7
A25: S4 | B25: O3 | C25: ='4.校正SWOT方格'!F17 -> 4.9749372 | D25: ='5.SWOT交互項排序'!F17 -> 8 | E25: =IF(MATCH(D25,D$2:D24,0)>0,D25+1,D25) -> #N/A | F25: =IF(ISERROR(E25),D25,E25) -> 8 | G25: =IF(MATCH(F25,F$2:F24,0)>0,F25+1,F25) -> #N/A | H25: =IF(ISERROR(G25),F25,G25) -> 8 | P25: S4 | Q25: T3 | R25: ='4.校正SWOT方格'!P17 -> 5.2440442 | S25: ='5.SWOT交互項排序'!P17 -> 2 | T25: =IF(MATCH(S25,S$2:S24,0)>0,S25+1,S25) -> 3 | U25: =IF(ISERROR(T25),S25,T25) -> 3 | V25: =IF(MATCH(U25,U$2:U24,0)>0,U25+1,U25) -> 4 | W25: =IF(ISERROR(V25),U25,V25) -> 4 | AE25: W4 | AF25: O3 | AG25: ='4.校正SWOT方格'!F27 -> 5.1961524 | AH25: ='5.SWOT交互項排序'!F27 -> 5 | AI25: =IF(MATCH(AH25,AH$2:AH24,0)>0,AH25+1,AH25) -> #N/A | AJ25: =IF(ISERROR(AI25),AH25,AI25) -> 5 | AK25: =IF(MATCH(AJ25,AJ$2:AJ24,0)>0,AJ25+1,AJ25) -> #N/A | AL25: =IF(ISERROR(AK25),AJ25,AK25) -> 5 | AT25: W4 | AU25: T3 | AV25: ='4.校正SWOT方格'!P27 -> 5.4772256 | AW25: ='5.SWOT交互項排序'!P27 -> 2 | AX25: =IF(MATCH(AW25,AW$2:AW24,0)>0,AW25+1,AW25) -> #N/A | AY25: =IF(ISERROR(AX25),AW25,AX25) -> 2 | AZ25: =IF(MATCH(AY25,AY$2:AY24,0)>0,AY25+1,AY25) -> #N/A | BA25: =IF(ISERROR(AZ25),AY25,AZ25) -> 2
A26: S5 | B26: O3 | C26: ='4.校正SWOT方格'!F18 -> 4.7434165 | D26: ='5.SWOT交互項排序'!F18 -> 10 | E26: =IF(MATCH(D26,D$2:D25,0)>0,D26+1,D26) -> 11 | F26: =IF(ISERROR(E26),D26,E26) -> 11 | G26: =IF(MATCH(F26,F$2:F25,0)>0,F26+1,F26) -> #N/A | H26: =IF(ISERROR(G26),F26,G26) -> 11 | P26: S5 | Q26: T3 | R26: ='4.校正SWOT方格'!P18 -> 5 | S26: ='5.SWOT交互項排序'!P18 -> 5 | T26: =IF(MATCH(S26,S$2:S25,0)>0,S26+1,S26) -> 6 | U26: =IF(ISERROR(T26),S26,T26) -> 6 | V26: =IF(MATCH(U26,U$2:U25,0)>0,U26+1,U26) -> #N/A | W26: =IF(ISERROR(V26),U26,V26) -> 6 | AE26: W5 | AF26: O3 | AG26: ='4.校正SWOT方格'!F28 -> 4.5 | AH26: ='5.SWOT交互項排序'!F28 -> 9 | AI26: =IF(MATCH(AH26,AH$2:AH25,0)>0,AH26+1,AH26) -> 10 | AJ26: =IF(ISERROR(AI26),AH26,AI26) -> 10 | AK26: =IF(MATCH(AJ26,AJ$2:AJ25,0)>0,AJ26+1,AJ26) -> #N/A | AL26: =IF(ISERROR(AK26),AJ26,AK26) -> 10 | AT26: W5 | AU26: T3 | AV26: ='4.校正SWOT方格'!P28 -> 4.7434165 | AW26: ='5.SWOT交互項排序'!P28 -> 7 | AX26: =IF(MATCH(AW26,AW$2:AW25,0)>0,AW26+1,AW26) -> 8 | AY26: =IF(ISERROR(AX26),AW26,AX26) -> 8 | AZ26: =IF(MATCH(AY26,AY$2:AY25,0)>0,AY26+1,AY26) -> #N/A | BA26: =IF(ISERROR(AZ26),AY26,AZ26) -> 8
A27: S6 | B27: O3 | C27: ='4.校正SWOT方格'!F19 | D27: ='5.SWOT交互項排序'!F19 | E27: =IF(MATCH(D27,D$2:D26,0)>0,D27+1,D27) -> #VALUE! | F27: =IF(ISERROR(E27),D27,E27) | G27: =IF(MATCH(F27,F$2:F26,0)>0,F27+1,F27) -> #VALUE! | H27: =IF(ISERROR(G27),F27,G27) | P27: S6 | Q27: T3 | R27: ='4.校正SWOT方格'!P19 | S27: ='5.SWOT交互項排序'!P19 | T27: =IF(MATCH(S27,S$2:S26,0)>0,S27+1,S27) -> #VALUE! | U27: =IF(ISERROR(T27),S27,T27) | V27: =IF(MATCH(U27,U$2:U26,0)>0,U27+1,U27) -> #VALUE! | W27: =IF(ISERROR(V27),U27,V27) | AE27: W6 | AF27: O3 | AG27: ='4.校正SWOT方格'!F29 | AH27: ='5.SWOT交互項排序'!F29 | AI27: =IF(MATCH(AH27,AH$2:AH26,0)>0,AH27+1,AH27) -> #VALUE! | AJ27: =IF(ISERROR(AI27),AH27,AI27) | AK27: =IF(MATCH(AJ27,AJ$2:AJ26,0)>0,AJ27+1,AJ27) -> #VALUE! | AL27: =IF(ISERROR(AK27),AJ27,AK27) | AT27: W6 | AU27: T3 | AV27: ='4.校正SWOT方格'!P29 | AW27: ='5.SWOT交互項排序'!P29 | AX27: =IF(MATCH(AW27,AW$2:AW26,0)>0,AW27+1,AW27) -> #VALUE! | AY27: =IF(ISERROR(AX27),AW27,AX27) | AZ27: =IF(MATCH(AY27,AY$2:AY26,0)>0,AY27+1,AY27) -> #VALUE! | BA27: =IF(ISERROR(AZ27),AY27,AZ27)
A28: S7 | B28: O3 | C28: ='4.校正SWOT方格'!F20 | D28: ='5.SWOT交互項排序'!F20 | E28: =IF(MATCH(D28,D$2:D27,0)>0,D28+1,D28) -> #VALUE! | F28: =IF(ISERROR(E28),D28,E28) | G28: =IF(MATCH(F28,F$2:F27,0)>0,F28+1,F28) -> #VALUE! | H28: =IF(ISERROR(G28),F28,G28) | P28: S7 | Q28: T3 | R28: ='4.校正SWOT方格'!P20 | S28: ='5.SWOT交互項排序'!P20 | T28: =IF(MATCH(S28,S$2:S27,0)>0,S28+1,S28) -> #VALUE! | U28: =IF(ISERROR(T28),S28,T28) | V28: =IF(MATCH(U28,U$2:U27,0)>0,U28+1,U28) -> #VALUE! | W28: =IF(ISERROR(V28),U28,V28) | AE28: W7 | AF28: O3 | AG28: ='4.校正SWOT方格'!F30 | AH28: ='5.SWOT交互項排序'!F30 | AI28: =IF(MATCH(AH28,AH$2:AH27,0)>0,AH28+1,AH28) -> #VALUE! | AJ28: =IF(ISERROR(AI28),AH28,AI28) | AK28: =IF(MATCH(AJ28,AJ$2:AJ27,0)>0,AJ28+1,AJ28) -> #VALUE! | AL28: =IF(ISERROR(AK28),AJ28,AK28) | AT28: W7 | AU28: T3 | AV28: ='4.校正SWOT方格'!P30 | AW28: ='5.SWOT交互項排序'!P30 | AX28: =IF(MATCH(AW28,AW$2:AW27,0)>0,AW28+1,AW28) -> #VALUE! | AY28: =IF(ISERROR(AX28),AW28,AX28) | AZ28: =IF(MATCH(AY28,AY$2:AY27,0)>0,AY28+1,AY28) -> #VALUE! | BA28: =IF(ISERROR(AZ28),AY28,AZ28)
A29: S8 | B29: O3 | C29: ='4.校正SWOT方格'!F21 | D29: ='5.SWOT交互項排序'!F21 | E29: =IF(MATCH(D29,D$2:D28,0)>0,D29+1,D29) -> #VALUE! | F29: =IF(ISERROR(E29),D29,E29) | G29: =IF(MATCH(F29,F$2:F28,0)>0,F29+1,F29) -> #VALUE! | H29: =IF(ISERROR(G29),F29,G29) | P29: S8 | Q29: T3 | R29: ='4.校正SWOT方格'!P21 | S29: ='5.SWOT交互項排序'!P21 | T29: =IF(MATCH(S29,S$2:S28,0)>0,S29+1,S29) -> #VALUE! | U29: =IF(ISERROR(T29),S29,T29) | V29: =IF(MATCH(U29,U$2:U28,0)>0,U29+1,U29) -> #VALUE! | W29: =IF(ISERROR(V29),U29,V29) | AE29: W8 | AF29: O3 | AG29: ='4.校正SWOT方格'!F31 | AH29: ='5.SWOT交互項排序'!F31 | AI29: =IF(MATCH(AH29,AH$2:AH28,0)>0,AH29+1,AH29) -> #VALUE! | AJ29: =IF(ISERROR(AI29),AH29,AI29) | AK29: =IF(MATCH(AJ29,AJ$2:AJ28,0)>0,AJ29+1,AJ29) -> #VALUE! | AL29: =IF(ISERROR(AK29),AJ29,AK29) | AT29: W8 | AU29: T3 | AV29: ='4.校正SWOT方格'!P31 | AW29: ='5.SWOT交互項排序'!P31 | AX29: =IF(MATCH(AW29,AW$2:AW28,0)>0,AW29+1,AW29) -> #VALUE! | AY29: =IF(ISERROR(AX29),AW29,AX29) | AZ29: =IF(MATCH(AY29,AY$2:AY28,0)>0,AY29+1,AY29) -> #VALUE! | BA29: =IF(ISERROR(AZ29),AY29,AZ29)
A30: S9 | B30: O3 | C30: ='4.校正SWOT方格'!F22 | D30: ='5.SWOT交互項排序'!F22 | E30: =IF(MATCH(D30,D$2:D29,0)>0,D30+1,D30) -> #VALUE! | F30: =IF(ISERROR(E30),D30,E30) | G30: =IF(MATCH(F30,F$2:F29,0)>0,F30+1,F30) -> #VALUE! | H30: =IF(ISERROR(G30),F30,G30) | P30: S9 | Q30: T3 | R30: ='4.校正SWOT方格'!P22 | S30: ='5.SWOT交互項排序'!P22 | T30: =IF(MATCH(S30,S$2:S29,0)>0,S30+1,S30) -> #VALUE! | U30: =IF(ISERROR(T30),S30,T30) | V30: =IF(MATCH(U30,U$2:U29,0)>0,U30+1,U30) -> #VALUE! | W30: =IF(ISERROR(V30),U30,V30) | AE30: W9 | AF30: O3 | AG30: ='4.校正SWOT方格'!F32 | AH30: ='5.SWOT交互項排序'!F32 | AI30: =IF(MATCH(AH30,AH$2:AH29,0)>0,AH30+1,AH30) -> #VALUE! | AJ30: =IF(ISERROR(AI30),AH30,AI30) | AK30: =IF(MATCH(AJ30,AJ$2:AJ29,0)>0,AJ30+1,AJ30) -> #VALUE! | AL30: =IF(ISERROR(AK30),AJ30,AK30) | AT30: W9 | AU30: T3 | AV30: ='4.校正SWOT方格'!P32 | AW30: ='5.SWOT交互項排序'!P32 | AX30: =IF(MATCH(AW30,AW$2:AW29,0)>0,AW30+1,AW30) -> #VALUE! | AY30: =IF(ISERROR(AX30),AW30,AX30) | AZ30: =IF(MATCH(AY30,AY$2:AY29,0)>0,AY30+1,AY30) -> #VALUE! | BA30: =IF(ISERROR(AZ30),AY30,AZ30)
A31: S10 | B31: O3 | C31: ='4.校正SWOT方格'!F23 | D31: ='5.SWOT交互項排序'!F23 | E31: =IF(MATCH(D31,D$2:D30,0)>0,D31+1,D31) -> #VALUE! | F31: =IF(ISERROR(E31),D31,E31) | G31: =IF(MATCH(F31,F$2:F30,0)>0,F31+1,F31) -> #VALUE! | H31: =IF(ISERROR(G31),F31,G31) | P31: S10 | Q31: T3 | R31: ='4.校正SWOT方格'!P23 | S31: ='5.SWOT交互項排序'!P23 | T31: =IF(MATCH(S31,S$2:S30,0)>0,S31+1,S31) -> #VALUE! | U31: =IF(ISERROR(T31),S31,T31) | V31: =IF(MATCH(U31,U$2:U30,0)>0,U31+1,U31) -> #VALUE! | W31: =IF(ISERROR(V31),U31,V31) | AE31: W10 | AF31: O3 | AG31: ='4.校正SWOT方格'!F33 | AH31: ='5.SWOT交互項排序'!F33 | AI31: =IF(MATCH(AH31,AH$2:AH30,0)>0,AH31+1,AH31) -> #VALUE! | AJ31: =IF(ISERROR(AI31),AH31,AI31) | AK31: =IF(MATCH(AJ31,AJ$2:AJ30,0)>0,AJ31+1,AJ31) -> #VALUE! | AL31: =IF(ISERROR(AK31),AJ31,AK31) | AT31: W10 | AU31: T3 | AV31: ='4.校正SWOT方格'!P33 | AW31: ='5.SWOT交互項排序'!P33 | AX31: =IF(MATCH(AW31,AW$2:AW30,0)>0,AW31+1,AW31) -> #VALUE! | AY31: =IF(ISERROR(AX31),AW31,AX31) | AZ31: =IF(MATCH(AY31,AY$2:AY30,0)>0,AY31+1,AY31) -> #VALUE! | BA31: =IF(ISERROR(AZ31),AY31,AZ31)
A32: S1 | B32: O4 | C32: ='4.校正SWOT方格'!G14 -> 4.9749372 | D32: ='5.SWOT交互項排序'!G14 -> 8 | E32: =IF(MATCH(D32,D$2:D31,0)>0,D32+1,D32) -> 9 | F32: =IF(ISERROR(E32),D32,E32) -> 9 | G32: =IF(MATCH(F32,F$2:F31,0)>0,F32+1,F32) -> #N/A | H32: =IF(ISERROR(G32),F32,G32) -> 9 | P32: S1 | Q32: T4 | R32: ='4.校正SWOT方格'!Q14 -> 4.2426407 | S32: ='5.SWOT交互項排序'!Q14 -> 15 | T32: =IF(MATCH(S32,S$2:S31,0)>0,S32+1,S32) -> 16 | U32: =IF(ISERROR(T32),S32,T32) -> 16 | V32: =IF(MATCH(U32,U$2:U31,0)>0,U32+1,U32) -> #N/A | W32: =IF(ISERROR(V32),U32,V32) -> 16 | AE32: W1 | AF32: O4 | AG32: ='4.校正SWOT方格'!G24 -> 4.0620192 | AH32: ='5.SWOT交互項排序'!G24 -> 13 | AI32: =IF(MATCH(AH32,AH$2:AH31,0)>0,AH32+1,AH32) -> #N/A | AJ32: =IF(ISERROR(AI32),AH32,AI32) -> 13 | AK32: =IF(MATCH(AJ32,AJ$2:AJ31,0)>0,AJ32+1,AJ32) -> #N/A | AL32: =IF(ISERROR(AK32),AJ32,AK32) -> 13 | AT32: W1 | AU32: T4 | AV32: ='4.校正SWOT方格'!Q24 -> 3.4641016 | AW32: ='5.SWOT交互項排序'!Q24 -> 19 | AX32: =IF(MATCH(AW32,AW$2:AW31,0)>0,AW32+1,AW32) -> 20 | AY32: =IF(ISERROR(AX32),AW32,AX32) -> 20 | AZ32: =IF(MATCH(AY32,AY$2:AY31,0)>0,AY32+1,AY32) -> #N/A | BA32: =IF(ISERROR(AZ32),AY32,AZ32) -> 20
A33: S2 | B33: O4 | C33: ='4.校正SWOT方格'!G15 -> 5.2440442 | D33: ='5.SWOT交互項排序'!G15 -> 6 | E33: =IF(MATCH(D33,D$2:D32,0)>0,D33+1,D33) -> #N/A | F33: =IF(ISERROR(E33),D33,E33) -> 6 | G33: =IF(MATCH(F33,F$2:F32,0)>0,F33+1,F33) -> #N/A | H33: =IF(ISERROR(G33),F33,G33) -> 6 | P33: S2 | Q33: T4 | R33: ='4.校正SWOT方格'!Q15 -> 4.472136 | S33: ='5.SWOT交互項排序'!Q15 -> 11 | T33: =IF(MATCH(S33,S$2:S32,0)>0,S33+1,S33) -> 12 | U33: =IF(ISERROR(T33),S33,T33) -> 12 | V33: =IF(MATCH(U33,U$2:U32,0)>0,U33+1,U33) -> 13 | W33: =IF(ISERROR(V33),U33,V33) -> 13 | AE33: W2 | AF33: O4 | AG33: ='4.校正SWOT方格'!G25 -> 4.3874822 | AH33: ='5.SWOT交互項排序'!G25 -> 12 | AI33: =IF(MATCH(AH33,AH$2:AH32,0)>0,AH33+1,AH33) -> #N/A | AJ33: =IF(ISERROR(AI33),AH33,AI33) -> 12 | AK33: =IF(MATCH(AJ33,AJ$2:AJ32,0)>0,AJ33+1,AJ33) -> #N/A | AL33: =IF(ISERROR(AK33),AJ33,AK33) -> 12 | AT33: W2 | AU33: T4 | AV33: ='4.校正SWOT方格'!Q25 -> 3.7416574 | AW33: ='5.SWOT交互項排序'!Q25 -> 17 | AX33: =IF(MATCH(AW33,AW$2:AW32,0)>0,AW33+1,AW33) -> 18 | AY33: =IF(ISERROR(AX33),AW33,AX33) -> 18 | AZ33: =IF(MATCH(AY33,AY$2:AY32,0)>0,AY33+1,AY33) -> #N/A | BA33: =IF(ISERROR(AZ33),AY33,AZ33) -> 18
A34: S3 | B34: O4 | C34: ='4.校正SWOT方格'!G16 -> 4.0620192 | D34: ='5.SWOT交互項排序'!G16 -> 14 | E34: =IF(MATCH(D34,D$2:D33,0)>0,D34+1,D34) -> #N/A | F34: =IF(ISERROR(E34),D34,E34) -> 14 | G34: =IF(MATCH(F34,F$2:F33,0)>0,F34+1,F34) -> #N/A | H34: =IF(ISERROR(G34),F34,G34) -> 14 | P34: S3 | Q34: T4 | R34: ='4.校正SWOT方格'!Q16 -> 3.4641016 | S34: ='5.SWOT交互項排序'!Q16 -> 19 | T34: =IF(MATCH(S34,S$2:S33,0)>0,S34+1,S34) -> 20 | U34: =IF(ISERROR(T34),S34,T34) -> 20 | V34: =IF(MATCH(U34,U$2:U33,0)>0,U34+1,U34) -> #N/A | W34: =IF(ISERROR(V34),U34,V34) -> 20 | AE34: W3 | AF34: O4 | AG34: ='4.校正SWOT方格'!G26 -> 4.9749372 | AH34: ='5.SWOT交互項排序'!G26 -> 6 | AI34: =IF(MATCH(AH34,AH$2:AH33,0)>0,AH34+1,AH34) -> #N/A | AJ34: =IF(ISERROR(AI34),AH34,AI34) -> 6 | AK34: =IF(MATCH(AJ34,AJ$2:AJ33,0)>0,AJ34+1,AJ34) -> #N/A | AL34: =IF(ISERROR(AK34),AJ34,AK34) -> 6 | AT34: W3 | AU34: T4 | AV34: ='4.校正SWOT方格'!Q26 -> 4.2426407 | AW34: ='5.SWOT交互項排序'!Q26 -> 10 | AX34: =IF(MATCH(AW34,AW$2:AW33,0)>0,AW34+1,AW34) -> 11 | AY34: =IF(ISERROR(AX34),AW34,AX34) -> 11 | AZ34: =IF(MATCH(AY34,AY$2:AY33,0)>0,AY34+1,AY34) -> 12 | BA34: =IF(ISERROR(AZ34),AY34,AZ34) -> 12
A35: S4 | B35: O4 | C35: ='4.校正SWOT方格'!G17 -> 5.5 | D35: ='5.SWOT交互項排序'!G17 -> 4 | E35: =IF(MATCH(D35,D$2:D34,0)>0,D35+1,D35) -> #N/A | F35: =IF(ISERROR(E35),D35,E35) -> 4 | G35: =IF(MATCH(F35,F$2:F34,0)>0,F35+1,F35) -> #N/A | H35: =IF(ISERROR(G35),F35,G35) -> 4 | P35: S4 | Q35: T4 | R35: ='4.校正SWOT方格'!Q17 -> 4.6904158 | S35: ='5.SWOT交互項排序'!Q17 -> 9 | T35: =IF(MATCH(S35,S$2:S34,0)>0,S35+1,S35) -> 10 | U35: =IF(ISERROR(T35),S35,T35) -> 10 | V35: =IF(MATCH(U35,U$2:U34,0)>0,U35+1,U35) -> #N/A | W35: =IF(ISERROR(V35),U35,V35) -> 10 | AE35: W4 | AF35: O4 | AG35: ='4.校正SWOT方格'!G27 -> 5.7445626 | AH35: ='5.SWOT交互項排序'!G27 -> 2 | AI35: =IF(MATCH(AH35,AH$2:AH34,0)>0,AH35+1,AH35) -> #N/A | AJ35: =IF(ISERROR(AI35),AH35,AI35) -> 2 | AK35: =IF(MATCH(AJ35,AJ$2:AJ34,0)>0,AJ35+1,AJ35) -> #N/A | AL35: =IF(ISERROR(AK35),AJ35,AK35) -> 2 | AT35: W4 | AU35: T4 | AV35: ='4.校正SWOT方格'!Q27 -> 4.8989795 | AW35: ='5.SWOT交互項排序'!Q27 -> 5 | AX35: =IF(MATCH(AW35,AW$2:AW34,0)>0,AW35+1,AW35) -> 6 | AY35: =IF(ISERROR(AX35),AW35,AX35) -> 6 | AZ35: =IF(MATCH(AY35,AY$2:AY34,0)>0,AY35+1,AY35) -> #N/A | BA35: =IF(ISERROR(AZ35),AY35,AZ35) -> 6
A36: S5 | B36: O4 | C36: ='4.校正SWOT方格'!G18 -> 5.2440442 | D36: ='5.SWOT交互項排序'!G18 -> 6 | E36: =IF(MATCH(D36,D$2:D35,0)>0,D36+1,D36) -> 7 | F36: =IF(ISERROR(E36),D36,E36) -> 7 | G36: =IF(MATCH(F36,F$2:F35,0)>0,F36+1,F36) -> #N/A | H36: =IF(ISERROR(G36),F36,G36) -> 7 | P36: S5 | Q36: T4 | R36: ='4.校正SWOT方格'!Q18 -> 4.472136 | S36: ='5.SWOT交互項排序'!Q18 -> 11 | T36: =IF(MATCH(S36,S$2:S35,0)>0,S36+1,S36) -> 12 | U36: =IF(ISERROR(T36),S36,T36) -> 12 | V36: =IF(MATCH(U36,U$2:U35,0)>0,U36+1,U36) -> 13 | W36: =IF(ISERROR(V36),U36,V36) -> 13 | AE36: W5 | AF36: O4 | AG36: ='4.校正SWOT方格'!G28 -> 4.9749372 | AH36: ='5.SWOT交互項排序'!G28 -> 6 | AI36: =IF(MATCH(AH36,AH$2:AH35,0)>0,AH36+1,AH36) -> 7 | AJ36: =IF(ISERROR(AI36),AH36,AI36) -> 7 | AK36: =IF(MATCH(AJ36,AJ$2:AJ35,0)>0,AJ36+1,AJ36) -> #N/A | AL36: =IF(ISERROR(AK36),AJ36,AK36) -> 7 | AT36: W5 | AU36: T4 | AV36: ='4.校正SWOT方格'!Q28 -> 4.2426407 | AW36: ='5.SWOT交互項排序'!Q28 -> 10 | AX36: =IF(MATCH(AW36,AW$2:AW35,0)>0,AW36+1,AW36) -> 11 | AY36: =IF(ISERROR(AX36),AW36,AX36) -> 11 | AZ36: =IF(MATCH(AY36,AY$2:AY35,0)>0,AY36+1,AY36) -> 12 | BA36: =IF(ISERROR(AZ36),AY36,AZ36) -> 12
A37: S6 | B37: O4 | C37: ='4.校正SWOT方格'!G19 | D37: ='5.SWOT交互項排序'!G19 | E37: =IF(MATCH(D37,D$2:D36,0)>0,D37+1,D37) -> #VALUE! | F37: =IF(ISERROR(E37),D37,E37) | G37: =IF(MATCH(F37,F$2:F36,0)>0,F37+1,F37) -> #VALUE! | H37: =IF(ISERROR(G37),F37,G37) | P37: S6 | Q37: T4 | R37: ='4.校正SWOT方格'!Q19 | S37: ='5.SWOT交互項排序'!Q19 | T37: =IF(MATCH(S37,S$2:S36,0)>0,S37+1,S37) -> #VALUE! | U37: =IF(ISERROR(T37),S37,T37) | V37: =IF(MATCH(U37,U$2:U36,0)>0,U37+1,U37) -> #VALUE! | W37: =IF(ISERROR(V37),U37,V37) | AE37: W6 | AF37: O4 | AG37: ='4.校正SWOT方格'!G29 | AH37: ='5.SWOT交互項排序'!G29 | AI37: =IF(MATCH(AH37,AH$2:AH36,0)>0,AH37+1,AH37) -> #VALUE! | AJ37: =IF(ISERROR(AI37),AH37,AI37) | AK37: =IF(MATCH(AJ37,AJ$2:AJ36,0)>0,AJ37+1,AJ37) -> #VALUE! | AL37: =IF(ISERROR(AK37),AJ37,AK37) | AT37: W6 | AU37: T4 | AV37: ='4.校正SWOT方格'!Q29 | AW37: ='5.SWOT交互項排序'!Q29 | AX37: =IF(MATCH(AW37,AW$2:AW36,0)>0,AW37+1,AW37) -> #VALUE! | AY37: =IF(ISERROR(AX37),AW37,AX37) | AZ37: =IF(MATCH(AY37,AY$2:AY36,0)>0,AY37+1,AY37) -> #VALUE! | BA37: =IF(ISERROR(AZ37),AY37,AZ37)
A38: S7 | B38: O4 | C38: ='4.校正SWOT方格'!G20 | D38: ='5.SWOT交互項排序'!G20 | E38: =IF(MATCH(D38,D$2:D37,0)>0,D38+1,D38) -> #VALUE! | F38: =IF(ISERROR(E38),D38,E38) | G38: =IF(MATCH(F38,F$2:F37,0)>0,F38+1,F38) -> #VALUE! | H38: =IF(ISERROR(G38),F38,G38) | P38: S7 | Q38: T4 | R38: ='4.校正SWOT方格'!Q20 | S38: ='5.SWOT交互項排序'!Q20 | T38: =IF(MATCH(S38,S$2:S37,0)>0,S38+1,S38) -> #VALUE! | U38: =IF(ISERROR(T38),S38,T38) | V38: =IF(MATCH(U38,U$2:U37,0)>0,U38+1,U38) -> #VALUE! | W38: =IF(ISERROR(V38),U38,V38) | AE38: W7 | AF38: O4 | AG38: ='4.校正SWOT方格'!G30 | AH38: ='5.SWOT交互項排序'!G30 | AI38: =IF(MATCH(AH38,AH$2:AH37,0)>0,AH38+1,AH38) -> #VALUE! | AJ38: =IF(ISERROR(AI38),AH38,AI38) | AK38: =IF(MATCH(AJ38,AJ$2:AJ37,0)>0,AJ38+1,AJ38) -> #VALUE! | AL38: =IF(ISERROR(AK38),AJ38,AK38) | AT38: W7 | AU38: T4 | AV38: ='4.校正SWOT方格'!Q30 | AW38: ='5.SWOT交互項排序'!Q30 | AX38: =IF(MATCH(AW38,AW$2:AW37,0)>0,AW38+1,AW38) -> #VALUE! | AY38: =IF(ISERROR(AX38),AW38,AX38) | AZ38: =IF(MATCH(AY38,AY$2:AY37,0)>0,AY38+1,AY38) -> #VALUE! | BA38: =IF(ISERROR(AZ38),AY38,AZ38)
A39: S8 | B39: O4 | C39: ='4.校正SWOT方格'!G21 | D39: ='5.SWOT交互項排序'!G21 | E39: =IF(MATCH(D39,D$2:D38,0)>0,D39+1,D39) -> #VALUE! | F39: =IF(ISERROR(E39),D39,E39) | G39: =IF(MATCH(F39,F$2:F38,0)>0,F39+1,F39) -> #VALUE! | H39: =IF(ISERROR(G39),F39,G39) | P39: S8 | Q39: T4 | R39: ='4.校正SWOT方格'!Q21 | S39: ='5.SWOT交互項排序'!Q21 | T39: =IF(MATCH(S39,S$2:S38,0)>0,S39+1,S39) -> #VALUE! | U39: =IF(ISERROR(T39),S39,T39) | V39: =IF(MATCH(U39,U$2:U38,0)>0,U39+1,U39) -> #VALUE! | W39: =IF(ISERROR(V39),U39,V39) | AE39: W8 | AF39: O4 | AG39: ='4.校正SWOT方格'!G31 | AH39: ='5.SWOT交互項排序'!G31 | AI39: =IF(MATCH(AH39,AH$2:AH38,0)>0,AH39+1,AH39) -> #VALUE! | AJ39: =IF(ISERROR(AI39),AH39,AI39) | AK39: =IF(MATCH(AJ39,AJ$2:AJ38,0)>0,AJ39+1,AJ39) -> #VALUE! | AL39: =IF(ISERROR(AK39),AJ39,AK39) | AT39: W8 | AU39: T4 | AV39: ='4.校正SWOT方格'!Q31 | AW39: ='5.SWOT交互項排序'!Q31 | AX39: =IF(MATCH(AW39,AW$2:AW38,0)>0,AW39+1,AW39) -> #VALUE! | AY39: =IF(ISERROR(AX39),AW39,AX39) | AZ39: =IF(MATCH(AY39,AY$2:AY38,0)>0,AY39+1,AY39) -> #VALUE! | BA39: =IF(ISERROR(AZ39),AY39,AZ39)
A40: S9 | B40: O4 | C40: ='4.校正SWOT方格'!G22 | D40: ='5.SWOT交互項排序'!G22 | E40: =IF(MATCH(D40,D$2:D39,0)>0,D40+1,D40) -> #VALUE! | F40: =IF(ISERROR(E40),D40,E40) | G40: =IF(MATCH(F40,F$2:F39,0)>0,F40+1,F40) -> #VALUE! | H40: =IF(ISERROR(G40),F40,G40) | P40: S9 | Q40: T4 | R40: ='4.校正SWOT方格'!Q22 | S40: ='5.SWOT交互項排序'!Q22 | T40: =IF(MATCH(S40,S$2:S39,0)>0,S40+1,S40) -> #VALUE! | U40: =IF(ISERROR(T40),S40,T40) | V40: =IF(MATCH(U40,U$2:U39,0)>0,U40+1,U40) -> #VALUE! | W40: =IF(ISERROR(V40),U40,V40) | AE40: W9 | AF40: O4 | AG40: ='4.校正SWOT方格'!G32 | AH40: ='5.SWOT交互項排序'!G32 | AI40: =IF(MATCH(AH40,AH$2:AH39,0)>0,AH40+1,AH40) -> #VALUE! | AJ40: =IF(ISERROR(AI40),AH40,AI40) | AK40: =IF(MATCH(AJ40,AJ$2:AJ39,0)>0,AJ40+1,AJ40) -> #VALUE! | AL40: =IF(ISERROR(AK40),AJ40,AK40) | AT40: W9 | AU40: T4 | AV40: ='4.校正SWOT方格'!Q32 | AW40: ='5.SWOT交互項排序'!Q32 | AX40: =IF(MATCH(AW40,AW$2:AW39,0)>0,AW40+1,AW40) -> #VALUE! | AY40: =IF(ISERROR(AX40),AW40,AX40) | AZ40: =IF(MATCH(AY40,AY$2:AY39,0)>0,AY40+1,AY40) -> #VALUE! | BA40: =IF(ISERROR(AZ40),AY40,AZ40)
A41: S10 | B41: O4 | C41: ='4.校正SWOT方格'!G23 | D41: ='5.SWOT交互項排序'!G23 | E41: =IF(MATCH(D41,D$2:D40,0)>0,D41+1,D41) -> #VALUE! | F41: =IF(ISERROR(E41),D41,E41) | G41: =IF(MATCH(F41,F$2:F40,0)>0,F41+1,F41) -> #VALUE! | H41: =IF(ISERROR(G41),F41,G41) | P41: S10 | Q41: T4 | R41: ='4.校正SWOT方格'!Q23 | S41: ='5.SWOT交互項排序'!Q23 | T41: =IF(MATCH(S41,S$2:S40,0)>0,S41+1,S41) -> #VALUE! | U41: =IF(ISERROR(T41),S41,T41) | V41: =IF(MATCH(U41,U$2:U40,0)>0,U41+1,U41) -> #VALUE! | W41: =IF(ISERROR(V41),U41,V41) | AE41: W10 | AF41: O4 | AG41: ='4.校正SWOT方格'!G33 | AH41: ='5.SWOT交互項排序'!G33 | AI41: =IF(MATCH(AH41,AH$2:AH40,0)>0,AH41+1,AH41) -> #VALUE! | AJ41: =IF(ISERROR(AI41),AH41,AI41) | AK41: =IF(MATCH(AJ41,AJ$2:AJ40,0)>0,AJ41+1,AJ41) -> #VALUE! | AL41: =IF(ISERROR(AK41),AJ41,AK41) | AT41: W10 | AU41: T4 | AV41: ='4.校正SWOT方格'!Q33 | AW41: ='5.SWOT交互項排序'!Q33 | AX41: =IF(MATCH(AW41,AW$2:AW40,0)>0,AW41+1,AW41) -> #VALUE! | AY41: =IF(ISERROR(AX41),AW41,AX41) | AZ41: =IF(MATCH(AY41,AY$2:AY40,0)>0,AY41+1,AY41) -> #VALUE! | BA41: =IF(ISERROR(AZ41),AY41,AZ41)
A42: S1 | B42: O5 | C42: ='4.校正SWOT方格'!H14 -> 3 | D42: ='5.SWOT交互項排序'!H14 -> 23 | E42: =IF(MATCH(D42,D$2:D41,0)>0,D42+1,D42) -> #N/A | F42: =IF(ISERROR(E42),D42,E42) -> 23 | G42: =IF(MATCH(F42,F$2:F41,0)>0,F42+1,F42) -> #N/A | H42: =IF(ISERROR(G42),F42,G42) -> 23 | P42: S1 | Q42: T5 | R42: ='4.校正SWOT方格'!R14 | S42: ='5.SWOT交互項排序'!R14 | T42: =IF(MATCH(S42,S$2:S41,0)>0,S42+1,S42) -> #VALUE! | U42: =IF(ISERROR(T42),S42,T42) | V42: =IF(MATCH(U42,U$2:U41,0)>0,U42+1,U42) -> #VALUE! | W42: =IF(ISERROR(V42),U42,V42) | AE42: W1 | AF42: O5 | AG42: ='4.校正SWOT方格'!H24 -> 2.4494897 | AH42: ='5.SWOT交互項排序'!H24 -> 25 | AI42: =IF(MATCH(AH42,AH$2:AH41,0)>0,AH42+1,AH42) -> #N/A | AJ42: =IF(ISERROR(AI42),AH42,AI42) -> 25 | AK42: =IF(MATCH(AJ42,AJ$2:AJ41,0)>0,AJ42+1,AJ42) -> #N/A | AL42: =IF(ISERROR(AK42),AJ42,AK42) -> 25 | AT42: W1 | AU42: T5 | AV42: ='4.校正SWOT方格'!R24 | AW42: ='5.SWOT交互項排序'!R24 | AX42: =IF(MATCH(AW42,AW$2:AW41,0)>0,AW42+1,AW42) -> #VALUE! | AY42: =IF(ISERROR(AX42),AW42,AX42) | AZ42: =IF(MATCH(AY42,AY$2:AY41,0)>0,AY42+1,AY42) -> #VALUE! | BA42: =IF(ISERROR(AZ42),AY42,AZ42)
A43: S2 | B43: O5 | C43: ='4.校正SWOT方格'!H15 -> 3.1622777 | D43: ='5.SWOT交互項排序'!H15 -> 21 | E43: =IF(MATCH(D43,D$2:D42,0)>0,D43+1,D43) -> #N/A | F43: =IF(ISERROR(E43),D43,E43) -> 21 | G43: =IF(MATCH(F43,F$2:F42,0)>0,F43+1,F43) -> #N/A | H43: =IF(ISERROR(G43),F43,G43) -> 21 | P43: S2 | Q43: T5 | R43: ='4.校正SWOT方格'!R15 | S43: ='5.SWOT交互項排序'!R15 | T43: =IF(MATCH(S43,S$2:S42,0)>0,S43+1,S43) -> #VALUE! | U43: =IF(ISERROR(T43),S43,T43) | V43: =IF(MATCH(U43,U$2:U42,0)>0,U43+1,U43) -> #VALUE! | W43: =IF(ISERROR(V43),U43,V43) | AE43: W2 | AF43: O5 | AG43: ='4.校正SWOT方格'!H25 -> 2.6457513 | AH43: ='5.SWOT交互項排序'!H25 -> 24 | AI43: =IF(MATCH(AH43,AH$2:AH42,0)>0,AH43+1,AH43) -> #N/A | AJ43: =IF(ISERROR(AI43),AH43,AI43) -> 24 | AK43: =IF(MATCH(AJ43,AJ$2:AJ42,0)>0,AJ43+1,AJ43) -> #N/A | AL43: =IF(ISERROR(AK43),AJ43,AK43) -> 24 | AT43: W2 | AU43: T5 | AV43: ='4.校正SWOT方格'!R25 | AW43: ='5.SWOT交互項排序'!R25 | AX43: =IF(MATCH(AW43,AW$2:AW42,0)>0,AW43+1,AW43) -> #VALUE! | AY43: =IF(ISERROR(AX43),AW43,AX43) | AZ43: =IF(MATCH(AY43,AY$2:AY42,0)>0,AY43+1,AY43) -> #VALUE! | BA43: =IF(ISERROR(AZ43),AY43,AZ43)
A44: S3 | B44: O5 | C44: ='4.校正SWOT方格'!H16 -> 2.4494897 | D44: ='5.SWOT交互項排序'!H16 -> 25 | E44: =IF(MATCH(D44,D$2:D43,0)>0,D44+1,D44) -> #N/A | F44: =IF(ISERROR(E44),D44,E44) -> 25 | G44: =IF(MATCH(F44,F$2:F43,0)>0,F44+1,F44) -> #N/A | H44: =IF(ISERROR(G44),F44,G44) -> 25 | P44: S3 | Q44: T5 | R44: ='4.校正SWOT方格'!R16 | S44: ='5.SWOT交互項排序'!R16 | T44: =IF(MATCH(S44,S$2:S43,0)>0,S44+1,S44) -> #VALUE! | U44: =IF(ISERROR(T44),S44,T44) | V44: =IF(MATCH(U44,U$2:U43,0)>0,U44+1,U44) -> #VALUE! | W44: =IF(ISERROR(V44),U44,V44) | AE44: W3 | AF44: O5 | AG44: ='4.校正SWOT方格'!H26 -> 3 | AH44: ='5.SWOT交互項排序'!H26 -> 20 | AI44: =IF(MATCH(AH44,AH$2:AH43,0)>0,AH44+1,AH44) -> #N/A | AJ44: =IF(ISERROR(AI44),AH44,AI44) -> 20 | AK44: =IF(MATCH(AJ44,AJ$2:AJ43,0)>0,AJ44+1,AJ44) -> #N/A | AL44: =IF(ISERROR(AK44),AJ44,AK44) -> 20 | AT44: W3 | AU44: T5 | AV44: ='4.校正SWOT方格'!R26 | AW44: ='5.SWOT交互項排序'!R26 | AX44: =IF(MATCH(AW44,AW$2:AW43,0)>0,AW44+1,AW44) -> #VALUE! | AY44: =IF(ISERROR(AX44),AW44,AX44) | AZ44: =IF(MATCH(AY44,AY$2:AY43,0)>0,AY44+1,AY44) -> #VALUE! | BA44: =IF(ISERROR(AZ44),AY44,AZ44)
A45: S4 | B45: O5 | C45: ='4.校正SWOT方格'!H17 -> 3.3166248 | D45: ='5.SWOT交互項排序'!H17 -> 20 | E45: =IF(MATCH(D45,D$2:D44,0)>0,D45+1,D45) -> #N/A | F45: =IF(ISERROR(E45),D45,E45) -> 20 | G45: =IF(MATCH(F45,F$2:F44,0)>0,F45+1,F45) -> #N/A | H45: =IF(ISERROR(G45),F45,G45) -> 20 | P45: S4 | Q45: T5 | R45: ='4.校正SWOT方格'!R17 | S45: ='5.SWOT交互項排序'!R17 | T45: =IF(MATCH(S45,S$2:S44,0)>0,S45+1,S45) -> #VALUE! | U45: =IF(ISERROR(T45),S45,T45) | V45: =IF(MATCH(U45,U$2:U44,0)>0,U45+1,U45) -> #VALUE! | W45: =IF(ISERROR(V45),U45,V45) | AE45: W4 | AF45: O5 | AG45: ='4.校正SWOT方格'!H27 -> 3.4641016 | AH45: ='5.SWOT交互項排序'!H27 -> 17 | AI45: =IF(MATCH(AH45,AH$2:AH44,0)>0,AH45+1,AH45) -> #N/A | AJ45: =IF(ISERROR(AI45),AH45,AI45) -> 17 | AK45: =IF(MATCH(AJ45,AJ$2:AJ44,0)>0,AJ45+1,AJ45) -> #N/A | AL45: =IF(ISERROR(AK45),AJ45,AK45) -> 17 | AT45: W4 | AU45: T5 | AV45: ='4.校正SWOT方格'!R27 | AW45: ='5.SWOT交互項排序'!R27 | AX45: =IF(MATCH(AW45,AW$2:AW44,0)>0,AW45+1,AW45) -> #VALUE! | AY45: =IF(ISERROR(AX45),AW45,AX45) | AZ45: =IF(MATCH(AY45,AY$2:AY44,0)>0,AY45+1,AY45) -> #VALUE! | BA45: =IF(ISERROR(AZ45),AY45,AZ45)
A46: S5 | B46: O5 | C46: ='4.校正SWOT方格'!H18 -> 3.1622777 | D46: ='5.SWOT交互項排序'!H18 -> 21 | E46: =IF(MATCH(D46,D$2:D45,0)>0,D46+1,D46) -> 22 | F46: =IF(ISERROR(E46),D46,E46) -> 22 | G46: =IF(MATCH(F46,F$2:F45,0)>0,F46+1,F46) -> #N/A | H46: =IF(ISERROR(G46),F46,G46) -> 22 | P46: S5 | Q46: T5 | R46: ='4.校正SWOT方格'!R18 | S46: ='5.SWOT交互項排序'!R18 | T46: =IF(MATCH(S46,S$2:S45,0)>0,S46+1,S46) -> #VALUE! | U46: =IF(ISERROR(T46),S46,T46) | V46: =IF(MATCH(U46,U$2:U45,0)>0,U46+1,U46) -> #VALUE! | W46: =IF(ISERROR(V46),U46,V46) | AE46: W5 | AF46: O5 | AG46: ='4.校正SWOT方格'!H28 -> 3 | AH46: ='5.SWOT交互項排序'!H28 -> 20 | AI46: =IF(MATCH(AH46,AH$2:AH45,0)>0,AH46+1,AH46) -> 21 | AJ46: =IF(ISERROR(AI46),AH46,AI46) -> 21 | AK46: =IF(MATCH(AJ46,AJ$2:AJ45,0)>0,AJ46+1,AJ46) -> #N/A | AL46: =IF(ISERROR(AK46),AJ46,AK46) -> 21 | AT46: W5 | AU46: T5 | AV46: ='4.校正SWOT方格'!R28 | AW46: ='5.SWOT交互項排序'!R28 | AX46: =IF(MATCH(AW46,AW$2:AW45,0)>0,AW46+1,AW46) -> #VALUE! | AY46: =IF(ISERROR(AX46),AW46,AX46) | AZ46: =IF(MATCH(AY46,AY$2:AY45,0)>0,AY46+1,AY46) -> #VALUE! | BA46: =IF(ISERROR(AZ46),AY46,AZ46)
A47: S6 | B47: O5 | C47: ='4.校正SWOT方格'!H19 | D47: ='5.SWOT交互項排序'!H19 | E47: =IF(MATCH(D47,D$2:D46,0)>0,D47+1,D47) -> #VALUE! | F47: =IF(ISERROR(E47),D47,E47) | G47: =IF(MATCH(F47,F$2:F46,0)>0,F47+1,F47) -> #VALUE! | H47: =IF(ISERROR(G47),F47,G47) | P47: S6 | Q47: T5 | R47: ='4.校正SWOT方格'!R19 | S47: ='5.SWOT交互項排序'!R19 | T47: =IF(MATCH(S47,S$2:S46,0)>0,S47+1,S47) -> #VALUE! | U47: =IF(ISERROR(T47),S47,T47) | V47: =IF(MATCH(U47,U$2:U46,0)>0,U47+1,U47) -> #VALUE! | W47: =IF(ISERROR(V47),U47,V47) | AE47: W6 | AF47: O5 | AG47: ='4.校正SWOT方格'!H29 | AH47: ='5.SWOT交互項排序'!H29 | AI47: =IF(MATCH(AH47,AH$2:AH46,0)>0,AH47+1,AH47) -> #VALUE! | AJ47: =IF(ISERROR(AI47),AH47,AI47) | AK47: =IF(MATCH(AJ47,AJ$2:AJ46,0)>0,AJ47+1,AJ47) -> #VALUE! | AL47: =IF(ISERROR(AK47),AJ47,AK47) | AT47: W6 | AU47: T5 | AV47: ='4.校正SWOT方格'!R29 | AW47: ='5.SWOT交互項排序'!R29 | AX47: =IF(MATCH(AW47,AW$2:AW46,0)>0,AW47+1,AW47) -> #VALUE! | AY47: =IF(ISERROR(AX47),AW47,AX47) | AZ47: =IF(MATCH(AY47,AY$2:AY46,0)>0,AY47+1,AY47) -> #VALUE! | BA47: =IF(ISERROR(AZ47),AY47,AZ47)
A48: S7 | B48: O5 | C48: ='4.校正SWOT方格'!H20 | D48: ='5.SWOT交互項排序'!H20 | E48: =IF(MATCH(D48,D$2:D47,0)>0,D48+1,D48) -> #VALUE! | F48: =IF(ISERROR(E48),D48,E48) | G48: =IF(MATCH(F48,F$2:F47,0)>0,F48+1,F48) -> #VALUE! | H48: =IF(ISERROR(G48),F48,G48) | P48: S7 | Q48: T5 | R48: ='4.校正SWOT方格'!R20 | S48: ='5.SWOT交互項排序'!R20 | T48: =IF(MATCH(S48,S$2:S47,0)>0,S48+1,S48) -> #VALUE! | U48: =IF(ISERROR(T48),S48,T48) | V48: =IF(MATCH(U48,U$2:U47,0)>0,U48+1,U48) -> #VALUE! | W48: =IF(ISERROR(V48),U48,V48) | AE48: W7 | AF48: O5 | AG48: ='4.校正SWOT方格'!H30 | AH48: ='5.SWOT交互項排序'!H30 | AI48: =IF(MATCH(AH48,AH$2:AH47,0)>0,AH48+1,AH48) -> #VALUE! | AJ48: =IF(ISERROR(AI48),AH48,AI48) | AK48: =IF(MATCH(AJ48,AJ$2:AJ47,0)>0,AJ48+1,AJ48) -> #VALUE! | AL48: =IF(ISERROR(AK48),AJ48,AK48) | AT48: W7 | AU48: T5 | AV48: ='4.校正SWOT方格'!R30 | AW48: ='5.SWOT交互項排序'!R30 | AX48: =IF(MATCH(AW48,AW$2:AW47,0)>0,AW48+1,AW48) -> #VALUE! | AY48: =IF(ISERROR(AX48),AW48,AX48) | AZ48: =IF(MATCH(AY48,AY$2:AY47,0)>0,AY48+1,AY48) -> #VALUE! | BA48: =IF(ISERROR(AZ48),AY48,AZ48)
A49: S8 | B49: O5 | C49: ='4.校正SWOT方格'!H21 | D49: ='5.SWOT交互項排序'!H21 | E49: =IF(MATCH(D49,D$2:D48,0)>0,D49+1,D49) -> #VALUE! | F49: =IF(ISERROR(E49),D49,E49) | G49: =IF(MATCH(F49,F$2:F48,0)>0,F49+1,F49) -> #VALUE! | H49: =IF(ISERROR(G49),F49,G49) | P49: S8 | Q49: T5 | R49: ='4.校正SWOT方格'!R21 | S49: ='5.SWOT交互項排序'!R21 | T49: =IF(MATCH(S49,S$2:S48,0)>0,S49+1,S49) -> #VALUE! | U49: =IF(ISERROR(T49),S49,T49) | V49: =IF(MATCH(U49,U$2:U48,0)>0,U49+1,U49) -> #VALUE! | W49: =IF(ISERROR(V49),U49,V49) | AE49: W8 | AF49: O5 | AG49: ='4.校正SWOT方格'!H31 | AH49: ='5.SWOT交互項排序'!H31 | AI49: =IF(MATCH(AH49,AH$2:AH48,0)>0,AH49+1,AH49) -> #VALUE! | AJ49: =IF(ISERROR(AI49),AH49,AI49) | AK49: =IF(MATCH(AJ49,AJ$2:AJ48,0)>0,AJ49+1,AJ49) -> #VALUE! | AL49: =IF(ISERROR(AK49),AJ49,AK49) | AT49: W8 | AU49: T5 | AV49: ='4.校正SWOT方格'!R31 | AW49: ='5.SWOT交互項排序'!R31 | AX49: =IF(MATCH(AW49,AW$2:AW48,0)>0,AW49+1,AW49) -> #VALUE! | AY49: =IF(ISERROR(AX49),AW49,AX49) | AZ49: =IF(MATCH(AY49,AY$2:AY48,0)>0,AY49+1,AY49) -> #VALUE! | BA49: =IF(ISERROR(AZ49),AY49,AZ49)
A50: S9 | B50: O5 | C50: ='4.校正SWOT方格'!H22 | D50: ='5.SWOT交互項排序'!H22 | E50: =IF(MATCH(D50,D$2:D49,0)>0,D50+1,D50) -> #VALUE! | F50: =IF(ISERROR(E50),D50,E50) | G50: =IF(MATCH(F50,F$2:F49,0)>0,F50+1,F50) -> #VALUE! | H50: =IF(ISERROR(G50),F50,G50) | P50: S9 | Q50: T5 | R50: ='4.校正SWOT方格'!R22 | S50: ='5.SWOT交互項排序'!R22 | T50: =IF(MATCH(S50,S$2:S49,0)>0,S50+1,S50) -> #VALUE! | U50: =IF(ISERROR(T50),S50,T50) | V50: =IF(MATCH(U50,U$2:U49,0)>0,U50+1,U50) -> #VALUE! | W50: =IF(ISERROR(V50),U50,V50) | AE50: W9 | AF50: O5 | AG50: ='4.校正SWOT方格'!H32 | AH50: ='5.SWOT交互項排序'!H32 | AI50: =IF(MATCH(AH50,AH$2:AH49,0)>0,AH50+1,AH50) -> #VALUE! | AJ50: =IF(ISERROR(AI50),AH50,AI50) | AK50: =IF(MATCH(AJ50,AJ$2:AJ49,0)>0,AJ50+1,AJ50) -> #VALUE! | AL50: =IF(ISERROR(AK50),AJ50,AK50) | AT50: W9 | AU50: T5 | AV50: ='4.校正SWOT方格'!R32 | AW50: ='5.SWOT交互項排序'!R32 | AX50: =IF(MATCH(AW50,AW$2:AW49,0)>0,AW50+1,AW50) -> #VALUE! | AY50: =IF(ISERROR(AX50),AW50,AX50) | AZ50: =IF(MATCH(AY50,AY$2:AY49,0)>0,AY50+1,AY50) -> #VALUE! | BA50: =IF(ISERROR(AZ50),AY50,AZ50)
A51: S10 | B51: O5 | C51: ='4.校正SWOT方格'!H23 | D51: ='5.SWOT交互項排序'!H23 | E51: =IF(MATCH(D51,D$2:D50,0)>0,D51+1,D51) -> #VALUE! | F51: =IF(ISERROR(E51),D51,E51) | G51: =IF(MATCH(F51,F$2:F50,0)>0,F51+1,F51) -> #VALUE! | H51: =IF(ISERROR(G51),F51,G51) | P51: S10 | Q51: T5 | R51: ='4.校正SWOT方格'!R23 | S51: ='5.SWOT交互項排序'!R23 | T51: =IF(MATCH(S51,S$2:S50,0)>0,S51+1,S51) -> #VALUE! | U51: =IF(ISERROR(T51),S51,T51) | V51: =IF(MATCH(U51,U$2:U50,0)>0,U51+1,U51) -> #VALUE! | W51: =IF(ISERROR(V51),U51,V51) | AE51: W10 | AF51: O5 | AG51: ='4.校正SWOT方格'!H33 | AH51: ='5.SWOT交互項排序'!H33 | AI51: =IF(MATCH(AH51,AH$2:AH50,0)>0,AH51+1,AH51) -> #VALUE! | AJ51: =IF(ISERROR(AI51),AH51,AI51) | AK51: =IF(MATCH(AJ51,AJ$2:AJ50,0)>0,AJ51+1,AJ51) -> #VALUE! | AL51: =IF(ISERROR(AK51),AJ51,AK51) | AT51: W10 | AU51: T5 | AV51: ='4.校正SWOT方格'!R33 | AW51: ='5.SWOT交互項排序'!R33 | AX51: =IF(MATCH(AW51,AW$2:AW50,0)>0,AW51+1,AW51) -> #VALUE! | AY51: =IF(ISERROR(AX51),AW51,AX51) | AZ51: =IF(MATCH(AY51,AY$2:AY50,0)>0,AY51+1,AY51) -> #VALUE! | BA51: =IF(ISERROR(AZ51),AY51,AZ51)
A52: S1 | B52: O6 | C52: ='4.校正SWOT方格'!I14 | D52: ='5.SWOT交互項排序'!I14 | E52: =IF(MATCH(D52,D$2:D51,0)>0,D52+1,D52) -> #VALUE! | F52: =IF(ISERROR(E52),D52,E52) | G52: =IF(MATCH(F52,F$2:F51,0)>0,F52+1,F52) -> #VALUE! | H52: =IF(ISERROR(G52),F52,G52) | P52: S1 | Q52: T6 | R52: ='4.校正SWOT方格'!S14 | S52: ='5.SWOT交互項排序'!S14 | T52: =IF(MATCH(S52,S$2:S51,0)>0,S52+1,S52) -> #VALUE! | U52: =IF(ISERROR(T52),S52,T52) | V52: =IF(MATCH(U52,U$2:U51,0)>0,U52+1,U52) -> #VALUE! | W52: =IF(ISERROR(V52),U52,V52) | AE52: W1 | AF52: O6 | AG52: ='4.校正SWOT方格'!I24 | AH52: ='5.SWOT交互項排序'!I24 | AI52: =IF(MATCH(AH52,AH$2:AH51,0)>0,AH52+1,AH52) -> #VALUE! | AJ52: =IF(ISERROR(AI52),AH52,AI52) | AK52: =IF(MATCH(AJ52,AJ$2:AJ51,0)>0,AJ52+1,AJ52) -> #VALUE! | AL52: =IF(ISERROR(AK52),AJ52,AK52) | AT52: W1 | AU52: T6 | AV52: ='4.校正SWOT方格'!S24 | AW52: ='5.SWOT交互項排序'!S24 | AX52: =IF(MATCH(AW52,AW$2:AW51,0)>0,AW52+1,AW52) -> #VALUE! | AY52: =IF(ISERROR(AX52),AW52,AX52) | AZ52: =IF(MATCH(AY52,AY$2:AY51,0)>0,AY52+1,AY52) -> #VALUE! | BA52: =IF(ISERROR(AZ52),AY52,AZ52)
A53: S2 | B53: O6 | C53: ='4.校正SWOT方格'!I15 | D53: ='5.SWOT交互項排序'!I15 | E53: =IF(MATCH(D53,D$2:D52,0)>0,D53+1,D53) -> #VALUE! | F53: =IF(ISERROR(E53),D53,E53) | G53: =IF(MATCH(F53,F$2:F52,0)>0,F53+1,F53) -> #VALUE! | H53: =IF(ISERROR(G53),F53,G53) | P53: S2 | Q53: T6 | R53: ='4.校正SWOT方格'!S15 | S53: ='5.SWOT交互項排序'!S15 | T53: =IF(MATCH(S53,S$2:S52,0)>0,S53+1,S53) -> #VALUE! | U53: =IF(ISERROR(T53),S53,T53) | V53: =IF(MATCH(U53,U$2:U52,0)>0,U53+1,U53) -> #VALUE! | W53: =IF(ISERROR(V53),U53,V53) | AE53: W2 | AF53: O6 | AG53: ='4.校正SWOT方格'!I25 | AH53: ='5.SWOT交互項排序'!I25 | AI53: =IF(MATCH(AH53,AH$2:AH52,0)>0,AH53+1,AH53) -> #VALUE! | AJ53: =IF(ISERROR(AI53),AH53,AI53) | AK53: =IF(MATCH(AJ53,AJ$2:AJ52,0)>0,AJ53+1,AJ53) -> #VALUE! | AL53: =IF(ISERROR(AK53),AJ53,AK53) | AT53: W2 | AU53: T6 | AV53: ='4.校正SWOT方格'!S25 | AW53: ='5.SWOT交互項排序'!S25 | AX53: =IF(MATCH(AW53,AW$2:AW52,0)>0,AW53+1,AW53) -> #VALUE! | AY53: =IF(ISERROR(AX53),AW53,AX53) | AZ53: =IF(MATCH(AY53,AY$2:AY52,0)>0,AY53+1,AY53) -> #VALUE! | BA53: =IF(ISERROR(AZ53),AY53,AZ53)
A54: S3 | B54: O6 | C54: ='4.校正SWOT方格'!I16 | D54: ='5.SWOT交互項排序'!I16 | E54: =IF(MATCH(D54,D$2:D53,0)>0,D54+1,D54) -> #VALUE! | F54: =IF(ISERROR(E54),D54,E54) | G54: =IF(MATCH(F54,F$2:F53,0)>0,F54+1,F54) -> #VALUE! | H54: =IF(ISERROR(G54),F54,G54) | P54: S3 | Q54: T6 | R54: ='4.校正SWOT方格'!S16 | S54: ='5.SWOT交互項排序'!S16 | T54: =IF(MATCH(S54,S$2:S53,0)>0,S54+1,S54) -> #VALUE! | U54: =IF(ISERROR(T54),S54,T54) | V54: =IF(MATCH(U54,U$2:U53,0)>0,U54+1,U54) -> #VALUE! | W54: =IF(ISERROR(V54),U54,V54) | AE54: W3 | AF54: O6 | AG54: ='4.校正SWOT方格'!I26 | AH54: ='5.SWOT交互項排序'!I26 | AI54: =IF(MATCH(AH54,AH$2:AH53,0)>0,AH54+1,AH54) -> #VALUE! | AJ54: =IF(ISERROR(AI54),AH54,AI54) | AK54: =IF(MATCH(AJ54,AJ$2:AJ53,0)>0,AJ54+1,AJ54) -> #VALUE! | AL54: =IF(ISERROR(AK54),AJ54,AK54) | AT54: W3 | AU54: T6 | AV54: ='4.校正SWOT方格'!S26 | AW54: ='5.SWOT交互項排序'!S26 | AX54: =IF(MATCH(AW54,AW$2:AW53,0)>0,AW54+1,AW54) -> #VALUE! | AY54: =IF(ISERROR(AX54),AW54,AX54) | AZ54: =IF(MATCH(AY54,AY$2:AY53,0)>0,AY54+1,AY54) -> #VALUE! | BA54: =IF(ISERROR(AZ54),AY54,AZ54)
A55: S4 | B55: O6 | C55: ='4.校正SWOT方格'!I17 | D55: ='5.SWOT交互項排序'!I17 | E55: =IF(MATCH(D55,D$2:D54,0)>0,D55+1,D55) -> #VALUE! | F55: =IF(ISERROR(E55),D55,E55) | G55: =IF(MATCH(F55,F$2:F54,0)>0,F55+1,F55) -> #VALUE! | H55: =IF(ISERROR(G55),F55,G55) | P55: S4 | Q55: T6 | R55: ='4.校正SWOT方格'!S17 | S55: ='5.SWOT交互項排序'!S17 | T55: =IF(MATCH(S55,S$2:S54,0)>0,S55+1,S55) -> #VALUE! | U55: =IF(ISERROR(T55),S55,T55) | V55: =IF(MATCH(U55,U$2:U54,0)>0,U55+1,U55) -> #VALUE! | W55: =IF(ISERROR(V55),U55,V55) | AE55: W4 | AF55: O6 | AG55: ='4.校正SWOT方格'!I27 | AH55: ='5.SWOT交互項排序'!I27 | AI55: =IF(MATCH(AH55,AH$2:AH54,0)>0,AH55+1,AH55) -> #VALUE! | AJ55: =IF(ISERROR(AI55),AH55,AI55) | AK55: =IF(MATCH(AJ55,AJ$2:AJ54,0)>0,AJ55+1,AJ55) -> #VALUE! | AL55: =IF(ISERROR(AK55),AJ55,AK55) | AT55: W4 | AU55: T6 | AV55: ='4.校正SWOT方格'!S27 | AW55: ='5.SWOT交互項排序'!S27 | AX55: =IF(MATCH(AW55,AW$2:AW54,0)>0,AW55+1,AW55) -> #VALUE! | AY55: =IF(ISERROR(AX55),AW55,AX55) | AZ55: =IF(MATCH(AY55,AY$2:AY54,0)>0,AY55+1,AY55) -> #VALUE! | BA55: =IF(ISERROR(AZ55),AY55,AZ55)
A56: S5 | B56: O6 | C56: ='4.校正SWOT方格'!I18 | D56: ='5.SWOT交互項排序'!I18 | E56: =IF(MATCH(D56,D$2:D55,0)>0,D56+1,D56) -> #VALUE! | F56: =IF(ISERROR(E56),D56,E56) | G56: =IF(MATCH(F56,F$2:F55,0)>0,F56+1,F56) -> #VALUE! | H56: =IF(ISERROR(G56),F56,G56) | P56: S5 | Q56: T6 | R56: ='4.校正SWOT方格'!S18 | S56: ='5.SWOT交互項排序'!S18 | T56: =IF(MATCH(S56,S$2:S55,0)>0,S56+1,S56) -> #VALUE! | U56: =IF(ISERROR(T56),S56,T56) | V56: =IF(MATCH(U56,U$2:U55,0)>0,U56+1,U56) -> #VALUE! | W56: =IF(ISERROR(V56),U56,V56) | AE56: W5 | AF56: O6 | AG56: ='4.校正SWOT方格'!I28 | AH56: ='5.SWOT交互項排序'!I28 | AI56: =IF(MATCH(AH56,AH$2:AH55,0)>0,AH56+1,AH56) -> #VALUE! | AJ56: =IF(ISERROR(AI56),AH56,AI56) | AK56: =IF(MATCH(AJ56,AJ$2:AJ55,0)>0,AJ56+1,AJ56) -> #VALUE! | AL56: =IF(ISERROR(AK56),AJ56,AK56) | AT56: W5 | AU56: T6 | AV56: ='4.校正SWOT方格'!S28 | AW56: ='5.SWOT交互項排序'!S28 | AX56: =IF(MATCH(AW56,AW$2:AW55,0)>0,AW56+1,AW56) -> #VALUE! | AY56: =IF(ISERROR(AX56),AW56,AX56) | AZ56: =IF(MATCH(AY56,AY$2:AY55,0)>0,AY56+1,AY56) -> #VALUE! | BA56: =IF(ISERROR(AZ56),AY56,AZ56)
A57: S6 | B57: O6 | C57: ='4.校正SWOT方格'!I19 | D57: ='5.SWOT交互項排序'!I19 | E57: =IF(MATCH(D57,D$2:D56,0)>0,D57+1,D57) -> #VALUE! | F57: =IF(ISERROR(E57),D57,E57) | G57: =IF(MATCH(F57,F$2:F56,0)>0,F57+1,F57) -> #VALUE! | H57: =IF(ISERROR(G57),F57,G57) | P57: S6 | Q57: T6 | R57: ='4.校正SWOT方格'!S19 | S57: ='5.SWOT交互項排序'!S19 | T57: =IF(MATCH(S57,S$2:S56,0)>0,S57+1,S57) -> #VALUE! | U57: =IF(ISERROR(T57),S57,T57) | V57: =IF(MATCH(U57,U$2:U56,0)>0,U57+1,U57) -> #VALUE! | W57: =IF(ISERROR(V57),U57,V57) | AE57: W6 | AF57: O6 | AG57: ='4.校正SWOT方格'!I29 | AH57: ='5.SWOT交互項排序'!I29 | AI57: =IF(MATCH(AH57,AH$2:AH56,0)>0,AH57+1,AH57) -> #VALUE! | AJ57: =IF(ISERROR(AI57),AH57,AI57) | AK57: =IF(MATCH(AJ57,AJ$2:AJ56,0)>0,AJ57+1,AJ57) -> #VALUE! | AL57: =IF(ISERROR(AK57),AJ57,AK57) | AT57: W6 | AU57: T6 | AV57: ='4.校正SWOT方格'!S29 | AW57: ='5.SWOT交互項排序'!S29 | AX57: =IF(MATCH(AW57,AW$2:AW56,0)>0,AW57+1,AW57) -> #VALUE! | AY57: =IF(ISERROR(AX57),AW57,AX57) | AZ57: =IF(MATCH(AY57,AY$2:AY56,0)>0,AY57+1,AY57) -> #VALUE! | BA57: =IF(ISERROR(AZ57),AY57,AZ57)
A58: S7 | B58: O6 | C58: ='4.校正SWOT方格'!I20 | D58: ='5.SWOT交互項排序'!I20 | E58: =IF(MATCH(D58,D$2:D57,0)>0,D58+1,D58) -> #VALUE! | F58: =IF(ISERROR(E58),D58,E58) | G58: =IF(MATCH(F58,F$2:F57,0)>0,F58+1,F58) -> #VALUE! | H58: =IF(ISERROR(G58),F58,G58) | P58: S7 | Q58: T6 | R58: ='4.校正SWOT方格'!S20 | S58: ='5.SWOT交互項排序'!S20 | T58: =IF(MATCH(S58,S$2:S57,0)>0,S58+1,S58) -> #VALUE! | U58: =IF(ISERROR(T58),S58,T58) | V58: =IF(MATCH(U58,U$2:U57,0)>0,U58+1,U58) -> #VALUE! | W58: =IF(ISERROR(V58),U58,V58) | AE58: W7 | AF58: O6 | AG58: ='4.校正SWOT方格'!I30 | AH58: ='5.SWOT交互項排序'!I30 | AI58: =IF(MATCH(AH58,AH$2:AH57,0)>0,AH58+1,AH58) -> #VALUE! | AJ58: =IF(ISERROR(AI58),AH58,AI58) | AK58: =IF(MATCH(AJ58,AJ$2:AJ57,0)>0,AJ58+1,AJ58) -> #VALUE! | AL58: =IF(ISERROR(AK58),AJ58,AK58) | AT58: W7 | AU58: T6 | AV58: ='4.校正SWOT方格'!S30 | AW58: ='5.SWOT交互項排序'!S30 | AX58: =IF(MATCH(AW58,AW$2:AW57,0)>0,AW58+1,AW58) -> #VALUE! | AY58: =IF(ISERROR(AX58),AW58,AX58) | AZ58: =IF(MATCH(AY58,AY$2:AY57,0)>0,AY58+1,AY58) -> #VALUE! | BA58: =IF(ISERROR(AZ58),AY58,AZ58)
A59: S8 | B59: O6 | C59: ='4.校正SWOT方格'!I21 | D59: ='5.SWOT交互項排序'!I21 | E59: =IF(MATCH(D59,D$2:D58,0)>0,D59+1,D59) -> #VALUE! | F59: =IF(ISERROR(E59),D59,E59) | G59: =IF(MATCH(F59,F$2:F58,0)>0,F59+1,F59) -> #VALUE! | H59: =IF(ISERROR(G59),F59,G59) | P59: S8 | Q59: T6 | R59: ='4.校正SWOT方格'!S21 | S59: ='5.SWOT交互項排序'!S21 | T59: =IF(MATCH(S59,S$2:S58,0)>0,S59+1,S59) -> #VALUE! | U59: =IF(ISERROR(T59),S59,T59) | V59: =IF(MATCH(U59,U$2:U58,0)>0,U59+1,U59) -> #VALUE! | W59: =IF(ISERROR(V59),U59,V59) | AE59: W8 | AF59: O6 | AG59: ='4.校正SWOT方格'!I31 | AH59: ='5.SWOT交互項排序'!I31 | AI59: =IF(MATCH(AH59,AH$2:AH58,0)>0,AH59+1,AH59) -> #VALUE! | AJ59: =IF(ISERROR(AI59),AH59,AI59) | AK59: =IF(MATCH(AJ59,AJ$2:AJ58,0)>0,AJ59+1,AJ59) -> #VALUE! | AL59: =IF(ISERROR(AK59),AJ59,AK59) | AT59: W8 | AU59: T6 | AV59: ='4.校正SWOT方格'!S31 | AW59: ='5.SWOT交互項排序'!S31 | AX59: =IF(MATCH(AW59,AW$2:AW58,0)>0,AW59+1,AW59) -> #VALUE! | AY59: =IF(ISERROR(AX59),AW59,AX59) | AZ59: =IF(MATCH(AY59,AY$2:AY58,0)>0,AY59+1,AY59) -> #VALUE! | BA59: =IF(ISERROR(AZ59),AY59,AZ59)
A60: S9 | B60: O6 | C60: ='4.校正SWOT方格'!I22 | D60: ='5.SWOT交互項排序'!I22 | E60: =IF(MATCH(D60,D$2:D59,0)>0,D60+1,D60) -> #VALUE! | F60: =IF(ISERROR(E60),D60,E60) | G60: =IF(MATCH(F60,F$2:F59,0)>0,F60+1,F60) -> #VALUE! | H60: =IF(ISERROR(G60),F60,G60) | P60: S9 | Q60: T6 | R60: ='4.校正SWOT方格'!S22 | S60: ='5.SWOT交互項排序'!S22 | T60: =IF(MATCH(S60,S$2:S59,0)>0,S60+1,S60) -> #VALUE! | U60: =IF(ISERROR(T60),S60,T60) | V60: =IF(MATCH(U60,U$2:U59,0)>0,U60+1,U60) -> #VALUE! | W60: =IF(ISERROR(V60),U60,V60) | AE60: W9 | AF60: O6 | AG60: ='4.校正SWOT方格'!I32 | AH60: ='5.SWOT交互項排序'!I32 | AI60: =IF(MATCH(AH60,AH$2:AH59,0)>0,AH60+1,AH60) -> #VALUE! | AJ60: =IF(ISERROR(AI60),AH60,AI60) | AK60: =IF(MATCH(AJ60,AJ$2:AJ59,0)>0,AJ60+1,AJ60) -> #VALUE! | AL60: =IF(ISERROR(AK60),AJ60,AK60) | AT60: W9 | AU60: T6 | AV60: ='4.校正SWOT方格'!S32 | AW60: ='5.SWOT交互項排序'!S32 | AX60: =IF(MATCH(AW60,AW$2:AW59,0)>0,AW60+1,AW60) -> #VALUE! | AY60: =IF(ISERROR(AX60),AW60,AX60) | AZ60: =IF(MATCH(AY60,AY$2:AY59,0)>0,AY60+1,AY60) -> #VALUE! | BA60: =IF(ISERROR(AZ60),AY60,AZ60)
