Workbook

Sheet 基本資訊
C2: 計量SWOT分析工具(quanSWOT) 3.1 葉連祺設計 2023.12.17
B3: 使用說明:
B4: 1.本程式採取TOWS理念,進行SWOT分項和交互項作用分析(TOWS分析)
B5: 2.請依據工作表編號順序, 進行(1)設定項目名稱,(2)評定SWOT項目,檢視分析結果,(6)評選四類因應策略,(7)輸出TOWS方格
B6: 3.本程式採取菁英決策方式, 設定至多10位評定者,SWOT各向度至多設定10項
B7: 4.各項目評定作用值建議得採用1~7表示影響性程度,1是最小值,7是最大值, 使用者可自行設定
B8: 5.採取兩向度評定值平均的乘積為交互作用值, 並以該值平方根值為交互作用校正值, 數值越大表示交互影響程度越大
B9: 6.請在色塊區域內輸入資料,不要輸入資料至其他白色區域,也請勿隨意修改本程式內部設定, 以免造成分析結果不正確
B10: 7.使用前可清除1.設定項目名稱,2.評定項目兩工作表內色塊區域的資料值, 以利輸入新資料, 而其他工作表內容請勿更動
B11: 8.本程式得免費使用,但請尊重智慧財產權
B12: 9.提醒本程式依據交互作用值提出排序較前的交互作用項建議, 但是未必都合理具意義, 需要使用者審視項目後作決定
B13: 10.為增進交互作用項分析值的合理性, 建議設定交互作用項目的權重值((0~1), 0表示該作用項無效, 其他<=1值表示權重值
B15: 分析結果綜合資訊:
C16: 評估項數 | D16: 評定者數 | E16: 最大評定值 | F16: 最小評定值 | G16: 評定值平均 | H16: 排序 | I16: 評定值標準差 | J16: 評定項數 | K16: 評定值差異大項數 | L16: 說明
B17: 優勢(S) | C17: =COUNT('2.評定項目'!C2:C11) -> 5 | D17: =MAX('2.評定項目'!P2:P11) -> 2 | E17: =MAX('2.評定項目'!E2:N11) -> 6 | F17: =MIN('2.評定項目'!E2:N11) -> 3 | G17: =IF(C17=0,0,AVERAGE('2.評定項目'!E2:N11)) -> 4.6 | H17: =IF(G17=0,0,RANK(G17,G$17:G$20)) -> 1 | I17: =IF(C17=0,0,STDEVA('2.評定項目'!E2:N11)) -> 1.1737878 | J17: =COUNT('2.評定項目'!E2:N11) -> 10 | K17: =SUM('2.評定項目'!V2:V11) -> 2 | L17: =IF(K17>0,"提醒評定者意見較分歧","") -> 提醒評定者意見較分歧
B18: 劣勢(W) | C18: =COUNT('2.評定項目'!C12:C21) -> 5 | D18: =MAX('2.評定項目'!P12:P21) -> 2 | E18: =MAX('2.評定項目'!E12:N21) -> 6 | F18: =MIN('2.評定項目'!E12:N21) -> 2 | G18: =IF(C18=0,0,AVERAGE('2.評定項目'!E3:N12)) -> 4.3 | H18: =IF(G18=0,0,RANK(G18,G$17:G$20)) -> 2 | I18: =IF(C18=0,0,STDEVA('2.評定項目'!E3:N12)) -> 1.4181365 | J18: =COUNT('2.評定項目'!E12:N21) -> 10 | K18: =SUM('2.評定項目'!V12:V21) -> 1 | L18: =IF(K18>0,"提醒評定者意見較分歧","") -> 提醒評定者意見較分歧
B19: 機會(O) | C19: =COUNT('2.評定項目'!C22:C31) -> 5 | D19: =MAX('2.評定項目'!P22:P31) -> 2 | E19: =MAX('2.評定項目'!E22:N31) -> 7 | F19: =MIN('2.評定項目'!E22:N31) -> 1 | G19: =IF(C19=0,0,AVERAGE('2.評定項目'!E4:N13)) -> 4 | H19: =IF(G19=0,0,RANK(G19,G$17:G$20)) -> 4 | I19: =IF(C19=0,0,STDEVA('2.評定項目'!E4:N13)) -> 1.3333333 | J19: =COUNT('2.評定項目'!E22:N31) -> 10 | K19: =SUM('2.評定項目'!V22:V31) -> 1 | L19: =IF(K19>0,"提醒評定者意見較分歧","") -> 提醒評定者意見較分歧
B20: 威脅(T) | C20: =COUNT('2.評定項目'!C32:C41) -> 4 | D20: =MAX('2.評定項目'!P32:P41) -> 2 | E20: =MAX('2.評定項目'!E32:N41) -> 6 | F20: =MIN('2.評定項目'!E32:N41) -> 3 | G20: =IF(C20=0,0,AVERAGE('2.評定項目'!E5:N14)) -> 4.3 | H20: =IF(G20=0,0,RANK(G20,G$17:G$20)) -> 2 | I20: =IF(C20=0,0,STDEVA('2.評定項目'!E5:N14)) -> 1.2516656 | J20: =COUNT('2.評定項目'!E32:N41) -> 8 | K20: =SUM('2.評定項目'!V32:V41) -> 1 | L20: =IF(K20>0,"提醒評定者意見較分歧","") -> 提醒評定者意見較分歧
B21: 整體 | C21: =SUM(C17:C20) -> 19 | D21: =MAX(D17:D20) -> 2 | E21: =MAX(E17:E20) -> 7 | F21: =MIN(F17:F20) -> 1 | G21: =IF(C21=0,0,AVERAGE('2.評定項目'!E6:N15)) -> 4.4
B22: 綜合影響 | G22: =SQRT((G17-G18)^2+(G19-G20)^2)*(IF((G17-G18)>=0,1,-1))*(IF((G19-G20)>=0,1,-1)) -> -0.42426407 | H22: ='8.可視化分析'!D6 -> -45.° | I22: ='8.可視化分析'!E6 -> 優勢-威脅(ST)區域
C24: 交互項數 | D24: 評定者數 | E24: 最大作用值 | F24: 最小作用值 | G24: 作用值平均 | H24: 排序 | I24: 作用值標準差 | J24: 說明
B25: 優勢-機會(S-O) | C25: =COUNT('3.SWOT方格調整'!D14:M23) -> 25 | D25: =D17 -> 2 | E25: =MAX('4.校正SWOT方格'!D14:M23) -> 5.9791304 | F25: =MIN('4.校正SWOT方格'!D14:M23) -> 2.4494897 | G25: =IF(C25=0,0,AVERAGE('4.校正SWOT方格'!D14:M23)) -> 4.2731477 | H25: =IF(C25=0,0,RANK(G25,G$25:G$28)) -> 1 | I25: =IF(C25=0,0,STDEV('4.校正SWOT方格'!D14:M23)) -> 1.0508967 | J25: =IF(G25=0,"",IF(G25>=G$29,"提醒綜合作用值高於四向度綜合作用值平均","")) -> 提醒綜合作用值高於四向度綜合作用值平均
B26: 優勢-威脅(S-T) | C26: =COUNT('3.SWOT方格調整'!N14:W23) -> 20 | D26: =D18 -> 2 | E26: =MAX('4.校正SWOT方格'!N13:W23) -> 5.5 | F26: =MIN('4.校正SWOT方格'!N13:W23) -> 3.4641016 | G26: =IF(C26=0,0,AVERAGE('4.校正SWOT方格'!D15:M24)) -> 4.1172626 | H26: =IF(C26=0,0,RANK(G26,G$25:G$28)) -> 3 | I26: =IF(C26=0,0,STDEV('4.校正SWOT方格'!D15:M24)) -> 1.0743937 | J26: =IF(G26=0,"",IF(G26>=G$29,"提醒綜合作用值高於四向度綜合作用值平均",""))
B27: 劣勢-機會(W-O) | C27: =COUNT('3.SWOT方格調整'!D24:M33) -> 25 | D27: =D19 -> 2 | E27: =MAX('4.校正SWOT方格'!D24:M33) -> 6.244998 | F27: =MIN('4.校正SWOT方格'!D24:M33) -> 2.4494897 | G27: =IF(C27=0,0,AVERAGE('4.校正SWOT方格'!D16:M25)) -> 3.9710004 | H27: =IF(C27=0,0,RANK(G27,G$25:G$28)) -> 4 | I27: =IF(C27=0,0,STDEV('4.校正SWOT方格'!D16:M25)) -> 1.0363978 | J27: =IF(G27=0,"",IF(G27>=G$29,"提醒綜合作用值高於四向度綜合作用值平均",""))
B28: 劣勢-威脅(W-T) | C28: =COUNT('3.SWOT方格調整'!N24:W33) -> 20 | D28: =D20 -> 2 | E28: =MAX('4.校正SWOT方格'!N24:W33) -> 5.7445626 | F28: =MIN('4.校正SWOT方格'!N24:W33) -> 3.4641016 | G28: =IF(C28=0,0,AVERAGE('4.校正SWOT方格'!D17:M26)) -> 4.1268856 | H28: =IF(C28=0,0,RANK(G28,G$25:G$28)) -> 2 | I28: =IF(C28=0,0,STDEV('4.校正SWOT方格'!D17:M26)) -> 1.035221 | J28: =IF(G28=0,"",IF(G28>=G$29,"提醒綜合作用值高於四向度綜合作用值平均",""))
B29: 整體 | C29: =SUM(C25:C28) -> 90 | D29: =MAX(D25:D28) -> 2 | E29: =MAX(E25:E28) -> 6.244998 | F29: =MIN(F25:F28) -> 2.4494897 | G29: =IF(C29=0,0,AVERAGE('4.校正SWOT方格'!D18:M27)) -> 4.1686459
A31: 排序 | B31: 綜合優先項目 | C31: 作用值 | D31: S,W項 | E31: O,T項 | F31: 策略類型
A32: 1 | B32: =IF(ISBLANK('6.SWOT優先交互項'!B15),"",'6.SWOT優先交互項'!B15) -> W4O1 | C32: =IF(ISBLANK('6.SWOT優先交互項'!C15),"",'6.SWOT優先交互項'!C15) -> 6.244998 | D32: =IF(ISBLANK('6.SWOT優先交互項'!E15),"",'6.SWOT優先交互項'!E15) -> 外語教學師資不足需向外招聘 | E32: =IF(ISBLANK('6.SWOT優先交互項'!F15),"",'6.SWOT優先交互項'!F15) -> 教育局積極補助學校設備更新供專案申請 | F32: =IF(ISBLANK('6.SWOT優先交互項'!H15),"",'6.SWOT優先交互項'!H15) -> 改善弱點(W,O)
A33: 2 | B33: =IF(ISBLANK('6.SWOT優先交互項'!B16),"",'6.SWOT優先交互項'!B16) -> S4O1 | C33: =IF(ISBLANK('6.SWOT優先交互項'!C16),"",'6.SWOT優先交互項'!C16) -> 5.9791304 | D33: =IF(ISBLANK('6.SWOT優先交互項'!E16),"",'6.SWOT優先交互項'!E16) -> 家長和社區關心和樂意協助學校 | E33: =IF(ISBLANK('6.SWOT優先交互項'!F16),"",'6.SWOT優先交互項'!F16) -> 教育局積極補助學校設備更新供專案申請 | F33: =IF(ISBLANK('6.SWOT優先交互項'!H16),"",'6.SWOT優先交互項'!H16) -> 積極推展(S,O)
A34: 3 | B34: =IF(ISBLANK('6.SWOT優先交互項'!B17),"",'6.SWOT優先交互項'!B17) -> W4O4 | C34: =IF(ISBLANK('6.SWOT優先交互項'!C17),"",'6.SWOT優先交互項'!C17) -> 5.7445626 | D34: =IF(ISBLANK('6.SWOT優先交互項'!E17),"",'6.SWOT優先交互項'!E17) -> 外語教學師資不足需向外招聘 | E34: =IF(ISBLANK('6.SWOT優先交互項'!F17),"",'6.SWOT優先交互項'!F17) -> 教育局推動優秀退休教師參與學校教學協助方案 | F34: =IF(ISBLANK('6.SWOT優先交互項'!H17),"",'6.SWOT優先交互項'!H17) -> 改善弱點(W,O)
A35: 4 | B35: =IF(ISBLANK('6.SWOT優先交互項'!B18),"",'6.SWOT優先交互項'!B18) -> W4T1 | C35: =IF(ISBLANK('6.SWOT優先交互項'!C18),"",'6.SWOT優先交互項'!C18) -> 5.7445626 | D35: =IF(ISBLANK('6.SWOT優先交互項'!E18),"",'6.SWOT優先交互項'!E18) -> 外語教學師資不足需向外招聘 | E35: =IF(ISBLANK('6.SWOT優先交互項'!F18),"",'6.SWOT優先交互項'!F18) -> 社區學齡入學兒童數逐年降低增加招生難度 | F35: =IF(ISBLANK('6.SWOT優先交互項'!H18),"",'6.SWOT優先交互項'!H18) -> 迴避威脅(W,T)
A36: 5 | B36: =IF(ISBLANK('6.SWOT優先交互項'!B19),"",'6.SWOT優先交互項'!B19) -> S2O1 | C36: =IF(ISBLANK('6.SWOT優先交互項'!C19),"",'6.SWOT優先交互項'!C19) -> 5.7008771 | D36: =IF(ISBLANK('6.SWOT優先交互項'!E19),"",'6.SWOT優先交互項'!E19) -> 教師高度樂業願意積極參與校務 | E36: =IF(ISBLANK('6.SWOT優先交互項'!F19),"",'6.SWOT優先交互項'!F19) -> 教育局積極補助學校設備更新供專案申請 | F36: =IF(ISBLANK('6.SWOT優先交互項'!H19),"",'6.SWOT優先交互項'!H19) -> 積極推展(S,O)
A37: 6 | B37: =IF(ISBLANK('6.SWOT優先交互項'!B20),"",'6.SWOT優先交互項'!B20) -> S5O1 | C37: =IF(ISBLANK('6.SWOT優先交互項'!C20),"",'6.SWOT優先交互項'!C20) -> 5.7008771 | D37: =IF(ISBLANK('6.SWOT優先交互項'!E20),"",'6.SWOT優先交互項'!E20) -> 學校特色教學團隊強且成果多 | E37: =IF(ISBLANK('6.SWOT優先交互項'!F20),"",'6.SWOT優先交互項'!F20) -> 教育局積極補助學校設備更新供專案申請 | F37: =IF(ISBLANK('6.SWOT優先交互項'!H20),"",'6.SWOT優先交互項'!H20) -> 積極推展(S,O)
A38: 7 | B38: =IF(ISBLANK('6.SWOT優先交互項'!B21),"",'6.SWOT優先交互項'!B21) -> S4O4 | C38: =IF(ISBLANK('6.SWOT優先交互項'!C21),"",'6.SWOT優先交互項'!C21) -> 5.5 | D38: =IF(ISBLANK('6.SWOT優先交互項'!E21),"",'6.SWOT優先交互項'!E21) -> 家長和社區關心和樂意協助學校 | E38: =IF(ISBLANK('6.SWOT優先交互項'!F21),"",'6.SWOT優先交互項'!F21) -> 教育局推動優秀退休教師參與學校教學協助方案 | F38: =IF(ISBLANK('6.SWOT優先交互項'!H21),"",'6.SWOT優先交互項'!H21) -> 積極推展(S,O)
A39: 8 | B39: =IF(ISBLANK('6.SWOT優先交互項'!B22),"",'6.SWOT優先交互項'!B22) -> S4T1 | C39: =IF(ISBLANK('6.SWOT優先交互項'!C22),"",'6.SWOT優先交互項'!C22) -> 5.5 | D39: =IF(ISBLANK('6.SWOT優先交互項'!E22),"",'6.SWOT優先交互項'!E22) -> 家長和社區關心和樂意協助學校 | E39: =IF(ISBLANK('6.SWOT優先交互項'!F22),"",'6.SWOT優先交互項'!F22) -> 社區學齡入學兒童數逐年降低增加招生難度 | F39: =IF(ISBLANK('6.SWOT優先交互項'!H22),"",'6.SWOT優先交互項'!H22) -> 降低傷害(S,T)
A40: 9 | B40: =IF(ISBLANK('6.SWOT優先交互項'!B23),"",'6.SWOT優先交互項'!B23) -> W4T3 | C40: =IF(ISBLANK('6.SWOT優先交互項'!C23),"",'6.SWOT優先交互項'!C23) -> 5.4772256 | D40: =IF(ISBLANK('6.SWOT優先交互項'!E23),"",'6.SWOT優先交互項'!E23) -> 外語教學師資不足需向外招聘 | E40: =IF(ISBLANK('6.SWOT優先交互項'!F23),"",'6.SWOT優先交互項'!F23) -> 家長關心外語學習促成學生參加課後外語補習人數漸增 | F40: =IF(ISBLANK('6.SWOT優先交互項'!H23),"",'6.SWOT優先交互項'!H23) -> 迴避威脅(W,T)
A41: 10 | B41: =IF(ISBLANK('6.SWOT優先交互項'!B24),"",'6.SWOT優先交互項'!B24) -> S1O1 | C41: =IF(ISBLANK('6.SWOT優先交互項'!C24),"",'6.SWOT優先交互項'!C24) -> 5.4083269 | D41: =IF(ISBLANK('6.SWOT優先交互項'!E24),"",'6.SWOT優先交互項'!E24) -> 專任教師學歷高且專業力強 | E41: =IF(ISBLANK('6.SWOT優先交互項'!F24),"",'6.SWOT優先交互項'!F24) -> 教育局積極補助學校設備更新供專案申請 | F41: =IF(ISBLANK('6.SWOT優先交互項'!H24),"",'6.SWOT優先交互項'!H24) -> 積極推展(S,O)

Sheet 1.設定項目名稱
B1: 優勢 | C1: 項目 | D1: 劣勢 | E1: 項目 | F1: 機會 | G1: 項目 | H1: 威脅 | I1: 項目 | O1: `
A2: 1 | B2: S1 | C2: 專任教師學歷高且專業力強 | D2: W1 | E2: 教師年齡偏高多數屆臨退休 | F2: O1 | G2: 教育局積極補助學校設備更新供專案申請 | H2: T1 | I2: 社區學齡入學兒童數逐年降低增加招生難度 | K2: S1 | L2: =IF(ISBLANK(C2),"",C2) -> 專任教師學歷高且專業力強 | N2: O1 | O2: =IF(ISBLANK(G2),"",G2) -> 教育局積極補助學校設備更新供專案申請
A3: 2 | B3: S2 | C3: 教師高度樂業願意積極參與校務 | D3: W2 | E3: 經濟不利條件學生偏多需要協助 | F3: O2 | G3: 民間團體培育外語師資尋求合作意願高 | H3: T2 | I3: 他校轉型實驗學校吸引本校生轉學就讀形成競爭 | K3: S2 | L3: =IF(ISBLANK(C3),"",C3) -> 教師高度樂業願意積極參與校務 | N3: O2 | O3: =IF(ISBLANK(G3),"",G3) -> 民間團體培育外語師資尋求合作意願高
A4: 3 | B4: S3 | C4: 學校設備資源豐富滿足教學 | D4: W3 | E4: 圖書設備汰舊更新較慢 | F4: O3 | G4: 大型商場和大企業機構進駐社區吸引建商推出新建案 | H4: T3 | I4: 家長關心外語學習促成學生參加課後外語補習人數漸增 | K4: S3 | L4: =IF(ISBLANK(C4),"",C4) -> 學校設備資源豐富滿足教學 | N4: O3 | O4: =IF(ISBLANK(G4),"",G4) -> 大型商場和大企業機構進駐社區吸引建商推出新建案
A5: 4 | B5: S4 | C5: 家長和社區關心和樂意協助學校 | D5: W4 | E5: 外語教學師資不足需向外招聘 | F5: O4 | G5: 教育局推動優秀退休教師參與學校教學協助方案 | H5: T4 | I5: 民間教育團體培育優秀師資不合現行政策規定無法聘用 | K5: S4 | L5: =IF(ISBLANK(C5),"",C5) -> 家長和社區關心和樂意協助學校 | N5: O4 | O5: =IF(ISBLANK(G5),"",G5) -> 教育局推動優秀退休教師參與學校教學協助方案
A6: 5 | B6: S5 | C6: 學校特色教學團隊強且成果多 | D6: W5 | E6: 科技課程教材相對他校顯得陳舊 | F6: O5 | G6: 民間文教演藝團體提供免費巡迴服務 | H6: T5 | K6: S5 | L6: =IF(ISBLANK(C6),"",C6) -> 學校特色教學團隊強且成果多 | N6: O5 | O6: =IF(ISBLANK(G6),"",G6) -> 民間文教演藝團體提供免費巡迴服務
A7: 6 | B7: S6 | D7: W6 | F7: O6 | H7: T6 | K7: S6 | L7: =IF(ISBLANK(C7),"",C7) | N7: O6 | O7: =IF(ISBLANK(G7),"",G7)
A8: 7 | B8: S7 | D8: W7 | F8: O7 | H8: T7 | K8: S7 | L8: =IF(ISBLANK(C8),"",C8) | N8: O7 | O8: =IF(ISBLANK(G8),"",G8)
A9: 8 | B9: S8 | D9: W8 | F9: O8 | H9: T8 | K9: S8 | L9: =IF(ISBLANK(C9),"",C9) | N9: O8 | O9: =IF(ISBLANK(G9),"",G9)
A10: 9 | B10: S9 | D10: W9 | F10: O9 | H10: T9 | K10: S9 | L10: =IF(ISBLANK(C10),"",C10) | N10: O9 | O10: =IF(ISBLANK(G10),"",G10)
A11: 10 | B11: S10 | D11: W10 | F11: O10 | H11: T10 | K11: S10 | L11: =IF(ISBLANK(C11),"",C11) | N11: O10 | O11: =IF(ISBLANK(G11),"",G11)
K12: W1 | L12: =IF(ISBLANK(E2),"",E2) -> 教師年齡偏高多數屆臨退休 | N12: T1 | O12: =IF(ISBLANK(I2),"",I2) -> 社區學齡入學兒童數逐年降低增加招生難度
K13: W2 | L13: =IF(ISBLANK(E3),"",E3) -> 經濟不利條件學生偏多需要協助 | N13: T2 | O13: =IF(ISBLANK(I3),"",I3) -> 他校轉型實驗學校吸引本校生轉學就讀形成競爭
K14: W3 | L14: =IF(ISBLANK(E4),"",E4) -> 圖書設備汰舊更新較慢 | N14: T3 | O14: =IF(ISBLANK(I4),"",I4) -> 家長關心外語學習促成學生參加課後外語補習人數漸增
K15: W4 | L15: =IF(ISBLANK(E5),"",E5) -> 外語教學師資不足需向外招聘 | N15: T4 | O15: =IF(ISBLANK(I5),"",I5) -> 民間教育團體培育優秀師資不合現行政策規定無法聘用
K16: W5 | L16: =IF(ISBLANK(E6),"",E6) -> 科技課程教材相對他校顯得陳舊 | N16: T5 | O16: =IF(ISBLANK(I6),"",I6)
K17: W6 | L17: =IF(ISBLANK(E7),"",E7) | N17: T6 | O17: =IF(ISBLANK(I7),"",I7)
K18: W7 | L18: =IF(ISBLANK(E8),"",E8) | N18: T7 | O18: =IF(ISBLANK(I8),"",I8)
K19: W8 | L19: =IF(ISBLANK(E9),"",E9) | N19: T8 | O19: =IF(ISBLANK(I9),"",I9)
K20: W9 | L20: =IF(ISBLANK(E10),"",E10) | N20: T9 | O20: =IF(ISBLANK(I10),"",I10)
K21: W10 | L21: =IF(ISBLANK(E11),"",E11) | N21: T10 | O21: =IF(ISBLANK(I11),"",I11)

Sheet 2.評定項目
B1: 項目 | C1: 綜合評定 | D1: 排序 | E1: 評定者1 | F1: 評定者2 | G1: 評定者3 | H1: 評定者4 | I1: 評定者5 | J1: 評定者6 | K1: 評定者7 | L1: 評定者8 | M1: 評定者9 | N1: 評定者10 | P1: 評定者數 | Q1: 平均值 | R1: 最小值 | S1: 最大值 | T1: 標準差 | U1: 變異係數 | W1: 說明 | Y1: 平均值95%LCI | Z1: 平均值95%UCI | AB1: 1 | AC1: 2 | AD1: 3 | AE1: 4 | AF1: 5 | AG1: 6 | AH1: 7 | AI1: 8 | AJ1: 9 | AK1: 10
A2: ='1.設定項目名稱'!B2 -> S1 | B2: =IF(ISBLANK('1.設定項目名稱'!C2)," ",'1.設定項目名稱'!C2) -> 專任教師學歷高且專業力強 | C2: =IF(P2>0,AVERAGEA(E2:N2),"") -> 4.5 | D2: =IF(P2>0,RANK(C2,C$2:C$11),"") -> 4 | E2: 5 | F2: 4 | P2: =COUNT(E2:N2) -> 2 | Q2: =IF(COUNT(E2:N2)=0,"",AVERAGE(E2:N2)) -> 4.5 | R2: =IF(COUNT(E2:N2)=0,"",MIN(E2:N2)) -> 4 | S2: =IF(COUNT(E2:N2)=0,"",MAX(E2:N2)) -> 5 | T2: =IF(COUNT(E2:N2)=0,"",STDEV(E2:N2)) -> 0.70710678 | U2: =IF(COUNT(E2:N2)=0,"",T2/Q2*100) -> 15.713484 | V2: =IF(P2>0,1*(T2>1),0) -> 0 | W2: =IF(P2>0,IF(T2>1,"評定意見差異較大",""),"") | Y2: =IF(P2=0,"",IF(T2=0,0,Q2-_xlfn.CONFIDENCE.T(0.05,T2,P2))) -> -1.8531024 | Z2: =IF(P2=0,"",IF(T2=0,0,Q2+_xlfn.CONFIDENCE.T(0.05,T2,P2))) -> 10.853102
A3: ='1.設定項目名稱'!B3 -> S2 | B3: =IF(ISBLANK('1.設定項目名稱'!C3)," ",'1.設定項目名稱'!C3) -> 教師高度樂業願意積極參與校務 | C3: =IF(P3>0,AVERAGEA(E3:N3),"") -> 5 | D3: =IF(P3>0,RANK(C3,C$2:C$11),"") -> 2 | E3: 4 | F3: 6 | P3: =COUNT(E3:N3) -> 2 | Q3: =IF(COUNT(E3:N3)=0,"",AVERAGE(E3:N3)) -> 5 | R3: =IF(COUNT(E3:N3)=0,"",MIN(E3:N3)) -> 4 | S3: =IF(COUNT(E3:N3)=0,"",MAX(E3:N3)) -> 6 | T3: =IF(COUNT(E3:N3)=0,"",STDEV(E3:N3)) -> 1.4142136 | U3: =IF(COUNT(E3:N3)=0,"",T3/Q3*100) -> 28.284271 | V3: =IF(P3>0,1*(T3>1),0) -> 1 | W3: =IF(P3>0,IF(T3>1,"評定意見差異較大",""),"") -> 評定意見差異較大 | Y3: =IF(P3=0,"",IF(T3=0,0,Q3-_xlfn.CONFIDENCE.T(0.05,T3,P3))) -> -7.7062047 | Z3: =IF(P3=0,"",IF(T3=0,0,Q3+_xlfn.CONFIDENCE.T(0.05,T3,P3))) -> 17.706205 | AB3: =IF(ISERROR(C$2-$C3),"",C$2-$C3) -> -0.5
A4: ='1.設定項目名稱'!B4 -> S3 | B4: =IF(ISBLANK('1.設定項目名稱'!C4)," ",'1.設定項目名稱'!C4) -> 學校設備資源豐富滿足教學 | C4: =IF(P4>0,AVERAGEA(E4:N4),"") -> 3 | D4: =IF(P4>0,RANK(C4,C$2:C$11),"") -> 5 | E4: 3 | F4: 3 | P4: =COUNT(E4:N4) -> 2 | Q4: =IF(COUNT(E4:N4)=0,"",AVERAGE(E4:N4)) -> 3 | R4: =IF(COUNT(E4:N4)=0,"",MIN(E4:N4)) -> 3 | S4: =IF(COUNT(E4:N4)=0,"",MAX(E4:N4)) -> 3 | T4: =IF(COUNT(E4:N4)=0,"",STDEV(E4:N4)) -> 0 | U4: =IF(COUNT(E4:N4)=0,"",T4/Q4*100) -> 0 | V4: =IF(P4>0,1*(T4>1),0) -> 0 | W4: =IF(P4>0,IF(T4>1,"評定意見差異較大",""),"") | Y4: =IF(P4=0,"",IF(T4=0,0,Q4-_xlfn.CONFIDENCE.T(0.05,T4,P4))) -> 0 | Z4: =IF(P4=0,"",IF(T4=0,0,Q4+_xlfn.CONFIDENCE.T(0.05,T4,P4))) -> 0 | AB4: =IF(ISERROR(C$2-$C4),"",C$2-$C4) -> 1.5 | AC4: =IF(ISERROR(C$3-$C4),"",C$3-$C4) -> 2
A5: ='1.設定項目名稱'!B5 -> S4 | B5: =IF(ISBLANK('1.設定項目名稱'!C5)," ",'1.設定項目名稱'!C5) -> 家長和社區關心和樂意協助學校 | C5: =IF(P5>0,AVERAGEA(E5:N5),"") -> 5.5 | D5: =IF(P5>0,RANK(C5,C$2:C$11),"") -> 1 | E5: 5 | F5: 6 | P5: =COUNT(E5:N5) -> 2 | Q5: =IF(COUNT(E5:N5)=0,"",AVERAGE(E5:N5)) -> 5.5 | R5: =IF(COUNT(E5:N5)=0,"",MIN(E5:N5)) -> 5 | S5: =IF(COUNT(E5:N5)=0,"",MAX(E5:N5)) -> 6 | T5: =IF(COUNT(E5:N5)=0,"",STDEV(E5:N5)) -> 0.70710678 | U5: =IF(COUNT(E5:N5)=0,"",T5/Q5*100) -> 12.856487 | V5: =IF(P5>0,1*(T5>1),0) -> 0 | W5: =IF(P5>0,IF(T5>1,"評定意見差異較大",""),"") | Y5: =IF(P5=0,"",IF(T5=0,0,Q5-_xlfn.CONFIDENCE.T(0.05,T5,P5))) -> -0.85310237 | Z5: =IF(P5=0,"",IF(T5=0,0,Q5+_xlfn.CONFIDENCE.T(0.05,T5,P5))) -> 11.853102 | AB5: =IF(ISERROR(C$2-$C5),"",C$2-$C5) -> -1 | AC5: =IF(ISERROR(C$3-$C5),"",C$3-$C5) -> -0.5 | AD5: =IF(ISERROR(C$4-$C5),"",C$4-$C5) -> -2.5
A6: ='1.設定項目名稱'!B6 -> S5 | B6: =IF(ISBLANK('1.設定項目名稱'!C6)," ",'1.設定項目名稱'!C6) -> 學校特色教學團隊強且成果多 | C6: =IF(P6>0,AVERAGEA(E6:N6),"") -> 5 | D6: =IF(P6>0,RANK(C6,C$2:C$11),"") -> 2 | E6: 6 | F6: 4 | P6: =COUNT(E6:N6) -> 2 | Q6: =IF(COUNT(E6:N6)=0,"",AVERAGE(E6:N6)) -> 5 | R6: =IF(COUNT(E6:N6)=0,"",MIN(E6:N6)) -> 4 | S6: =IF(COUNT(E6:N6)=0,"",MAX(E6:N6)) -> 6 | T6: =IF(COUNT(E6:N6)=0,"",STDEV(E6:N6)) -> 1.4142136 | U6: =IF(COUNT(E6:N6)=0,"",T6/Q6*100) -> 28.284271 | V6: =IF(P6>0,1*(T6>1),0) -> 1 | W6: =IF(P6>0,IF(T6>1,"評定意見差異較大",""),"") -> 評定意見差異較大 | Y6: =IF(P6=0,"",IF(T6=0,0,Q6-_xlfn.CONFIDENCE.T(0.05,T6,P6))) -> -7.7062047 | Z6: =IF(P6=0,"",IF(T6=0,0,Q6+_xlfn.CONFIDENCE.T(0.05,T6,P6))) -> 17.706205 | AB6: =IF(ISERROR(C$2-$C6),"",C$2-$C6) -> -0.5 | AC6: =IF(ISERROR(C$3-$C6),"",C$3-$C6) -> 0 | AD6: =IF(ISERROR(C$4-$C6),"",C$4-$C6) -> -2 | AE6: =IF(ISERROR(C$5-$C6),"",C$5-$C6) -> 0.5
A7: ='1.設定項目名稱'!B7 -> S6 | B7: =IF(ISBLANK('1.設定項目名稱'!C7)," ",'1.設定項目名稱'!C7) | C7: =IF(P7>0,AVERAGEA(E7:N7),"") | D7: =IF(P7>0,RANK(C7,C$2:C$11),"") | P7: =COUNT(E7:N7) -> 0 | Q7: =IF(COUNT(E7:N7)=0,"",AVERAGE(E7:N7)) | R7: =IF(COUNT(E7:N7)=0,"",MIN(E7:N7)) | S7: =IF(COUNT(E7:N7)=0,"",MAX(E7:N7)) | T7: =IF(COUNT(E7:N7)=0,"",STDEV(E7:N7)) | U7: =IF(COUNT(E7:N7)=0,"",T7/Q7*100) | V7: =IF(P7>0,1*(T7>1),0) -> 0 | W7: =IF(P7>0,IF(T7>1,"評定意見差異較大",""),"") | Y7: =IF(P7=0,"",IF(T7=0,0,Q7-_xlfn.CONFIDENCE.T(0.05,T7,P7))) | Z7: =IF(P7=0,"",IF(T7=0,0,Q7+_xlfn.CONFIDENCE.T(0.05,T7,P7))) | AB7: =IF(ISERROR(C$2-$C7),"",C$2-$C7) | AC7: =IF(ISERROR(C$3-$C7),"",C$3-$C7) | AD7: =IF(ISERROR(C$4-$C7),"",C$4-$C7) | AE7: =IF(ISERROR(C$5-$C7),"",C$5-$C7) | AF7: =IF(ISERROR(C$6-$C7),"",C$6-$C7) | AH7: =IF(ISERROR(G$4-$C7),"",G$4-$C7)
A8: ='1.設定項目名稱'!B8 -> S7 | B8: =IF(ISBLANK('1.設定項目名稱'!C8)," ",'1.設定項目名稱'!C8) | C8: =IF(P8>0,AVERAGEA(E8:N8),"") | D8: =IF(P8>0,RANK(C8,C$2:C$11),"") | P8: =COUNT(E8:N8) -> 0 | Q8: =IF(COUNT(E8:N8)=0,"",AVERAGE(E8:N8)) | R8: =IF(COUNT(E8:N8)=0,"",MIN(E8:N8)) | S8: =IF(COUNT(E8:N8)=0,"",MAX(E8:N8)) | T8: =IF(COUNT(E8:N8)=0,"",STDEV(E8:N8)) | U8: =IF(COUNT(E8:N8)=0,"",T8/Q8*100) | V8: =IF(P8>0,1*(T8>1),0) -> 0 | W8: =IF(P8>0,IF(T8>1,"評定意見差異較大",""),"") | Y8: =IF(P8=0,"",IF(T8=0,0,Q8-_xlfn.CONFIDENCE.T(0.05,T8,P8))) | Z8: =IF(P8=0,"",IF(T8=0,0,Q8+_xlfn.CONFIDENCE.T(0.05,T8,P8))) | AB8: =IF(ISERROR(C$2-$C8),"",C$2-$C8) | AC8: =IF(ISERROR(C$3-$C8),"",C$3-$C8) | AD8: =IF(ISERROR(C$4-$C8),"",C$4-$C8) | AE8: =IF(ISERROR(C$5-$C8),"",C$5-$C8) | AF8: =IF(ISERROR(C$6-$C8),"",C$6-$C8) | AG8: =IF(ISERROR(C$7-$C8),"",C$7-$C8)
A9: ='1.設定項目名稱'!B9 -> S8 | B9: =IF(ISBLANK('1.設定項目名稱'!C9)," ",'1.設定項目名稱'!C9) | C9: =IF(P9>0,AVERAGEA(E9:N9),"") | D9: =IF(P9>0,RANK(C9,C$2:C$11),"") | P9: =COUNT(E9:N9) -> 0 | Q9: =IF(COUNT(E9:N9)=0,"",AVERAGE(E9:N9)) | R9: =IF(COUNT(E9:N9)=0,"",MIN(E9:N9)) | S9: =IF(COUNT(E9:N9)=0,"",MAX(E9:N9)) | T9: =IF(COUNT(E9:N9)=0,"",STDEV(E9:N9)) | U9: =IF(COUNT(E9:N9)=0,"",T9/Q9*100) | V9: =IF(P9>0,1*(T9>1),0) -> 0 | W9: =IF(P9>0,IF(T9>1,"評定意見差異較大",""),"") | Y9: =IF(P9=0,"",IF(T9=0,0,Q9-_xlfn.CONFIDENCE.T(0.05,T9,P9))) | Z9: =IF(P9=0,"",IF(T9=0,0,Q9+_xlfn.CONFIDENCE.T(0.05,T9,P9))) | AB9: =IF(ISERROR(C$2-$C9),"",C$2-$C9) | AC9: =IF(ISERROR(C$3-$C9),"",C$3-$C9) | AD9: =IF(ISERROR(C$4-$C9),"",C$4-$C9) | AE9: =IF(ISERROR(C$5-$C9),"",C$5-$C9) | AF9: =IF(ISERROR(C$6-$C9),"",C$6-$C9) | AG9: =IF(ISERROR(C$7-$C9),"",C$7-$C9) | AH9: =IF(ISERROR(C$8-$C9),"",C$8-$C9)
A10: ='1.設定項目名稱'!B10 -> S9 | B10: =IF(ISBLANK('1.設定項目名稱'!C10)," ",'1.設定項目名稱'!C10) | C10: =IF(P10>0,AVERAGEA(E10:N10),"") | D10: =IF(P10>0,RANK(C10,C$2:C$11),"") | P10: =COUNT(E10:N10) -> 0 | Q10: =IF(COUNT(E10:N10)=0,"",AVERAGE(E10:N10)) | R10: =IF(COUNT(E10:N10)=0,"",MIN(E10:N10)) | S10: =IF(COUNT(E10:N10)=0,"",MAX(E10:N10)) | T10: =IF(COUNT(E10:N10)=0,"",STDEV(E10:N10)) | U10: =IF(COUNT(E10:N10)=0,"",T10/Q10*100) | V10: =IF(P10>0,1*(T10>1),0) -> 0 | W10: =IF(P10>0,IF(T10>1,"評定意見差異較大",""),"") | Y10: =IF(P10=0,"",IF(T10=0,0,Q10-_xlfn.CONFIDENCE.T(0.05,T10,P10))) | Z10: =IF(P10=0,"",IF(T10=0,0,Q10+_xlfn.CONFIDENCE.T(0.05,T10,P10))) | AB10: =IF(ISERROR(C$2-$C10),"",C$2-$C10) | AC10: =IF(ISERROR(C$3-$C10),"",C$3-$C10) | AD10: =IF(ISERROR(C$4-$C10),"",C$4-$C10) | AE10: =IF(ISERROR(C$5-$C10),"",C$5-$C10) | AF10: =IF(ISERROR(C$6-$C10),"",C$6-$C10) | AG10: =IF(ISERROR(C$7-$C10),"",C$7-$C10) | AH10: =IF(ISERROR(C$8-$C10),"",C$8-$C10) | AI10: =IF(ISERROR(C$9-$C10),"",C$9-$C10)
A11: ='1.設定項目名稱'!B11 -> S10 | B11: =IF(ISBLANK('1.設定項目名稱'!C11)," ",'1.設定項目名稱'!C11) | C11: =IF(P11>0,AVERAGEA(E11:N11),"") | D11: =IF(P11>0,RANK(C11,C$2:C$11),"") | P11: =COUNT(E11:N11) -> 0 | Q11: =IF(COUNT(E11:N11)=0,"",AVERAGE(E11:N11)) | R11: =IF(COUNT(E11:N11)=0,"",MIN(E11:N11)) | S11: =IF(COUNT(E11:N11)=0,"",MAX(E11:N11)) | T11: =IF(COUNT(E11:N11)=0,"",STDEV(E11:N11)) | U11: =IF(COUNT(E11:N11)=0,"",T11/Q11*100) | V11: =IF(P11>0,1*(T11>1),0) -> 0 | W11: =IF(P11>0,IF(T11>1,"評定意見差異較大",""),"") | Y11: =IF(P11=0,"",IF(T11=0,0,Q11-_xlfn.CONFIDENCE.T(0.05,T11,P11))) | Z11: =IF(P11=0,"",IF(T11=0,0,Q11+_xlfn.CONFIDENCE.T(0.05,T11,P11))) | AB11: =IF(ISERROR(C$2-$C11),"",C$2-$C11) | AC11: =IF(ISERROR(C$3-$C11),"",C$3-$C11) | AD11: =IF(ISERROR(C$4-$C11),"",C$4-$C11) | AE11: =IF(ISERROR(C$5-$C11),"",C$5-$C11) | AF11: =IF(ISERROR(C$6-$C11),"",C$6-$C11) | AG11: =IF(ISERROR(C$7-$C11),"",C$7-$C11) | AH11: =IF(ISERROR(C$8-$C11),"",C$8-$C11) | AI11: =IF(ISERROR(C$9-$C11),"",C$9-$C11) | AJ11: =IF(ISERROR(C$10-$C11),"",C$10-$C11)
A12: ='1.設定項目名稱'!D2 -> W1 | B12: =IF(ISBLANK('1.設定項目名稱'!E2),"",'1.設定項目名稱'!E2) -> 教師年齡偏高多數屆臨退休 | C12: =IF(P12>0,AVERAGEA(E12:N12),"") -> 3 | D12: =IF(P12>0,RANK(C12,C$12:C$21),"") -> 5 | E12: 2 | F12: 4 | P12: =COUNT(E12:N12) -> 2 | Q12: =IF(COUNT(E12:N12)=0,"",AVERAGE(E12:N12)) -> 3 | R12: =IF(COUNT(E12:N12)=0,"",MIN(E12:N12)) -> 2 | S12: =IF(COUNT(E12:N12)=0,"",MAX(E12:N12)) -> 4 | T12: =IF(COUNT(E12:N12)=0,"",STDEV(E12:N12)) -> 1.4142136 | U12: =IF(COUNT(E12:N12)=0,"",T12/Q12*100) -> 47.140452 | V12: =IF(P12>0,1*(T12>1),0) -> 1 | W12: =IF(P12>0,IF(T12>1,"評定意見差異較大",""),"") -> 評定意見差異較大 | Y12: =IF(P12=0,"",IF(T12=0,0,Q12-_xlfn.CONFIDENCE.T(0.05,T12,P12))) -> -9.7062047 | Z12: =IF(P12=0,"",IF(T12=0,0,Q12+_xlfn.CONFIDENCE.T(0.05,T12,P12))) -> 15.706205
A13: ='1.設定項目名稱'!D3 -> W2 | B13: =IF(ISBLANK('1.設定項目名稱'!E3),"",'1.設定項目名稱'!E3) -> 經濟不利條件學生偏多需要協助 | C13: =IF(P13>0,AVERAGEA(E13:N13),"") -> 3.5 | D13: =IF(P13>0,RANK(C13,C$12:C$21),"") -> 4 | E13: 3 | F13: 4 | P13: =COUNT(E13:N13) -> 2 | Q13: =IF(COUNT(E13:N13)=0,"",AVERAGE(E13:N13)) -> 3.5 | R13: =IF(COUNT(E13:N13)=0,"",MIN(E13:N13)) -> 3 | S13: =IF(COUNT(E13:N13)=0,"",MAX(E13:N13)) -> 4 | T13: =IF(COUNT(E13:N13)=0,"",STDEV(E13:N13)) -> 0.70710678 | U13: =IF(COUNT(E13:N13)=0,"",T13/Q13*100) -> 20.203051 | V13: =IF(P13>0,1*(T13>1),0) -> 0 | W13: =IF(P13>0,IF(T13>1,"評定意見差異較大",""),"") | Y13: =IF(P13=0,"",IF(T13=0,0,Q13-_xlfn.CONFIDENCE.T(0.05,T13,P13))) -> -2.8531024 | Z13: =IF(P13=0,"",IF(T13=0,0,Q13+_xlfn.CONFIDENCE.T(0.05,T13,P13))) -> 9.8531024 | AB13: =IF(ISERROR(C$12-$C13),"",C$12-$C13) -> -0.5
A14: ='1.設定項目名稱'!D4 -> W3 | B14: =IF(ISBLANK('1.設定項目名稱'!E4),"",'1.設定項目名稱'!E4) -> 圖書設備汰舊更新較慢 | C14: =IF(P14>0,AVERAGEA(E14:N14),"") -> 4.5 | D14: =IF(P14>0,RANK(C14,C$12:C$21),"") -> 2 | E14: 4 | F14: 5 | P14: =COUNT(E14:N14) -> 2 | Q14: =IF(COUNT(E14:N14)=0,"",AVERAGE(E14:N14)) -> 4.5 | R14: =IF(COUNT(E14:N14)=0,"",MIN(E14:N14)) -> 4 | S14: =IF(COUNT(E14:N14)=0,"",MAX(E14:N14)) -> 5 | T14: =IF(COUNT(E14:N14)=0,"",STDEV(E14:N14)) -> 0.70710678 | U14: =IF(COUNT(E14:N14)=0,"",T14/Q14*100) -> 15.713484 | V14: =IF(P14>0,1*(T14>1),0) -> 0 | W14: =IF(P14>0,IF(T14>1,"評定意見差異較大",""),"") | Y14: =IF(P14=0,"",IF(T14=0,0,Q14-_xlfn.CONFIDENCE.T(0.05,T14,P14))) -> -1.8531024 | Z14: =IF(P14=0,"",IF(T14=0,0,Q14+_xlfn.CONFIDENCE.T(0.05,T14,P14))) -> 10.853102 | AB14: =IF(ISERROR(C$12-$C14),"",C$12-$C14) -> -1.5 | AC14: =IF(ISERROR(C$13-$C14),"",C$13-$C14) -> -1
A15: ='1.設定項目名稱'!D5 -> W4 | B15: =IF(ISBLANK('1.設定項目名稱'!E5),"",'1.設定項目名稱'!E5) -> 外語教學師資不足需向外招聘 | C15: =IF(P15>0,AVERAGEA(E15:N15),"") -> 6 | D15: =IF(P15>0,RANK(C15,C$12:C$21),"") -> 1 | E15: 6 | F15: 6 | P15: =COUNT(E15:N15) -> 2 | Q15: =IF(COUNT(E15:N15)=0,"",AVERAGE(E15:N15)) -> 6 | R15: =IF(COUNT(E15:N15)=0,"",MIN(E15:N15)) -> 6 | S15: =IF(COUNT(E15:N15)=0,"",MAX(E15:N15)) -> 6 | T15: =IF(COUNT(E15:N15)=0,"",STDEV(E15:N15)) -> 0 | U15: =IF(COUNT(E15:N15)=0,"",T15/Q15*100) -> 0 | V15: =IF(P15>0,1*(T15>1),0) -> 0 | W15: =IF(P15>0,IF(T15>1,"評定意見差異較大",""),"") | Y15: =IF(P15=0,"",IF(T15=0,0,Q15-_xlfn.CONFIDENCE.T(0.05,T15,P15))) -> 0 | Z15: =IF(P15=0,"",IF(T15=0,0,Q15+_xlfn.CONFIDENCE.T(0.05,T15,P15))) -> 0 | AB15: =IF(ISERROR(C$12-$C15),"",C$12-$C15) -> -3 | AC15: =IF(ISERROR(C$13-$C15),"",C$13-$C15) -> -2.5 | AD15: =IF(ISERROR(C$14-$C15),"",C$14-$C15) -> -1.5
A16: ='1.設定項目名稱'!D6 -> W5 | B16: =IF(ISBLANK('1.設定項目名稱'!E6),"",'1.設定項目名稱'!E6) -> 科技課程教材相對他校顯得陳舊 | C16: =IF(P16>0,AVERAGEA(E16:N16),"") -> 4.5 | D16: =IF(P16>0,RANK(C16,C$12:C$21),"") -> 2 | E16: 5 | F16: 4 | P16: =COUNT(E16:N16) -> 2 | Q16: =IF(COUNT(E16:N16)=0,"",AVERAGE(E16:N16)) -> 4.5 | R16: =IF(COUNT(E16:N16)=0,"",MIN(E16:N16)) -> 4 | S16: =IF(COUNT(E16:N16)=0,"",MAX(E16:N16)) -> 5 | T16: =IF(COUNT(E16:N16)=0,"",STDEV(E16:N16)) -> 0.70710678 | U16: =IF(COUNT(E16:N16)=0,"",T16/Q16*100) -> 15.713484 | V16: =IF(P16>0,1*(T16>1),0) -> 0 | W16: =IF(P16>0,IF(T16>1,"評定意見差異較大",""),"") | Y16: =IF(P16=0,"",IF(T16=0,0,Q16-_xlfn.CONFIDENCE.T(0.05,T16,P16))) -> -1.8531024 | Z16: =IF(P16=0,"",IF(T16=0,0,Q16+_xlfn.CONFIDENCE.T(0.05,T16,P16))) -> 10.853102 | AB16: =IF(ISERROR(C$12-$C16),"",C$12-$C16) -> -1.5 | AC16: =IF(ISERROR(C$13-$C16),"",C$13-$C16) -> -1 | AD16: =IF(ISERROR(C$14-$C16),"",C$14-$C16) -> 0 | AE16: =IF(ISERROR(C$15-$C16),"",C$15-$C16) -> 1.5
A17: ='1.設定項目名稱'!D7 -> W6 | B17: =IF(ISBLANK('1.設定項目名稱'!E7),"",'1.設定項目名稱'!E7) | C17: =IF(P17>0,AVERAGEA(E17:N17),"") | D17: =IF(P17>0,RANK(C17,C$12:C$21),"") | P17: =COUNT(E17:N17) -> 0 | Q17: =IF(COUNT(E17:N17)=0,"",AVERAGE(E17:N17)) | R17: =IF(COUNT(E17:N17)=0,"",MIN(E17:N17)) | S17: =IF(COUNT(E17:N17)=0,"",MAX(E17:N17)) | T17: =IF(COUNT(E17:N17)=0,"",STDEV(E17:N17)) | U17: =IF(COUNT(E17:N17)=0,"",T17/Q17*100) | V17: =IF(P17>0,1*(T17>1),0) -> 0 | W17: =IF(P17>0,IF(T17>1,"評定意見差異較大",""),"") | Y17: =IF(P17=0,"",IF(T17=0,0,Q17-_xlfn.CONFIDENCE.T(0.05,T17,P17))) | Z17: =IF(P17=0,"",IF(T17=0,0,Q17+_xlfn.CONFIDENCE.T(0.05,T17,P17))) | AB17: =IF(ISERROR(C$12-$C17),"",C$12-$C17) | AC17: =IF(ISERROR(C$13-$C17),"",C$13-$C17) | AD17: =IF(ISERROR(C$14-$C17),"",C$14-$C17) | AE17: =IF(ISERROR(C$15-$C17),"",C$15-$C17) | AF17: =IF(ISERROR(C$16-$C17),"",C$16-$C17) | AH17: =IF(ISERROR(G$4-$C17),"",G$4-$C17)
A18: ='1.設定項目名稱'!D8 -> W7 | B18: =IF(ISBLANK('1.設定項目名稱'!E8),"",'1.設定項目名稱'!E8) | C18: =IF(P18>0,AVERAGEA(E18:N18),"") | D18: =IF(P18>0,RANK(C18,C$12:C$21),"") | P18: =COUNT(E18:N18) -> 0 | Q18: =IF(COUNT(E18:N18)=0,"",AVERAGE(E18:N18)) | R18: =IF(COUNT(E18:N18)=0,"",MIN(E18:N18)) | S18: =IF(COUNT(E18:N18)=0,"",MAX(E18:N18)) | T18: =IF(COUNT(E18:N18)=0,"",STDEV(E18:N18)) | U18: =IF(COUNT(E18:N18)=0,"",T18/Q18*100) | V18: =IF(P18>0,1*(T18>1),0) -> 0 | W18: =IF(P18>0,IF(T18>1,"評定意見差異較大",""),"") | Y18: =IF(P18=0,"",IF(T18=0,0,Q18-_xlfn.CONFIDENCE.T(0.05,T18,P18))) | Z18: =IF(P18=0,"",IF(T18=0,0,Q18+_xlfn.CONFIDENCE.T(0.05,T18,P18))) | AB18: =IF(ISERROR(C$12-$C18),"",C$12-$C18) | AC18: =IF(ISERROR(C$13-$C18),"",C$13-$C18) | AD18: =IF(ISERROR(C$14-$C18),"",C$14-$C18) | AE18: =IF(ISERROR(C$15-$C18),"",C$15-$C18) | AF18: =IF(ISERROR(C$16-$C18),"",C$16-$C18) | AG18: =IF(ISERROR(C$17-$C18),"",C$17-$C18)
A19: ='1.設定項目名稱'!D9 -> W8 | B19: =IF(ISBLANK('1.設定項目名稱'!E9),"",'1.設定項目名稱'!E9) | C19: =IF(P19>0,AVERAGEA(E19:N19),"") | D19: =IF(P19>0,RANK(C19,C$12:C$21),"") | P19: =COUNT(E19:N19) -> 0 | Q19: =IF(COUNT(E19:N19)=0,"",AVERAGE(E19:N19)) | R19: =IF(COUNT(E19:N19)=0,"",MIN(E19:N19)) | S19: =IF(COUNT(E19:N19)=0,"",MAX(E19:N19)) | T19: =IF(COUNT(E19:N19)=0,"",STDEV(E19:N19)) | U19: =IF(COUNT(E19:N19)=0,"",T19/Q19*100) | V19: =IF(P19>0,1*(T19>1),0) -> 0 | W19: =IF(P19>0,IF(T19>1,"評定意見差異較大",""),"") | Y19: =IF(P19=0,"",IF(T19=0,0,Q19-_xlfn.CONFIDENCE.T(0.05,T19,P19))) | Z19: =IF(P19=0,"",IF(T19=0,0,Q19+_xlfn.CONFIDENCE.T(0.05,T19,P19))) | AB19: =IF(ISERROR(C$12-$C19),"",C$12-$C19) | AC19: =IF(ISERROR(C$13-$C19),"",C$13-$C19) | AD19: =IF(ISERROR(C$14-$C19),"",C$14-$C19) | AE19: =IF(ISERROR(C$15-$C19),"",C$15-$C19) | AF19: =IF(ISERROR(C$16-$C19),"",C$16-$C19) | AG19: =IF(ISERROR(C$17-$C19),"",C$17-$C19) | AH19: =IF(ISERROR(C$18-$C19),"",C$18-$C19)
A20: ='1.設定項目名稱'!D10 -> W9 | B20: =IF(ISBLANK('1.設定項目名稱'!E10),"",'1.設定項目名稱'!E10) | C20: =IF(P20>0,AVERAGEA(E20:N20),"") | D20: =IF(P20>0,RANK(C20,C$12:C$21),"") | P20: =COUNT(E20:N20) -> 0 | Q20: =IF(COUNT(E20:N20)=0,"",AVERAGE(E20:N20)) | R20: =IF(COUNT(E20:N20)=0,"",MIN(E20:N20)) | S20: =IF(COUNT(E20:N20)=0,"",MAX(E20:N20)) | T20: =IF(COUNT(E20:N20)=0,"",STDEV(E20:N20)) | U20: =IF(COUNT(E20:N20)=0,"",T20/Q20*100) | V20: =IF(P20>0,1*(T20>1),0) -> 0 | W20: =IF(P20>0,IF(T20>1,"評定意見差異較大",""),"") | Y20: =IF(P20=0,"",IF(T20=0,0,Q20-_xlfn.CONFIDENCE.T(0.05,T20,P20))) | Z20: =IF(P20=0,"",IF(T20=0,0,Q20+_xlfn.CONFIDENCE.T(0.05,T20,P20))) | AB20: =IF(ISERROR(C$12-$C20),"",C$12-$C20) | AC20: =IF(ISERROR(C$13-$C20),"",C$13-$C20) | AD20: =IF(ISERROR(C$14-$C20),"",C$14-$C20) | AE20: =IF(ISERROR(C$15-$C20),"",C$15-$C20) | AF20: =IF(ISERROR(C$16-$C20),"",C$16-$C20) | AG20: =IF(ISERROR(C$17-$C20),"",C$17-$C20) | AH20: =IF(ISERROR(C$18-$C20),"",C$18-$C20) | AI20: =IF(ISERROR(C$19-$C20),"",C$19-$C20)
A21: ='1.設定項目名稱'!D11 -> W10 | B21: =IF(ISBLANK('1.設定項目名稱'!E11),"",'1.設定項目名稱'!E11) | C21: =IF(P21>0,AVERAGEA(E21:N21),"") | D21: =IF(P21>0,RANK(C21,C$12:C$21),"") | P21: =COUNT(E21:N21) -> 0 | Q21: =IF(COUNT(E21:N21)=0,"",AVERAGE(E21:N21)) | R21: =IF(COUNT(E21:N21)=0,"",MIN(E21:N21)) | S21: =IF(COUNT(E21:N21)=0,"",MAX(E21:N21)) | T21: =IF(COUNT(E21:N21)=0,"",STDEV(E21:N21)) | U21: =IF(COUNT(E21:N21)=0,"",T21/Q21*100) | V21: =IF(P21>0,1*(T21>1),0) -> 0 | W21: =IF(P21>0,IF(T21>1,"評定意見差異較大",""),"") | Y21: =IF(P21=0,"",IF(T21=0,0,Q21-_xlfn.CONFIDENCE.T(0.05,T21,P21))) | Z21: =IF(P21=0,"",IF(T21=0,0,Q21+_xlfn.CONFIDENCE.T(0.05,T21,P21))) | AB21: =IF(ISERROR(C$12-$C21),"",C$12-$C21) | AC21: =IF(ISERROR(C$13-$C21),"",C$13-$C21) | AD21: =IF(ISERROR(C$14-$C21),"",C$14-$C21) | AE21: =IF(ISERROR(C$15-$C21),"",C$15-$C21) | AF21: =IF(ISERROR(C$16-$C21),"",C$16-$C21) | AG21: =IF(ISERROR(C$17-$C21),"",C$17-$C21) | AH21: =IF(ISERROR(C$18-$C21),"",C$18-$C21) | AI21: =IF(ISERROR(C$19-$C21),"",C$19-$C21) | AJ21: =IF(ISERROR(C$20-$C21),"",C$20-$C21)
A22: ='1.設定項目名稱'!F2 -> O1 | B22: =IF(ISBLANK('1.設定項目名稱'!G2),"",'1.設定項目名稱'!G2) -> 教育局積極補助學校設備更新供專案申請 | C22: =IF(P22>0,AVERAGEA(E22:N22),"") -> 6.5 | D22: =IF(P22>0,RANK(C22,C$22:C$31),"") -> 1 | E22: 6 | F22: 7 | P22: =COUNT(E22:N22) -> 2 | Q22: =IF(COUNT(E22:N22)=0,"",AVERAGE(E22:N22)) -> 6.5 | R22: =IF(COUNT(E22:N22)=0,"",MIN(E22:N22)) -> 6 | S22: =IF(COUNT(E22:N22)=0,"",MAX(E22:N22)) -> 7 | T22: =IF(COUNT(E22:N22)=0,"",STDEV(E22:N22)) -> 0.70710678 | U22: =IF(COUNT(E22:N22)=0,"",T22/Q22*100) -> 10.878566 | V22: =IF(P22>0,1*(T22>1),0) -> 0 | W22: =IF(P22>0,IF(T22>1,"評定意見差異較大",""),"") | Y22: =IF(P22=0,"",IF(T22=0,0,Q22-_xlfn.CONFIDENCE.T(0.05,T22,P22))) -> 0.14689763 | Z22: =IF(P22=0,"",IF(T22=0,0,Q22+_xlfn.CONFIDENCE.T(0.05,T22,P22))) -> 12.853102
A23: ='1.設定項目名稱'!F3 -> O2 | B23: =IF(ISBLANK('1.設定項目名稱'!G3),"",'1.設定項目名稱'!G3) -> 民間團體培育外語師資尋求合作意願高 | C23: =IF(P23>0,AVERAGEA(E23:N23),"") -> 2.5 | D23: =IF(P23>0,RANK(C23,C$22:C$31),"") -> 4 | E23: 3 | F23: 2 | P23: =COUNT(E23:N23) -> 2 | Q23: =IF(COUNT(E23:N23)=0,"",AVERAGE(E23:N23)) -> 2.5 | R23: =IF(COUNT(E23:N23)=0,"",MIN(E23:N23)) -> 2 | S23: =IF(COUNT(E23:N23)=0,"",MAX(E23:N23)) -> 3 | T23: =IF(COUNT(E23:N23)=0,"",STDEV(E23:N23)) -> 0.70710678 | U23: =IF(COUNT(E23:N23)=0,"",T23/Q23*100) -> 28.284271 | V23: =IF(P23>0,1*(T23>1),0) -> 0 | W23: =IF(P23>0,IF(T23>1,"評定意見差異較大",""),"") | Y23: =IF(P23=0,"",IF(T23=0,0,Q23-_xlfn.CONFIDENCE.T(0.05,T23,P23))) -> -3.8531024 | Z23: =IF(P23=0,"",IF(T23=0,0,Q23+_xlfn.CONFIDENCE.T(0.05,T23,P23))) -> 8.8531024 | AB23: =IF(ISERROR(C$22-$C23),"",C$22-$C23) -> 4
A24: ='1.設定項目名稱'!F4 -> O3 | B24: =IF(ISBLANK('1.設定項目名稱'!G4),"",'1.設定項目名稱'!G4) -> 大型商場和大企業機構進駐社區吸引建商推出新建案 | C24: =IF(P24>0,AVERAGEA(E24:N24),"") -> 4.5 | D24: =IF(P24>0,RANK(C24,C$22:C$31),"") -> 3 | E24: 4 | F24: 5 | P24: =COUNT(E24:N24) -> 2 | Q24: =IF(COUNT(E24:N24)=0,"",AVERAGE(E24:N24)) -> 4.5 | R24: =IF(COUNT(E24:N24)=0,"",MIN(E24:N24)) -> 4 | S24: =IF(COUNT(E24:N24)=0,"",MAX(E24:N24)) -> 5 | T24: =IF(COUNT(E24:N24)=0,"",STDEV(E24:N24)) -> 0.70710678 | U24: =IF(COUNT(E24:N24)=0,"",T24/Q24*100) -> 15.713484 | V24: =IF(P24>0,1*(T24>1),0) -> 0 | W24: =IF(P24>0,IF(T24>1,"評定意見差異較大",""),"") | Y24: =IF(P24=0,"",IF(T24=0,0,Q24-_xlfn.CONFIDENCE.T(0.05,T24,P24))) -> -1.8531024 | Z24: =IF(P24=0,"",IF(T24=0,0,Q24+_xlfn.CONFIDENCE.T(0.05,T24,P24))) -> 10.853102 | AB24: =IF(ISERROR(C$22-$C24),"",C$22-$C24) -> 2 | AC24: =IF(ISERROR(C$23-$C24),"",C$23-$C24) -> -2
A25: ='1.設定項目名稱'!F5 -> O4 | B25: =IF(ISBLANK('1.設定項目名稱'!G5),"",'1.設定項目名稱'!G5) -> 教育局推動優秀退休教師參與學校教學協助方案 | C25: =IF(P25>0,AVERAGEA(E25:N25),"") -> 5.5 | D25: =IF(P25>0,RANK(C25,C$22:C$31),"") -> 2 | E25: 5 | F25: 6 | P25: =COUNT(E25:N25) -> 2 | Q25: =IF(COUNT(E25:N25)=0,"",AVERAGE(E25:N25)) -> 5.5 | R25: =IF(COUNT(E25:N25)=0,"",MIN(E25:N25)) -> 5 | S25: =IF(COUNT(E25:N25)=0,"",MAX(E25:N25)) -> 6 | T25: =IF(COUNT(E25:N25)=0,"",STDEV(E25:N25)) -> 0.70710678 | U25: =IF(COUNT(E25:N25)=0,"",T25/Q25*100) -> 12.856487 | V25: =IF(P25>0,1*(T25>1),0) -> 0 | W25: =IF(P25>0,IF(T25>1,"評定意見差異較大",""),"") | Y25: =IF(P25=0,"",IF(T25=0,0,Q25-_xlfn.CONFIDENCE.T(0.05,T25,P25))) -> -0.85310237 | Z25: =IF(P25=0,"",IF(T25=0,0,Q25+_xlfn.CONFIDENCE.T(0.05,T25,P25))) -> 11.853102 | AB25: =IF(ISERROR(C$22-$C25),"",C$22-$C25) -> 1 | AC25: =IF(ISERROR(C$23-$C25),"",C$23-$C25) -> -3 | AD25: =IF(ISERROR(C$24-$C25),"",C$24-$C25) -> -1
A26: ='1.設定項目名稱'!F6 -> O5 | B26: =IF(ISBLANK('1.設定項目名稱'!G6),"",'1.設定項目名稱'!G6) -> 民間文教演藝團體提供免費巡迴服務 | C26: =IF(P26>0,AVERAGEA(E26:N26),"") -> 2 | D26: =IF(P26>0,RANK(C26,C$22:C$31),"") -> 5 | E26: 1 | F26: 3 | P26: =COUNT(E26:N26) -> 2 | Q26: =IF(COUNT(E26:N26)=0,"",AVERAGE(E26:N26)) -> 2 | R26: =IF(COUNT(E26:N26)=0,"",MIN(E26:N26)) -> 1 | S26: =IF(COUNT(E26:N26)=0,"",MAX(E26:N26)) -> 3 | T26: =IF(COUNT(E26:N26)=0,"",STDEV(E26:N26)) -> 1.4142136 | U26: =IF(COUNT(E26:N26)=0,"",T26/Q26*100) -> 70.710678 | V26: =IF(P26>0,1*(T26>1),0) -> 1 | W26: =IF(P26>0,IF(T26>1,"評定意見差異較大",""),"") -> 評定意見差異較大 | Y26: =IF(P26=0,"",IF(T26=0,0,Q26-_xlfn.CONFIDENCE.T(0.05,T26,P26))) -> -10.706205 | Z26: =IF(P26=0,"",IF(T26=0,0,Q26+_xlfn.CONFIDENCE.T(0.05,T26,P26))) -> 14.706205 | AB26: =IF(ISERROR(C$22-$C26),"",C$22-$C26) -> 4.5 | AC26: =IF(ISERROR(C$23-$C26),"",C$23-$C26) -> 0.5 | AD26: =IF(ISERROR(C$24-$C26),"",C$24-$C26) -> 2.5 | AE26: =IF(ISERROR(C$25-$C26),"",C$25-$C26) -> 3.5
A27: ='1.設定項目名稱'!F7 -> O6 | B27: =IF(ISBLANK('1.設定項目名稱'!G7),"",'1.設定項目名稱'!G7) | C27: =IF(P27>0,AVERAGEA(E27:N27),"") | D27: =IF(P27>0,RANK(C27,C$22:C$31),"") | P27: =COUNT(E27:N27) -> 0 | Q27: =IF(COUNT(E27:N27)=0,"",AVERAGE(E27:N27)) | R27: =IF(COUNT(E27:N27)=0,"",MIN(E27:N27)) | S27: =IF(COUNT(E27:N27)=0,"",MAX(E27:N27)) | T27: =IF(COUNT(E27:N27)=0,"",STDEV(E27:N27)) | U27: =IF(COUNT(E27:N27)=0,"",T27/Q27*100) | V27: =IF(P27>0,1*(T27>1),0) -> 0 | W27: =IF(P27>0,IF(T27>1,"評定意見差異較大",""),"") | Y27: =IF(P27=0,"",IF(T27=0,0,Q27-_xlfn.CONFIDENCE.T(0.05,T27,P27))) | Z27: =IF(P27=0,"",IF(T27=0,0,Q27+_xlfn.CONFIDENCE.T(0.05,T27,P27))) | AB27: =IF(ISERROR(C$22-$C27),"",C$22-$C27) | AC27: =IF(ISERROR(C$23-$C27),"",C$23-$C27) | AD27: =IF(ISERROR(C$24-$C27),"",C$24-$C27) | AE27: =IF(ISERROR(C$25-$C27),"",C$25-$C27) | AF27: =IF(ISERROR(C$26-$C27),"",C$26-$C27) | AH27: =IF(ISERROR(G$4-$C27),"",G$4-$C27)
A28: ='1.設定項目名稱'!F8 -> O7 | B28: =IF(ISBLANK('1.設定項目名稱'!G8),"",'1.設定項目名稱'!G8) | C28: =IF(P28>0,AVERAGEA(E28:N28),"") | D28: =IF(P28>0,RANK(C28,C$22:C$31),"") | P28: =COUNT(E28:N28) -> 0 | Q28: =IF(COUNT(E28:N28)=0,"",AVERAGE(E28:N28)) | R28: =IF(COUNT(E28:N28)=0,"",MIN(E28:N28)) | S28: =IF(COUNT(E28:N28)=0,"",MAX(E28:N28)) | T28: =IF(COUNT(E28:N28)=0,"",STDEV(E28:N28)) | U28: =IF(COUNT(E28:N28)=0,"",T28/Q28*100) | V28: =IF(P28>0,1*(T28>1),0) -> 0 | W28: =IF(P28>0,IF(T28>1,"評定意見差異較大",""),"") | Y28: =IF(P28=0,"",IF(T28=0,0,Q28-_xlfn.CONFIDENCE.T(0.05,T28,P28))) | Z28: =IF(P28=0,"",IF(T28=0,0,Q28+_xlfn.CONFIDENCE.T(0.05,T28,P28))) | AB28: =IF(ISERROR(C$22-$C28),"",C$22-$C28) | AC28: =IF(ISERROR(C$23-$C28),"",C$23-$C28) | AD28: =IF(ISERROR(C$24-$C28),"",C$24-$C28) | AE28: =IF(ISERROR(C$25-$C28),"",C$25-$C28) | AF28: =IF(ISERROR(C$26-$C28),"",C$26-$C28) | AG28: =IF(ISERROR(C$27-$C28),"",C$27-$C28)
A29: ='1.設定項目名稱'!F9 -> O8 | B29: =IF(ISBLANK('1.設定項目名稱'!G9),"",'1.設定項目名稱'!G9) | C29: =IF(P29>0,AVERAGEA(E29:N29),"") | D29: =IF(P29>0,RANK(C29,C$22:C$31),"") | P29: =COUNT(E29:N29) -> 0 | Q29: =IF(COUNT(E29:N29)=0,"",AVERAGE(E29:N29)) | R29: =IF(COUNT(E29:N29)=0,"",MIN(E29:N29)) | S29: =IF(COUNT(E29:N29)=0,"",MAX(E29:N29)) | T29: =IF(COUNT(E29:N29)=0,"",STDEV(E29:N29)) | U29: =IF(COUNT(E29:N29)=0,"",T29/Q29*100) | V29: =IF(P29>0,1*(T29>1),0) -> 0 | W29: =IF(P29>0,IF(T29>1,"評定意見差異較大",""),"") | Y29: =IF(P29=0,"",IF(T29=0,0,Q29-_xlfn.CONFIDENCE.T(0.05,T29,P29))) | Z29: =IF(P29=0,"",IF(T29=0,0,Q29+_xlfn.CONFIDENCE.T(0.05,T29,P29))) | AB29: =IF(ISERROR(C$22-$C29),"",C$22-$C29) | AC29: =IF(ISERROR(C$23-$C29),"",C$23-$C29) | AD29: =IF(ISERROR(C$24-$C29),"",C$24-$C29) | AE29: =IF(ISERROR(C$25-$C29),"",C$25-$C29) | AF29: =IF(ISERROR(C$26-$C29),"",C$26-$C29) | AG29: =IF(ISERROR(C$27-$C29),"",C$27-$C29) | AH29: =IF(ISERROR(C$28-$C29),"",C$28-$C29)
A30: ='1.設定項目名稱'!F10 -> O9 | B30: =IF(ISBLANK('1.設定項目名稱'!G10),"",'1.設定項目名稱'!G10) | C30: =IF(P30>0,AVERAGEA(E30:N30),"") | D30: =IF(P30>0,RANK(C30,C$22:C$31),"") | P30: =COUNT(E30:N30) -> 0 | Q30: =IF(COUNT(E30:N30)=0,"",AVERAGE(E30:N30)) | R30: =IF(COUNT(E30:N30)=0,"",MIN(E30:N30)) | S30: =IF(COUNT(E30:N30)=0,"",MAX(E30:N30)) | T30: =IF(COUNT(E30:N30)=0,"",STDEV(E30:N30)) | U30: =IF(COUNT(E30:N30)=0,"",T30/Q30*100) | V30: =IF(P30>0,1*(T30>1),0) -> 0 | W30: =IF(P30>0,IF(T30>1,"評定意見差異較大",""),"") | Y30: =IF(P30=0,"",IF(T30=0,0,Q30-_xlfn.CONFIDENCE.T(0.05,T30,P30))) | Z30: =IF(P30=0,"",IF(T30=0,0,Q30+_xlfn.CONFIDENCE.T(0.05,T30,P30))) | AB30: =IF(ISERROR(C$22-$C30),"",C$22-$C30) | AC30: =IF(ISERROR(C$23-$C30),"",C$23-$C30) | AD30: =IF(ISERROR(C$24-$C30),"",C$24-$C30) | AE30: =IF(ISERROR(C$25-$C30),"",C$25-$C30) | AF30: =IF(ISERROR(C$26-$C30),"",C$26-$C30) | AG30: =IF(ISERROR(C$27-$C30),"",C$27-$C30) | AH30: =IF(ISERROR(C$28-$C30),"",C$28-$C30) | AI30: =IF(ISERROR(C$29-$C30),"",C$29-$C30)
A31: ='1.設定項目名稱'!F11 -> O10 | B31: =IF(ISBLANK('1.設定項目名稱'!G11),"",'1.設定項目名稱'!G11) | C31: =IF(P31>0,AVERAGEA(E31:N31),"") | D31: =IF(P31>0,RANK(C31,C$22:C$31),"") | P31: =COUNT(E31:N31) -> 0 | Q31: =IF(COUNT(E31:N31)=0,"",AVERAGE(E31:N31)) | R31: =IF(COUNT(E31:N31)=0,"",MIN(E31:N31)) | S31: =IF(COUNT(E31:N31)=0,"",MAX(E31:N31)) | T31: =IF(COUNT(E31:N31)=0,"",STDEV(E31:N31)) | U31: =IF(COUNT(E31:N31)=0,"",T31/Q31*100) | V31: =IF(P31>0,1*(T31>1),0) -> 0 | W31: =IF(P31>0,IF(T31>1,"評定意見差異較大",""),"") | Y31: =IF(P31=0,"",IF(T31=0,0,Q31-_xlfn.CONFIDENCE.T(0.05,T31,P31))) | Z31: =IF(P31=0,"",IF(T31=0,0,Q31+_xlfn.CONFIDENCE.T(0.05,T31,P31))) | AB31: =IF(ISERROR(C$22-$C31),"",C$22-$C31) | AC31: =IF(ISERROR(C$23-$C31),"",C$23-$C31) | AD31: =IF(ISERROR(C$24-$C31),"",C$24-$C31) | AE31: =IF(ISERROR(C$25-$C31),"",C$25-$C31) | AF31: =IF(ISERROR(C$26-$C31),"",C$26-$C31) | AG31: =IF(ISERROR(C$27-$C31),"",C$27-$C31) | AH31: =IF(ISERROR(C$28-$C31),"",C$28-$C31) | AI31: =IF(ISERROR(C$29-$C31),"",C$29-$C31) | AJ31: =IF(ISERROR(C$30-$C31),"",C$30-$C31)
A32: ='1.設定項目名稱'!H2 -> T1 | B32: =IF(ISBLANK('1.設定項目名稱'!I2),"",'1.設定項目名稱'!I2) -> 社區學齡入學兒童數逐年降低增加招生難度 | C32: =IF(P32>0,AVERAGEA(E32:N32),"") -> 5.5 | D32: =IF(P32>0,RANK(C32,C$32:C$41),"") -> 1 | E32: 5 | F32: 6 | P32: =COUNT(E32:N32) -> 2 | Q32: =IF(COUNT(E32:N32)=0,"",AVERAGE(E32:N32)) -> 5.5 | R32: =IF(COUNT(E32:N32)=0,"",MIN(E32:N32)) -> 5 | S32: =IF(COUNT(E32:N32)=0,"",MAX(E32:N32)) -> 6 | T32: =IF(COUNT(E32:N32)=0,"",STDEV(E32:N32)) -> 0.70710678 | U32: =IF(COUNT(E32:N32)=0,"",T32/Q32*100) -> 12.856487 | V32: =IF(P32>0,1*(T32>1),0) -> 0 | W32: =IF(P32>0,IF(T32>1,"評定意見差異較大",""),"") | Y32: =IF(P32=0,"",IF(T32=0,0,Q32-_xlfn.CONFIDENCE.T(0.05,T32,P32))) -> -0.85310237 | Z32: =IF(P32=0,"",IF(T32=0,0,Q32+_xlfn.CONFIDENCE.T(0.05,T32,P32))) -> 11.853102
A33: ='1.設定項目名稱'!H3 -> T2 | B33: =IF(ISBLANK('1.設定項目名稱'!I3),"",'1.設定項目名稱'!I3) -> 他校轉型實驗學校吸引本校生轉學就讀形成競爭 | C33: =IF(P33>0,AVERAGEA(E33:N33),"") -> 4 | D33: =IF(P33>0,RANK(C33,C$32:C$41),"") -> 3 | E33: 4 | F33: 4 | P33: =COUNT(E33:N33) -> 2 | Q33: =IF(COUNT(E33:N33)=0,"",AVERAGE(E33:N33)) -> 4 | R33: =IF(COUNT(E33:N33)=0,"",MIN(E33:N33)) -> 4 | S33: =IF(COUNT(E33:N33)=0,"",MAX(E33:N33)) -> 4 | T33: =IF(COUNT(E33:N33)=0,"",STDEV(E33:N33)) -> 0 | U33: =IF(COUNT(E33:N33)=0,"",T33/Q33*100) -> 0 | V33: =IF(P33>0,1*(T33>1),0) -> 0 | W33: =IF(P33>0,IF(T33>1,"評定意見差異較大",""),"") | Y33: =IF(P33=0,"",IF(T33=0,0,Q33-_xlfn.CONFIDENCE.T(0.05,T33,P33))) -> 0 | Z33: =IF(P33=0,"",IF(T33=0,0,Q33+_xlfn.CONFIDENCE.T(0.05,T33,P33))) -> 0 | AB33: =IF(ISERROR(C$32-$C33),"",C$32-$C33) -> 1.5
A34: ='1.設定項目名稱'!H4 -> T3 | B34: =IF(ISBLANK('1.設定項目名稱'!I4),"",'1.設定項目名稱'!I4) -> 家長關心外語學習促成學生參加課後外語補習人數漸增 | C34: =IF(P34>0,AVERAGEA(E34:N34),"") -> 5 | D34: =IF(P34>0,RANK(C34,C$32:C$41),"") -> 2 | E34: 5 | F34: 5 | P34: =COUNT(E34:N34) -> 2 | Q34: =IF(COUNT(E34:N34)=0,"",AVERAGE(E34:N34)) -> 5 | R34: =IF(COUNT(E34:N34)=0,"",MIN(E34:N34)) -> 5 | S34: =IF(COUNT(E34:N34)=0,"",MAX(E34:N34)) -> 5 | T34: =IF(COUNT(E34:N34)=0,"",STDEV(E34:N34)) -> 0 | U34: =IF(COUNT(E34:N34)=0,"",T34/Q34*100) -> 0 | V34: =IF(P34>0,1*(T34>1),0) -> 0 | W34: =IF(P34>0,IF(T34>1,"評定意見差異較大",""),"") | Y34: =IF(P34=0,"",IF(T34=0,0,Q34-_xlfn.CONFIDENCE.T(0.05,T34,P34))) -> 0 | Z34: =IF(P34=0,"",IF(T34=0,0,Q34+_xlfn.CONFIDENCE.T(0.05,T34,P34))) -> 0 | AB34: =IF(ISERROR(C$32-$C34),"",C$32-$C34) -> 0.5 | AC34: =IF(ISERROR(C$33-$C34),"",C$33-$C34) -> -1
A35: ='1.設定項目名稱'!H5 -> T4 | B35: =IF(ISBLANK('1.設定項目名稱'!I5),"",'1.設定項目名稱'!I5) -> 民間教育團體培育優秀師資不合現行政策規定無法聘用 | C35: =IF(P35>0,AVERAGEA(E35:N35),"") -> 4 | D35: =IF(P35>0,RANK(C35,C$32:C$41),"") -> 3 | E35: 3 | F35: 5 | P35: =COUNT(E35:N35) -> 2 | Q35: =IF(COUNT(E35:N35)=0,"",AVERAGE(E35:N35)) -> 4 | R35: =IF(COUNT(E35:N35)=0,"",MIN(E35:N35)) -> 3 | S35: =IF(COUNT(E35:N35)=0,"",MAX(E35:N35)) -> 5 | T35: =IF(COUNT(E35:N35)=0,"",STDEV(E35:N35)) -> 1.4142136 | U35: =IF(COUNT(E35:N35)=0,"",T35/Q35*100) -> 35.355339 | V35: =IF(P35>0,1*(T35>1),0) -> 1 | W35: =IF(P35>0,IF(T35>1,"評定意見差異較大",""),"") -> 評定意見差異較大 | Y35: =IF(P35=0,"",IF(T35=0,0,Q35-_xlfn.CONFIDENCE.T(0.05,T35,P35))) -> -8.7062047 | Z35: =IF(P35=0,"",IF(T35=0,0,Q35+_xlfn.CONFIDENCE.T(0.05,T35,P35))) -> 16.706205 | AB35: =IF(ISERROR(C$32-$C35),"",C$32-$C35) -> 1.5 | AC35: =IF(ISERROR(C$33-$C35),"",C$33-$C35) -> 0 | AD35: =IF(ISERROR(C$34-$C35),"",C$34-$C35) -> 1
A36: ='1.設定項目名稱'!H6 -> T5 | B36: =IF(ISBLANK('1.設定項目名稱'!I6),"",'1.設定項目名稱'!I6) | C36: =IF(P36>0,AVERAGEA(E36:N36),"") | D36: =IF(P36>0,RANK(C36,C$32:C$41),"") | P36: =COUNT(E36:N36) -> 0 | Q36: =IF(COUNT(E36:N36)=0,"",AVERAGE(E36:N36)) | R36: =IF(COUNT(E36:N36)=0,"",MIN(E36:N36)) | S36: =IF(COUNT(E36:N36)=0,"",MAX(E36:N36)) | T36: =IF(COUNT(E36:N36)=0,"",STDEV(E36:N36)) | U36: =IF(COUNT(E36:N36)=0,"",T36/Q36*100) | V36: =IF(P36>0,1*(T36>1),0) -> 0 | W36: =IF(P36>0,IF(T36>1,"評定意見差異較大",""),"") | Y36: =IF(P36=0,"",IF(T36=0,0,Q36-_xlfn.CONFIDENCE.T(0.05,T36,P36))) | Z36: =IF(P36=0,"",IF(T36=0,0,Q36+_xlfn.CONFIDENCE.T(0.05,T36,P36))) | AB36: =IF(ISERROR(C$32-$C36),"",C$32-$C36) | AC36: =IF(ISERROR(C$33-$C36),"",C$33-$C36) | AD36: =IF(ISERROR(C$34-$C36),"",C$34-$C36) | AE36: =IF(ISERROR(C$35-$C36),"",C$35-$C36)
A37: ='1.設定項目名稱'!H7 -> T6 | B37: =IF(ISBLANK('1.設定項目名稱'!I7),"",'1.設定項目名稱'!I7) | C37: =IF(P37>0,AVERAGEA(E37:N37),"") | D37: =IF(P37>0,RANK(C37,C$32:C$41),"") | P37: =COUNT(E37:N37) -> 0 | Q37: =IF(COUNT(E37:N37)=0,"",AVERAGE(E37:N37)) | R37: =IF(COUNT(E37:N37)=0,"",MIN(E37:N37)) | S37: =IF(COUNT(E37:N37)=0,"",MAX(E37:N37)) | T37: =IF(COUNT(E37:N37)=0,"",STDEV(E37:N37)) | U37: =IF(COUNT(E37:N37)=0,"",T37/Q37*100) | V37: =IF(P37>0,1*(T37>1),0) -> 0 | W37: =IF(P37>0,IF(T37>1,"評定意見差異較大",""),"") | Y37: =IF(P37=0,"",IF(T37=0,0,Q37-_xlfn.CONFIDENCE.T(0.05,T37,P37))) | Z37: =IF(P37=0,"",IF(T37=0,0,Q37+_xlfn.CONFIDENCE.T(0.05,T37,P37))) | AB37: =IF(ISERROR(C$32-$C37),"",C$32-$C37) | AC37: =IF(ISERROR(C$33-$C37),"",C$33-$C37) | AD37: =IF(ISERROR(C$34-$C37),"",C$34-$C37) | AE37: =IF(ISERROR(C$35-$C37),"",C$35-$C37) | AF37: =IF(ISERROR(C$36-$C37),"",C$36-$C37) | AH37: =IF(ISERROR(G$4-$C37),"",G$4-$C37)
A38: ='1.設定項目名稱'!H8 -> T7 | B38: =IF(ISBLANK('1.設定項目名稱'!I8),"",'1.設定項目名稱'!I8) | C38: =IF(P38>0,AVERAGEA(E38:N38),"") | D38: =IF(P38>0,RANK(C38,C$32:C$41),"") | P38: =COUNT(E38:N38) -> 0 | Q38: =IF(COUNT(E38:N38)=0,"",AVERAGE(E38:N38)) | R38: =IF(COUNT(E38:N38)=0,"",MIN(E38:N38)) | S38: =IF(COUNT(E38:N38)=0,"",MAX(E38:N38)) | T38: =IF(COUNT(E38:N38)=0,"",STDEV(E38:N38)) | U38: =IF(COUNT(E38:N38)=0,"",T38/Q38*100) | V38: =IF(P38>0,1*(T38>1),0) -> 0 | W38: =IF(P38>0,IF(T38>1,"評定意見差異較大",""),"") | Y38: =IF(P38=0,"",IF(T38=0,0,Q38-_xlfn.CONFIDENCE.T(0.05,T38,P38))) | Z38: =IF(P38=0,"",IF(T38=0,0,Q38+_xlfn.CONFIDENCE.T(0.05,T38,P38))) | AB38: =IF(ISERROR(C$32-$C38),"",C$32-$C38) | AC38: =IF(ISERROR(C$33-$C38),"",C$33-$C38) | AD38: =IF(ISERROR(C$34-$C38),"",C$34-$C38) | AE38: =IF(ISERROR(C$35-$C38),"",C$35-$C38) | AF38: =IF(ISERROR(C$36-$C38),"",C$36-$C38) | AG38: =IF(ISERROR(C$37-$C38),"",C$37-$C38)
A39: ='1.設定項目名稱'!H9 -> T8 | B39: =IF(ISBLANK('1.設定項目名稱'!I9),"",'1.設定項目名稱'!I9) | C39: =IF(P39>0,AVERAGEA(E39:N39),"") | D39: =IF(P39>0,RANK(C39,C$32:C$41),"") | P39: =COUNT(E39:N39) -> 0 | Q39: =IF(COUNT(E39:N39)=0,"",AVERAGE(E39:N39)) | R39: =IF(COUNT(E39:N39)=0,"",MIN(E39:N39)) | S39: =IF(COUNT(E39:N39)=0,"",MAX(E39:N39)) | T39: =IF(COUNT(E39:N39)=0,"",STDEV(E39:N39)) | U39: =IF(COUNT(E39:N39)=0,"",T39/Q39*100) | V39: =IF(P39>0,1*(T39>1),0) -> 0 | W39: =IF(P39>0,IF(T39>1,"評定意見差異較大",""),"") | Y39: =IF(P39=0,"",IF(T39=0,0,Q39-_xlfn.CONFIDENCE.T(0.05,T39,P39))) | Z39: =IF(P39=0,"",IF(T39=0,0,Q39+_xlfn.CONFIDENCE.T(0.05,T39,P39))) | AB39: =IF(ISERROR(C$32-$C39),"",C$32-$C39) | AC39: =IF(ISERROR(C$33-$C39),"",C$33-$C39) | AD39: =IF(ISERROR(C$34-$C39),"",C$34-$C39) | AE39: =IF(ISERROR(C$35-$C39),"",C$35-$C39) | AF39: =IF(ISERROR(C$36-$C39),"",C$36-$C39) | AG39: =IF(ISERROR(C$37-$C39),"",C$37-$C39) | AH39: =IF(ISERROR(C$38-$C39),"",C$38-$C39)
A40: ='1.設定項目名稱'!H10 -> T9 | B40: =IF(ISBLANK('1.設定項目名稱'!I10),"",'1.設定項目名稱'!I10) | C40: =IF(P40>0,AVERAGEA(E40:N40),"") | D40: =IF(P40>0,RANK(C40,C$32:C$41),"") | P40: =COUNT(E40:N40) -> 0 | Q40: =IF(COUNT(E40:N40)=0,"",AVERAGE(E40:N40)) | R40: =IF(COUNT(E40:N40)=0,"",MIN(E40:N40)) | S40: =IF(COUNT(E40:N40)=0,"",MAX(E40:N40)) | T40: =IF(COUNT(E40:N40)=0,"",STDEV(E40:N40)) | U40: =IF(COUNT(E40:N40)=0,"",T40/Q40*100) | V40: =IF(P40>0,1*(T40>1),0) -> 0 | W40: =IF(P40>0,IF(T40>1,"評定意見差異較大",""),"") | Y40: =IF(P40=0,"",IF(T40=0,0,Q40-_xlfn.CONFIDENCE.T(0.05,T40,P40))) | Z40: =IF(P40=0,"",IF(T40=0,0,Q40+_xlfn.CONFIDENCE.T(0.05,T40,P40))) | AB40: =IF(ISERROR(C$32-$C40),"",C$32-$C40) | AC40: =IF(ISERROR(C$33-$C40),"",C$33-$C40) | AD40: =IF(ISERROR(C$34-$C40),"",C$34-$C40) | AE40: =IF(ISERROR(C$35-$C40),"",C$35-$C40) | AF40: =IF(ISERROR(C$36-$C40),"",C$36-$C40) | AG40: =IF(ISERROR(C$37-$C40),"",C$37-$C40) | AH40: =IF(ISERROR(C$38-$C40),"",C$38-$C40) | AI40: =IF(ISERROR(C$39-$C40),"",C$39-$C40)
...

Sheet SWOT方格
E1: 項目 | O1: 項目
D2: ='1.設定項目名稱'!F2 -> O1 | E2: =IF(ISBLANK('1.設定項目名稱'!G2),"",'1.設定項目名稱'!G2) -> 教育局積極補助學校設備更新供專案申請 | N2: ='1.設定項目名稱'!H2 -> T1 | O2: =IF(ISBLANK('1.設定項目名稱'!I2),"",'1.設定項目名稱'!I2) -> 社區學齡入學兒童數逐年降低增加招生難度
D3: ='1.設定項目名稱'!F3 -> O2 | E3: =IF(ISBLANK('1.設定項目名稱'!G3),"",'1.設定項目名稱'!G3) -> 民間團體培育外語師資尋求合作意願高 | N3: ='1.設定項目名稱'!H3 -> T2 | O3: =IF(ISBLANK('1.設定項目名稱'!I3),"",'1.設定項目名稱'!I3) -> 他校轉型實驗學校吸引本校生轉學就讀形成競爭
D4: ='1.設定項目名稱'!F4 -> O3 | E4: =IF(ISBLANK('1.設定項目名稱'!G4),"",'1.設定項目名稱'!G4) -> 大型商場和大企業機構進駐社區吸引建商推出新建案 | N4: ='1.設定項目名稱'!H4 -> T3 | O4: =IF(ISBLANK('1.設定項目名稱'!I4),"",'1.設定項目名稱'!I4) -> 家長關心外語學習促成學生參加課後外語補習人數漸增
D5: ='1.設定項目名稱'!F5 -> O4 | E5: =IF(ISBLANK('1.設定項目名稱'!G5),"",'1.設定項目名稱'!G5) -> 教育局推動優秀退休教師參與學校教學協助方案 | N5: ='1.設定項目名稱'!H5 -> T4 | O5: =IF(ISBLANK('1.設定項目名稱'!I5),"",'1.設定項目名稱'!I5) -> 民間教育團體培育優秀師資不合現行政策規定無法聘用
D6: ='1.設定項目名稱'!F6 -> O5 | E6: =IF(ISBLANK('1.設定項目名稱'!G6),"",'1.設定項目名稱'!G6) -> 民間文教演藝團體提供免費巡迴服務 | N6: ='1.設定項目名稱'!H6 -> T5 | O6: =IF(ISBLANK('1.設定項目名稱'!I6),"",'1.設定項目名稱'!I6)
D7: ='1.設定項目名稱'!F7 -> O6 | E7: =IF(ISBLANK('1.設定項目名稱'!G7),"",'1.設定項目名稱'!G7) | N7: ='1.設定項目名稱'!H7 -> T6 | O7: =IF(ISBLANK('1.設定項目名稱'!I7),"",'1.設定項目名稱'!I7)
D8: ='1.設定項目名稱'!F8 -> O7 | E8: =IF(ISBLANK('1.設定項目名稱'!G8),"",'1.設定項目名稱'!G8) | N8: ='1.設定項目名稱'!H8 -> T7 | O8: =IF(ISBLANK('1.設定項目名稱'!I8),"",'1.設定項目名稱'!I8)
D9: ='1.設定項目名稱'!F9 -> O8 | E9: =IF(ISBLANK('1.設定項目名稱'!G9),"",'1.設定項目名稱'!G9) | N9: ='1.設定項目名稱'!H9 -> T8 | O9: =IF(ISBLANK('1.設定項目名稱'!I9),"",'1.設定項目名稱'!I9)
D10: ='1.設定項目名稱'!F10 -> O9 | E10: =IF(ISBLANK('1.設定項目名稱'!G10),"",'1.設定項目名稱'!G10) | N10: ='1.設定項目名稱'!H10 -> T9 | O10: =IF(ISBLANK('1.設定項目名稱'!I10),"",'1.設定項目名稱'!I10)
D11: ='1.設定項目名稱'!F11 -> O10 | E11: =IF(ISBLANK('1.設定項目名稱'!G11),"",'1.設定項目名稱'!G11) | N11: ='1.設定項目名稱'!H11 -> T10 | O11: =IF(ISBLANK('1.設定項目名稱'!I11),"",'1.設定項目名稱'!I11)
D12: =D2 -> O1 | E12: =D3 -> O2 | F12: =D4 -> O3 | G12: =D5 -> O4 | H12: =D6 -> O5 | I12: =D7 -> O6 | J12: =D8 -> O7 | K12: =D9 -> O8 | L12: =D10 -> O9 | M12: =D11 -> O10 | N12: =N2 -> T1 | O12: =N3 -> T2 | P12: =N4 -> T3 | Q12: =N5 -> T4 | R12: =N6 -> T5 | S12: =N7 -> T6 | T12: =N8 -> T7 | U12: =N9 -> T8 | V12: =N10 -> T9 | W12: =N11 -> T10
B13: 項目 | C13: 權重 | D13: =IF('2.評定項目'!C22="",0,'2.評定項目'!C22) -> 6.5 | E13: =IF('2.評定項目'!C23="",0,'2.評定項目'!C23) -> 2.5 | F13: =IF('2.評定項目'!C24="",0,'2.評定項目'!C24) -> 4.5 | G13: =IF('2.評定項目'!C25="",0,'2.評定項目'!C25) -> 5.5 | H13: =IF('2.評定項目'!C26="",0,'2.評定項目'!C26) -> 2 | I13: =IF('2.評定項目'!C27="",0,'2.評定項目'!C27) -> 0 | J13: =IF('2.評定項目'!C28="",0,'2.評定項目'!C28) -> 0 | K13: =IF('2.評定項目'!C29="",0,'2.評定項目'!C29) -> 0 | L13: =IF('2.評定項目'!C30="",0,'2.評定項目'!C30) -> 0 | M13: =IF('2.評定項目'!C31="",0,'2.評定項目'!C31) -> 0 | N13: =IF('2.評定項目'!C32="",0,'2.評定項目'!C32) -> 5.5 | O13: =IF('2.評定項目'!C33="",0,'2.評定項目'!C33) -> 4 | P13: =IF('2.評定項目'!C34="",0,'2.評定項目'!C34) -> 5 | Q13: =IF('2.評定項目'!C35="",0,'2.評定項目'!C35) -> 4 | R13: =IF('2.評定項目'!C36="",0,'2.評定項目'!C36) -> 0 | S13: =IF('2.評定項目'!C37="",0,'2.評定項目'!C37) -> 0 | T13: =IF('2.評定項目'!C38="",0,'2.評定項目'!C38) -> 0 | U13: =IF('2.評定項目'!C39="",0,'2.評定項目'!C39) -> 0 | V13: =IF('2.評定項目'!C40="",0,'2.評定項目'!C40) -> 0 | W13: =IF('2.評定項目'!C41="",0,'2.評定項目'!C41) -> 0
A14: ='1.設定項目名稱'!B2 -> S1 | B14: =IF(ISBLANK('1.設定項目名稱'!C2)," ",'1.設定項目名稱'!C2) -> 專任教師學歷高且專業力強 | C14: =IF('2.評定項目'!C2="",0,'2.評定項目'!C2) -> 4.5 | D14: =$C14*D$13 -> 29.25 | E14: =$C14*E$13 -> 11.25 | F14: =$C14*F$13 -> 20.25 | G14: =$C14*G$13 -> 24.75 | H14: =$C14*H$13 -> 9 | I14: =$C14*I$13 -> 0 | J14: =$C14*J$13 -> 0 | K14: =$C14*K$13 -> 0 | ... W14: =$C14*W$13 -> 0
A15: ='1.設定項目名稱'!B3 -> S2 | B15: =IF(ISBLANK('1.設定項目名稱'!C3)," ",'1.設定項目名稱'!C3) -> 教師高度樂業願意積極參與校務 | C15: =IF('2.評定項目'!C3="",0,'2.評定項目'!C3) -> 5 | D15: =$C15*D$13 -> 32.5 | E15: =$C15*E$13 -> 12.5 | F15: =$C15*F$13 -> 22.5 | G15: =$C15*G$13 -> 27.5 | H15: =$C15*H$13 -> 10 | I15: =$C15*I$13 -> 0 | J15: =$C15*J$13 -> 0 | K15: =$C15*K$13 -> 0 | ... W15: =$C15*W$13 -> 0
A16: ='1.設定項目名稱'!B4 -> S3 | B16: =IF(ISBLANK('1.設定項目名稱'!C4)," ",'1.設定項目名稱'!C4) -> 學校設備資源豐富滿足教學 | C16: =IF('2.評定項目'!C4="",0,'2.評定項目'!C4) -> 3 | D16: =$C16*D$13 -> 19.5 | E16: =$C16*E$13 -> 7.5 | F16: =$C16*F$13 -> 13.5 | G16: =$C16*G$13 -> 16.5 | H16: =$C16*H$13 -> 6 | I16: =$C16*I$13 -> 0 | J16: =$C16*J$13 -> 0 | K16: =$C16*K$13 -> 0 | ... W16: =$C16*W$13 -> 0
A17: ='1.設定項目名稱'!B5 -> S4 | B17: =IF(ISBLANK('1.設定項目名稱'!C5)," ",'1.設定項目名稱'!C5) -> 家長和社區關心和樂意協助學校 | C17: =IF('2.評定項目'!C5="",0,'2.評定項目'!C5) -> 5.5 | D17: =$C17*D$13 -> 35.75 | E17: =$C17*E$13 -> 13.75 | F17: =$C17*F$13 -> 24.75 | G17: =$C17*G$13 -> 30.25 | H17: =$C17*H$13 -> 11 | I17: =$C17*I$13 -> 0 | J17: =$C17*J$13 -> 0 | K17: =$C17*K$13 -> 0 | ... W17: =$C17*W$13 -> 0
A18: ='1.設定項目名稱'!B6 -> S5 | B18: =IF(ISBLANK('1.設定項目名稱'!C6)," ",'1.設定項目名稱'!C6) -> 學校特色教學團隊強且成果多 | C18: =IF('2.評定項目'!C6="",0,'2.評定項目'!C6) -> 5 | D18: =$C18*D$13 -> 32.5 | E18: =$C18*E$13 -> 12.5 | F18: =$C18*F$13 -> 22.5 | G18: =$C18*G$13 -> 27.5 | H18: =$C18*H$13 -> 10 | I18: =$C18*I$13 -> 0 | J18: =$C18*J$13 -> 0 | K18: =$C18*K$13 -> 0 | ... W18: =$C18*W$13 -> 0
A19: ='1.設定項目名稱'!B7 -> S6 | B19: =IF(ISBLANK('1.設定項目名稱'!C7)," ",'1.設定項目名稱'!C7) | C19: =IF('2.評定項目'!C7="",0,'2.評定項目'!C7) -> 0 | D19: =$C19*D$13 -> 0 | E19: =$C19*E$13 -> 0 | F19: =$C19*F$13 -> 0 | G19: =$C19*G$13 -> 0 | H19: =$C19*H$13 -> 0 | I19: =$C19*I$13 -> 0 | J19: =$C19*J$13 -> 0 | K19: =$C19*K$13 -> 0 | ... W19: =$C19*W$13 -> 0
A20: ='1.設定項目名稱'!B8 -> S7 | B20: =IF(ISBLANK('1.設定項目名稱'!C8)," ",'1.設定項目名稱'!C8) | C20: =IF('2.評定項目'!C8="",0,'2.評定項目'!C8) -> 0 | D20: =$C20*D$13 -> 0 | E20: =$C20*E$13 -> 0 | F20: =$C20*F$13 -> 0 | G20: =$C20*G$13 -> 0 | H20: =$C20*H$13 -> 0 | I20: =$C20*I$13 -> 0 | J20: =$C20*J$13 -> 0 | K20: =$C20*K$13 -> 0 | ... W20: =$C20*W$13 -> 0
A21: ='1.設定項目名稱'!B9 -> S8 | B21: =IF(ISBLANK('1.設定項目名稱'!C9)," ",'1.設定項目名稱'!C9) | C21: =IF('2.評定項目'!C9="",0,'2.評定項目'!C9) -> 0 | D21: =$C21*D$13 -> 0 | E21: =$C21*E$13 -> 0 | F21: =$C21*F$13 -> 0 | G21: =$C21*G$13 -> 0 | H21: =$C21*H$13 -> 0 | I21: =$C21*I$13 -> 0 | J21: =$C21*J$13 -> 0 | K21: =$C21*K$13 -> 0 | ... W21: =$C21*W$13 -> 0
A22: ='1.設定項目名稱'!B10 -> S9 | B22: =IF(ISBLANK('1.設定項目名稱'!C10)," ",'1.設定項目名稱'!C10) | C22: =IF('2.評定項目'!C10="",0,'2.評定項目'!C10) -> 0 | D22: =$C22*D$13 -> 0 | E22: =$C22*E$13 -> 0 | F22: =$C22*F$13 -> 0 | G22: =$C22*G$13 -> 0 | H22: =$C22*H$13 -> 0 | I22: =$C22*I$13 -> 0 | J22: =$C22*J$13 -> 0 | K22: =$C22*K$13 -> 0 | ... W22: =$C22*W$13 -> 0
A23: ='1.設定項目名稱'!B11 -> S10 | B23: =IF(ISBLANK('1.設定項目名稱'!C11)," ",'1.設定項目名稱'!C11) | C23: =IF('2.評定項目'!C11="",0,'2.評定項目'!C11) -> 0 | D23: =$C23*D$13 -> 0 | E23: =$C23*E$13 -> 0 | F23: =$C23*F$13 -> 0 | G23: =$C23*G$13 -> 0 | H23: =$C23*H$13 -> 0 | I23: =$C23*I$13 -> 0 | J23: =$C23*J$13 -> 0 | K23: =$C23*K$13 -> 0 | ... W23: =$C23*W$13 -> 0
A24: ='1.設定項目名稱'!D2 -> W1 | B24: =IF(ISBLANK('1.設定項目名稱'!E2),"",'1.設定項目名稱'!E2) -> 教師年齡偏高多數屆臨退休 | C24: =IF('2.評定項目'!C12="",0,'2.評定項目'!C12) -> 3 | D24: =$C24*D$13 -> 19.5 | E24: =$C24*E$13 -> 7.5 | F24: =$C24*F$13 -> 13.5 | G24: =$C24*G$13 -> 16.5 | H24: =$C24*H$13 -> 6 | I24: =$C24*I$13 -> 0 | J24: =$C24*J$13 -> 0 | K24: =$C24*K$13 -> 0 | ... W24: =$C24*W$13 -> 0
A25: ='1.設定項目名稱'!D3 -> W2 | B25: =IF(ISBLANK('1.設定項目名稱'!E3),"",'1.設定項目名稱'!E3) -> 經濟不利條件學生偏多需要協助 | C25: =IF('2.評定項目'!C13="",0,'2.評定項目'!C13) -> 3.5 | D25: =$C25*D$13 -> 22.75 | E25: =$C25*E$13 -> 8.75 | F25: =$C25*F$13 -> 15.75 | G25: =$C25*G$13 -> 19.25 | H25: =$C25*H$13 -> 7 | I25: =$C25*I$13 -> 0 | J25: =$C25*J$13 -> 0 | K25: =$C25*K$13 -> 0 | ... W25: =$C25*W$13 -> 0
A26: ='1.設定項目名稱'!D4 -> W3 | B26: =IF(ISBLANK('1.設定項目名稱'!E4),"",'1.設定項目名稱'!E4) -> 圖書設備汰舊更新較慢 | C26: =IF('2.評定項目'!C14="",0,'2.評定項目'!C14) -> 4.5 | D26: =$C26*D$13 -> 29.25 | E26: =$C26*E$13 -> 11.25 | F26: =$C26*F$13 -> 20.25 | G26: =$C26*G$13 -> 24.75 | H26: =$C26*H$13 -> 9 | I26: =$C26*I$13 -> 0 | J26: =$C26*J$13 -> 0 | K26: =$C26*K$13 -> 0 | ... W26: =$C26*W$13 -> 0
A27: ='1.設定項目名稱'!D5 -> W4 | B27: =IF(ISBLANK('1.設定項目名稱'!E5),"",'1.設定項目名稱'!E5) -> 外語教學師資不足需向外招聘 | C27: =IF('2.評定項目'!C15="",0,'2.評定項目'!C15) -> 6 | D27: =$C27*D$13 -> 39 | E27: =$C27*E$13 -> 15 | F27: =$C27*F$13 -> 27 | G27: =$C27*G$13 -> 33 | H27: =$C27*H$13 -> 12 | I27: =$C27*I$13 -> 0 | J27: =$C27*J$13 -> 0 | K27: =$C27*K$13 -> 0 | ... W27: =$C27*W$13 -> 0
A28: ='1.設定項目名稱'!D6 -> W5 | B28: =IF(ISBLANK('1.設定項目名稱'!E6),"",'1.設定項目名稱'!E6) -> 科技課程教材相對他校顯得陳舊 | C28: =IF('2.評定項目'!C16="",0,'2.評定項目'!C16) -> 4.5 | D28: =$C28*D$13 -> 29.25 | E28: =$C28*E$13 -> 11.25 | F28: =$C28*F$13 -> 20.25 | G28: =$C28*G$13 -> 24.75 | H28: =$C28*H$13 -> 9 | I28: =$C28*I$13 -> 0 | J28: =$C28*J$13 -> 0 | K28: =$C28*K$13 -> 0 | ... W28: =$C28*W$13 -> 0
A29: ='1.設定項目名稱'!D7 -> W6 | B29: =IF(ISBLANK('1.設定項目名稱'!E7),"",'1.設定項目名稱'!E7) | C29: =IF('2.評定項目'!C17="",0,'2.評定項目'!C17) -> 0 | D29: =$C29*D$13 -> 0 | E29: =$C29*E$13 -> 0 | F29: =$C29*F$13 -> 0 | G29: =$C29*G$13 -> 0 | H29: =$C29*H$13 -> 0 | I29: =$C29*I$13 -> 0 | J29: =$C29*J$13 -> 0 | K29: =$C29*K$13 -> 0 | ... W29: =$C29*W$13 -> 0
A30: ='1.設定項目名稱'!D8 -> W7 | B30: =IF(ISBLANK('1.設定項目名稱'!E8),"",'1.設定項目名稱'!E8) | C30: =IF('2.評定項目'!C18="",0,'2.評定項目'!C18) -> 0 | D30: =$C30*D$13 -> 0 | E30: =$C30*E$13 -> 0 | F30: =$C30*F$13 -> 0 | G30: =$C30*G$13 -> 0 | H30: =$C30*H$13 -> 0 | I30: =$C30*I$13 -> 0 | J30: =$C30*J$13 -> 0 | K30: =$C30*K$13 -> 0 | ... W30: =$C30*W$13 -> 0
A31: ='1.設定項目名稱'!D9 -> W8 | B31: =IF(ISBLANK('1.設定項目名稱'!E9),"",'1.設定項目名稱'!E9) | C31: =IF('2.評定項目'!C19="",0,'2.評定項目'!C19) -> 0 | D31: =$C31*D$13 -> 0 | E31: =$C31*E$13 -> 0 | F31: =$C31*F$13 -> 0 | G31: =$C31*G$13 -> 0 | H31: =$C31*H$13 -> 0 | I31: =$C31*I$13 -> 0 | J31: =$C31*J$13 -> 0 | K31: =$C31*K$13 -> 0 | ... W31: =$C31*W$13 -> 0
A32: ='1.設定項目名稱'!D10 -> W9 | B32: =IF(ISBLANK('1.設定項目名稱'!E10),"",'1.設定項目名稱'!E10) | C32: =IF('2.評定項目'!C20="",0,'2.評定項目'!C20) -> 0 | D32: =$C32*D$13 -> 0 | E32: =$C32*E$13 -> 0 | F32: =$C32*F$13 -> 0 | G32: =$C32*G$13 -> 0 | H32: =$C32*H$13 -> 0 | I32: =$C32*I$13 -> 0 | J32: =$C32*J$13 -> 0 | K32: =$C32*K$13 -> 0 | ... W32: =$C32*W$13 -> 0
A33: ='1.設定項目名稱'!D11 -> W10 | B33: =IF(ISBLANK('1.設定項目名稱'!E11),"",'1.設定項目名稱'!E11) | C33: =IF('2.評定項目'!C21="",0,'2.評定項目'!C21) -> 0 | D33: =$C33*D$13 -> 0 | E33: =$C33*E$13 -> 0 | F33: =$C33*F$13 -> 0 | G33: =$C33*G$13 -> 0 | H33: =$C33*H$13 -> 0 | I33: =$C33*I$13 -> 0 | J33: =$C33*J$13 -> 0 | K33: =$C33*K$13 -> 0 | ... W33: =$C33*W$13 -> 0

Sheet 設定交互項目
E1: 項目 | O1: 項目
D2: ='1.設定項目名稱'!F2 -> O1 | E2: =IF(ISBLANK('1.設定項目名稱'!G2),"",'1.設定項目名稱'!G2) -> 教育局積極補助學校設備更新供專案申請 | N2: ='1.設定項目名稱'!H2 -> T1 | O2: =IF(ISBLANK('1.設定項目名稱'!I2),"",'1.設定項目名稱'!I2) -> 社區學齡入學兒童數逐年降低增加招生難度
D3: ='1.設定項目名稱'!F3 -> O2 | E3: =IF(ISBLANK('1.設定項目名稱'!G3),"",'1.設定項目名稱'!G3) -> 民間團體培育外語師資尋求合作意願高 | N3: ='1.設定項目名稱'!H3 -> T2 | O3: =IF(ISBLANK('1.設定項目名稱'!I3),"",'1.設定項目名稱'!I3) -> 他校轉型實驗學校吸引本校生轉學就讀形成競爭
D4: ='1.設定項目名稱'!F4 -> O3 | E4: =IF(ISBLANK('1.設定項目名稱'!G4),"",'1.設定項目名稱'!G4) -> 大型商場和大企業機構進駐社區吸引建商推出新建案 | N4: ='1.設定項目名稱'!H4 -> T3 | O4: =IF(ISBLANK('1.設定項目名稱'!I4),"",'1.設定項目名稱'!I4) -> 家長關心外語學習促成學生參加課後外語補習人數漸增
D5: ='1.設定項目名稱'!F5 -> O4 | E5: =IF(ISBLANK('1.設定項目名稱'!G5),"",'1.設定項目名稱'!G5) -> 教育局推動優秀退休教師參與學校教學協助方案 | N5: ='1.設定項目名稱'!H5 -> T4 | O5: =IF(ISBLANK('1.設定項目名稱'!I5),"",'1.設定項目名稱'!I5) -> 民間教育團體培育優秀師資不合現行政策規定無法聘用
D6: ='1.設定項目名稱'!F6 -> O5 | E6: =IF(ISBLANK('1.設定項目名稱'!G6),"",'1.設定項目名稱'!G6) -> 民間文教演藝團體提供免費巡迴服務 | N6: ='1.設定項目名稱'!H6 -> T5 | O6: =IF(ISBLANK('1.設定項目名稱'!I6),"",'1.設定項目名稱'!I6)
D7: ='1.設定項目名稱'!F7 -> O6 | E7: =IF(ISBLANK('1.設定項目名稱'!G7),"",'1.設定項目名稱'!G7) | N7: ='1.設定項目名稱'!H7 -> T6 | O7: =IF(ISBLANK('1.設定項目名稱'!I7),"",'1.設定項目名稱'!I7)
D8: ='1.設定項目名稱'!F8 -> O7 | E8: =IF(ISBLANK('1.設定項目名稱'!G8),"",'1.設定項目名稱'!G8) | N8: ='1.設定項目名稱'!H8 -> T7 | O8: =IF(ISBLANK('1.設定項目名稱'!I8),"",'1.設定項目名稱'!I8)
D9: ='1.設定項目名稱'!F9 -> O8 | E9: =IF(ISBLANK('1.設定項目名稱'!G9),"",'1.設定項目名稱'!G9) | N9: ='1.設定項目名稱'!H9 -> T8 | O9: =IF(ISBLANK('1.設定項目名稱'!I9),"",'1.設定項目名稱'!I9)
D10: ='1.設定項目名稱'!F10 -> O9 | E10: =IF(ISBLANK('1.設定項目名稱'!G10),"",'1.設定項目名稱'!G10) | N10: ='1.設定項目名稱'!H10 -> T9 | O10: =IF(ISBLANK('1.設定項目名稱'!I10),"",'1.設定項目名稱'!I10)
D11: ='1.設定項目名稱'!F11 -> O10 | E11: =IF(ISBLANK('1.設定項目名稱'!G11),"",'1.設定項目名稱'!G11) | N11: ='1.設定項目名稱'!H11 -> T10 | O11: =IF(ISBLANK('1.設定項目名稱'!I11),"",'1.設定項目名稱'!I11)
D12: =D2 -> O1 | E12: =D3 -> O2 | F12: =D4 -> O3 | G12: =D5 -> O4 | H12: =D6 -> O5 | I12: =D7 -> O6 | J12: =D8 -> O7 | K12: =D9 -> O8 | L12: =D10 -> O9 | M12: =D11 -> O10 | N12: =N2 -> T1 | O12: =N3 -> T2 | P12: =N4 -> T3 | Q12: =N5 -> T4 | R12: =N6 -> T5 | S12: =N7 -> T6 | T12: =N8 -> T7 | U12: =N9 -> T8 | V12: =N10 -> T9 | W12: =N11 -> T10 | AA12: =D12 -> O1 | AB12: =E12 -> O2 | AC12: =F12 -> O3 | AD12: =G12 -> O4 | AE12: =H12 -> O5 | AF12: =I12 -> O6 | AG12: =J12 -> O7 | AH12: =K12 -> O8 | ... AT12: =W12 -> T10
B13: 項目 | C13: 權重 | AA13: =IF(ISBLANK(D13),1,D13) -> 1 | AB13: =IF(ISBLANK(E13),1,E13) -> 1 | AC13: =IF(ISBLANK(F13),1,F13) -> 1 | AD13: =IF(ISBLANK(G13),1,G13) -> 1 | AE13: =IF(ISBLANK(H13),1,H13) -> 1 | AF13: =IF(ISBLANK(I13),1,I13) -> 1 | AG13: =IF(ISBLANK(J13),1,J13) -> 1 | AH13: =IF(ISBLANK(K13),1,K13) -> 1 | ... AT13: =IF(ISBLANK(W13),1,W13) -> 1
