Workbook
Name insurance: #REF!
Name 級距表: #REF!

Sheet 本國
A1: 勞保、健保及勞退金每月個人與單位負擔費用試算表
G2: 機關負擔 勞保費 | H2: 個人負擔 勞保費 | I2: 機關負擔 健保費 | J2: 個人負擔健保費 | K2: 機關負擔勞退基金 | L2: 個人負擔勞退基金 | M2: 工資墊償 基金 | N2: 初核日期 | O2: 投保 薪額 | P2: 投保級距 (勞保) | Q2: 投保級距 (職災) | R2: 投保級距 (健保) | S2: 投保級距 (勞退) | T2: 加保日期 | U2: 退保日期 | V2: 投保 天數 | W2: 自提% | X2: 備註
A5: 本國保費試算 | G5: =G6+G7+G8 -> 2957 | H5: =H6+H8 -> 833 | I5: =ROUND(R5*5.17%*60%*(1+0.56),0) -> 1611 | J5: =ROUND(R5*5.17%*30%,0) -> 516 | K5: =ROUND(S5*6%*V5/30,0) -> 1998 | L5: =ROUND(S5*W5%*V5/30,0) -> 0 | M5: =ROUNDUP(P5*0.025%*V5/30,0) -> 9 | O5: 33300 | P5: =VLOOKUP($O5,工作表1!$C$4:$H$69,3) -> 33300 | Q5: =VLOOKUP($O5,工作表1!$C$4:$H$69,4) -> 33300 | R5: =VLOOKUP($O5,工作表1!$C$4:$H$69,5) -> 33300 | S5: =VLOOKUP($O5,工作表1!$C$4:$H$69,6) -> 33300 | V5: 30
A6: 勞工保險普通事故保險費 | G6: =ROUND(P5*11.5%*70%*V5/30,0) -> 2681 | H6: =ROUND(P5*11.5%*20%*V5/30,0) -> 766
A7: 勞工保險職業災害保險費 | G7: =H7+I7 -> 43 | H7: =ROUND(Q5*0.13%*V5/30,0) -> 43 | I7: =IF(H7<1,1,0) -> 0
A8: 就業保險費 | G8: =ROUND(P5*1%*70%*V5/30,0) -> 233 | H8: =ROUND(P5*1%*20%*V5/30,0) -> 67
H9: 填表說明： 一、粉紅色為輸入區。 二、投保天數請依實際輸入，滿月則輸入30。 三、勞退自提僅限填入1~6%。

Sheet 外籍
A1: 勞保、健保及勞退金每月個人與單位負擔費用試算表
G2: 機關負擔 勞保費 | H2: 個人負擔 勞保費 | I2: 機關負擔 健保費 | J2: 個人負擔健保費 | K2: 機關負擔勞退基金 | L2: 個人負擔勞退基金 | M2: 工資墊償 基金 | N2: 初核日期 | O2: 投保 薪額 | P2: 投保級距 (勞保) | Q2: 投保級距 (職災) | R2: 投保級距 (健保) | S2: 投保級距 (勞退) | T2: 加保日期 | U2: 退保日期 | V2: 投保 天數 | W2: 自提% | X2: 備註
A5: 外籍保費試算 | G5: =G6+G7 -> 889 | H5: =ROUND(P5*11%*20%*V5/30,0) -> 244 | I5: =ROUND(R5*5.17%*60%*(1+0.57),0) -> 1392 | J5: =ROUND(R5*5.17%*30%,0) -> 443 | M5: =ROUNDUP(P5*0.025%*V5/30,0) -> 3 | O5: 11100 | P5: =VLOOKUP($O5,工作表1!$C$4:$H$69,3) -> 11100 | Q5: =VLOOKUP($O5,工作表1!$C$4:$H$69,4) -> 28590 | R5: =VLOOKUP($O5,工作表1!$C$4:$H$69,5) -> 28590 | V5: 30
A6: 勞工保險普通事故保險費 | G6: =ROUND(P5*11%*70%*V5/30,0) -> 855
A7: 勞工保險職業災害保險費 | G7: =H7+I7 -> 34 | H7: =ROUND(Q5*0.12%*V5/30,0) -> 34 | I7: =IF(H7<1,1,0) -> 0
H8: 填表說明： 一、粉紅色為輸入區。 二、投保天數請依實際輸入，滿月則輸入30。

Sheet 身障
A1: 勞保、健保及勞退金每月個人與單位負擔費用試算表
G2: 機關負擔 勞保費 | H2: 個人負擔 勞保費 | I2: 機關負擔 健保費 | J2: 個人負擔健保費 | K2: 機關負擔勞退基金 | L2: 個人負擔勞退基金 | M2: 工資墊償 基金 | N2: 初核日期 | O2: 投保 薪額 | P2: 投保級距 (勞保) | Q2: 投保級距 (職災) | R2: 投保級距 (健保) | S2: 投保級距 (勞退) | T2: 加保日期 | U2: 退保日期 | V2: 投保 天數 | W2: 自提% | X2: 備註
A5: 輕度身障 | G5: =ROUND(P5*11%*70%*V5/30,0)+ROUND(P5*0.01*70%*V5/30,0)+ROUND(Q5*0.12%*V5/30,0) -> 967 | H5: =ROUND(P5*11%*20%*V5/30,0)+ROUND(P5*0.012*20%*V5/30,0)-ROUND(P5*11%*20%*25%*V5/30,0)-ROUND(P5*0.012*20%*25%*V5/30,0) -> 203 | I5: =ROUND(R5*5.17%*60%*(1+0.57),0) -> 1392 | J5: =ROUND(R5*5.17%*30%*1/4*3,0) -> 333 | K5: =ROUND(S5*6%*V5/30,0) -> 90 | L5: =ROUND(S5*W5%*V5/30,0) -> 0 | M5: =ROUNDUP(P5*0.025%*V5/30,0) -> 3 | O5: 1000 | P5: =VLOOKUP($O5,工作表1!$C$4:$H$69,3) -> 11100 | Q5: =VLOOKUP($O5,工作表1!$C$4:$H$69,4) -> 28590 | R5: =VLOOKUP($O5,工作表1!$C$4:$H$69,5) -> 28590 | S5: =VLOOKUP($O5,工作表1!$C$4:$H$69,6) -> 1500 | V5: 30
A7: 中度身障 | G7: =ROUND(P7*11%*70%*V7/30,0)+ROUND(P7*0.012*70%*V7/30,0)+ROUND(Q7*0.12%*V7/30,0) -> 982 | H7: =ROUND(P7*11%*20%*V7/30,0)+ROUND(P7*0.012*20%*V7/30,0)-ROUND(P7*11%*20%*50%*V7/30,0)-ROUND(P7*0.012*20%*50%*V7/30,0) -> 136 | I7: =ROUND(R7*5.17%*60%*(1+0.57),0) -> 1392 | J7: =ROUND(R7*5.17%*30%*1/2,0) -> 222 | K7: =ROUND(S7*6%*V7/30,0) -> 90 | L7: =ROUND(S7*W7%*V7/30,0) -> 0 | M7: =ROUNDUP(P7*0.025%*V7/30,0) -> 3 | O7: 1000 | P7: =VLOOKUP($O7,工作表1!$C$4:$H$69,3) -> 11100 | Q7: =VLOOKUP($O5,工作表1!$C$4:$H$69,4) -> 28590 | R7: =VLOOKUP($O7,工作表1!$C$4:$H$69,5) -> 28590 | S7: =VLOOKUP($O7,工作表1!$C$4:$H$69,6) -> 1500 | V7: 30
A9: 重度身障 | G9: =ROUND(P9*10.5%*70%*V9/30,0)+ROUND(P9*0.01*70%*V9/30,0)+ROUND(Q9*0.1%*V9/30,0) -> 923 | H9: 0 | I9: =ROUND(R9*5.17%*60%*(1+0.57),0) -> 1392 | J9: 0 | K9: =ROUND(S9*6%*V9/30,0) -> 90 | L9: =ROUND(S9*W9%*V9/30,0) -> 0 | M9: =ROUNDUP(P9*0.025%*V9/30,0) -> 3 | O9: 1000 | P9: =VLOOKUP($O9,工作表1!$C$4:$H$69,3) -> 11100 | Q9: =VLOOKUP($O5,工作表1!$C$4:$H$69,4) -> 28590 | R9: =VLOOKUP($O9,工作表1!$C$4:$H$69,5) -> 28590 | S9: =VLOOKUP($O9,工作表1!$C$4:$H$69,6) -> 1500 | V9: 30
H10: 填表說明： 一、粉紅色為輸入區。 二、投保天數請依實際輸入，滿月則輸入30。 三、勞退自提僅限填入1~6%。

Sheet 工作表1
A1: 級數 | B1: 月薪總額-起 | C1: 月薪總額-起 | D1: 月薪總額-迄 | E1: 勞保 投保級距 | F1: 職災 投保級距 | G1: 健保 投保級距 | H1: 勞退金提繳級距
A4: 部分工時 | C4: 0 | D4: 1500 | E4: 11100 | F4: 28590 | G4: 28590 | H4: 1500
C5: 1501 | D5: 3000 | E5: 11100 | F5: 28590 | G5: 28590 | H5: 3000
C6: 3001 | D6: 4500 | E6: 11100 | F6: 28590 | G6: 28590 | H6: 4500
C7: 4501 | D7: 6000 | E7: 11100 | F7: 28590 | G7: 28590 | H7: 6000
C8: 6001 | D8: 7500 | E8: 11100 | F8: 28590 | G8: 28590 | H8: 7500
C9: 7501 | D9: 8700 | E9: 11100 | F9: 28590 | G9: 28590 | H9: 8700
C10: 8701 | D10: 9900 | E10: 11100 | F10: 28590 | G10: 28590 | H10: 9900
B11: 11100以下 | C11: 9901 | D11: 11100 | E11: 11100 | F11: 28590 | G11: 28590 | H11: 11100
B12: 11101-12540 | C12: 11101 | D12: 12540 | E12: 12540 | F12: 28590 | G12: 28590 | H12: 12540
B13: 12541-13500 | C13: 12541 | D13: 13500 | E13: 13500 | F13: 28590 | G13: 28590 | H13: 13500
B14: 13501-15840 | C14: 13501 | D14: 15840 | E14: 15840 | F14: 28590 | G14: 28590 | H14: 15840
B15: 15841-16500 | C15: 15841 | D15: 16500 | E15: 16500 | F15: 28590 | G15: 28590 | H15: 16500
B16: 16501-17280 | C16: 16501 | D16: 17280 | E16: 17280 | F16: 28590 | G16: 28590 | H16: 17280
B17: 17281-17880 | C17: 17281 | D17: 17880 | E17: 17880 | F17: 28590 | G17: 28590 | H17: 17880
B18: 17881-19047 | C18: 17881 | D18: 19047 | E18: 19047 | F18: 28590 | G18: 28590 | H18: 19047
B19: 19048-20008 | C19: 19048 | D19: 20008 | E19: 20008 | F19: 28590 | G19: 28590 | H19: 20008
B20: 20009-21009 | C20: 20009 | D20: 21009 | E20: 21009 | F20: 28590 | G20: 28590 | H20: 21009
B21: 21010-22000 | C21: 21010 | D21: 22000 | E21: 22000 | F21: 28590 | G21: 28590 | H21: 22000
B22: 22001-23100 | C22: 22001 | D22: 23100 | E22: 23100 | F22: 28590 | G22: 28590 | H22: 23100
... B25: 25201-26400 | C25: 25251 | D25: 26400 | E25: 26400 | F25: 28590 | G25: 28590 | H25: 27470
A26: 第1級 | B26: 26401-27600 | C26: 26401 | D26: 27600 | E26: 27600 | F26: 28590 | G26: 28590 | H26: 28590
A27: 第2級 | B27: 27601-28590 | C27: 27601 | D27: 28590 | E27: 28590 | F27: 28590 | G27: 28590 | H27: 28590
A28: 第3級 | B28: 28591-28800 | C28: 28591 | D28: 28800 | E28: 28800 | F28: 28800 | G28: 28800 | H28: 28800
A29: 第4級 | B29: 28801-30300 | C29: 28801 | D29: 30300 | E29: 30300 | F29: 30300 | G29: 30300 | H29: 30300
A30: 第5級 | B30: 30301-31800 | C30: 30301 | D30: 31800 | E30: 31800 | F30: 31800 | G30: 31800 | H30: 31800
A31: 第6級 | B31: 31801-33300 | C31: 31801 | D31: 33300 | E31: 33300 | F31: 33300 | G31: 33300 | H31: 33300
A32: 第7級 | B32: 33301-34800 | C32: 33301 | D32: 34800 | E32: 34800 | F32: 34800 | G32: 34800 | H32: 34800
A33: 第8級 | B33: 34801-36300 | C33: 34801 | D33: 36300 | E33: 36300 | F33: 36300 | G33: 36300 | H33: 36300
A34: 第9級 | B34: 36301-38200 | C34: 36301 | D34: 38200 | E34: 38200 | F34: 38200 | G34: 38200 | H34: 38200
A35: 第10級 | B35: 38201-40100 | C35: 38201 | D35: 40100 | E35: 40100 | F35: 40100 | G35: 40100 | H35: 40100
A36: 第11級 | B36: 40101-42000 | C36: 40101 | D36: 42000 | E36: 42000 | F36: 42000 | G36: 42000 | H36: 42000
A37: 第12級 | B37: 42001-43900 | C37: 42001 | D37: 43900 | E37: 43900 | F37: 43900 | G37: 43900 | H37: 43900
... A70: 第45級 | B70: 175600以上 | C70: 175601 | D70: 182000 | E70: 45800 | F70: 72800 | G70: 182000 | H70: 150000
