Workbook

Sheet 107年
A1: 國立嘉義大學107學年度申請及核准輔系、雙主修人數統計表
A2: 學院 | B2: 學系 | C2: 輔系 | H2: 雙主修
C3: 本系生 | D3: 本系學 | E3: 招收 名額 | F3: 申請此 | G3: 核准修 | H3: 本系學 | I3: 本系學 | J3: 招收 名額 | K3: 申請此 | L3: 核准修
C4: 有申請 | D4: 生核准 | F4: 系為輔 | G4: 讀此系 | H4: 生有申 | I4: 生核准 | K4: 系為雙 | L4: 讀此系
C5: 輔系 | D5: 修讀輔 | F5: 系 | G5: 為輔系 | H5: 請雙修 | I5: 修讀雙 | K5: 修 | L5: 為雙修
D6: 系 | I6: 修
A7: 師範學院 | B7: 教育學系 | C7: 10 | D7: 6 | E7: 0 | F7: 0 | G7: 0 | H7: 2 | I7: 1 | J7: 0 | K7: 0 | L7: 0
B8: 特殊教育學系 | C8: 2 | D8: 1 | E8: 0 | F8: 0 | G8: 0 | H8: 0 | I8: 0 | J8: 0 | K8: 0 | L8: 0
B9: 幼兒教育學系 | C9: 3 | D9: 2 | E9: 0 | F9: 0 | G9: 0 | H9: 0 | I9: 0 | J9: 0 | K9: 0 | L9: 0
B10: 體育與健康休閒學系 | C10: 1 | D10: 1 | E10: 2 | F10: 4 | G10: 3 | H10: 0 | I10: 0 | J10: 0 | K10: 0 | L10: 0
B11: 數位學習設計與管理學系 | C11: 6 | D11: 4 | E11: 2 | F11: 2 | G11: 2 | H11: 1 | I11: 1 | J11: 0 | K11: 0 | L11: 0
B12: 輔導與諮商學系 | C12: 4 | D12: 3 | E12: 2 | F12: 4 | G12: 1 | H12: 1 | I12: 1 | J12: 2 | K12: 0 | L12: 0
B13: 體育進學班 | C13: 0 | D13: 0 | E13: 0 | F13: 0 | G13: 0 | H13: 0 | I13: 0 | J13: 0 | K13: 0 | L13: 0
A14: 人文藝術學院 | B14: 中國文學系 | C14: 0 | D14: 0 | E14: 5 | F14: 6 | G14: 5 | H14: 0 | I14: 0 | J14: 5 | K14: 3 | L14: 1
B15: 外國語言學系 | C15: 20 | D15: 13 | E15: 10 | F15: 2 | G15: 1 | H15: 3 | I15: 2 | J15: 10 | K15: 0 | L15: 0
B16: 應用歷史學系 | C16: 3 | D16: 2 | E16: 10 | F16: 0 | G16: 0 | H16: 0 | I16: 0 | J16: 5 | K16: 1 | L16: 1
B17: 視覺藝術學系 | C17: 0 | D17: 0 | E17: 10 | F17: 4 | G17: 1 | H17: 0 | I17: 0 | J17: 2 | K17: 0 | L17: 0
B18: 音樂學系 | C18: 0 | D18: 0 | E18: 5 | F18: 2 | G18: 2 | H18: 0 | I18: 0 | J18: 0 | K18: 0 | L18: 0
B19: 中國進學班 | C19: 0 | D19: 0 | E19: 5 | F19: 0 | G19: 0 | H19: 0 | I19: 0 | J19: 5 | K19: 0 | L19: 0
A20: 管理學院 | B20: 科技管理學系 | C20: 12 | D20: 10 | E20: 不限 | F20: 0 | G20: 0 | H20: 0 | I20: 0 | J20: 不限 | K20: 0 | L20: 0
B21: 應用經濟學系 | C21: 1 | D21: 0 | E21: 20 | F21: 6 | G21: 5 | H21: 0 | I21: 0 | J21: 20 | K21: 1 | L21: 1
B22: 企業管理學系 | C22: 0 | D22: 0 | E22: 10 | F22: 0 | G22: 0 | H22: 0 | I22: 0 | J22: 5 | K22: 0 | L22: 0
B23: 資訊管理學系 | C23: 4 | D23: 2 | E23: 5 | F23: 6 | G23: 4 | H23: 1 | I23: 1 | J23: 0 | K23: 0 | L23: 0
B24: 財務金融學系 | C24: 1 | D24: 1 | E24: 15 | F24: 17 | G24: 14 | H24: 0 | I24: 0 | J24: 5 | K24: 3 | L24: 2
B25: 行銷與觀光管理學系 | C25: 2 | D25: 2 | E25: 10 | F25: 17 | G25: 10 | H25: 0 | I25: 0 | J25: 5 | K25: 2 | L25: 2
B26: 科管進學班 | C26: 0 | D26: 0 | E26: 不限 | F26: 0 | G26: 0 | H26: 0 | I26: 0 | J26: 不限 | K26: 0 | L26: 0
B27: 企管進學班 | C27: 0 | D27: 0 | E27: 10 | F27: 0 | G27: 0 | H27: 0 | I27: 0 | J27: 5 | K27: 0 | L27: 0
B28: 財金進學班 | C28: 0 | D28: 0 | E28: 0 | F28: 0 | G28: 0 | H28: 0 | I28: 0 | J28: 0 | K28: 0 | L28: 0
A29: 農學院 | B29: 農藝學系 | C29: 1 | D29: 0 | E29: 3 | F29: 0 | G29: 0 | H29: 0 | I29: 0 | J29: 3 | K29: 0 | L29: 0
B30: 園藝學系 | C30: 1 | D30: 1 | E30: 5 | F30: 0 | G30: 0 | H30: 0 | I30: 0 | J30: 0 | K30: 0 | L30: 0
B31: 木質材料與設計學系 | C31: 2 | D31: 2 | E31: 0 | F31: 0 | G31: 0 | H31: 3 | I31: 2 | J31: 1 | K31: 3 | L31: 3
B32: 植物醫學系 | C32: 0 | D32: 0 | E32: 0 | F32: 0 | G32: 0 | H32: 0 | I32: 0 | J32: 0 | K32: 0 | L32: 0
B33: 生物農業科技學系 | C33: 1 | D33: 1 | E33: 5 | F33: 1 | G33: 1 | H33: 0 | I33: 0 | J33: 5 | K33: 0 | L33: 0
B34: 景觀學系 | C34: 0 | D34: 0 | E34: 0 | F34: 0 | G34: 0 | H34: 0 | I34: 0 | J34: 0 | K34: 0 | L34: 0
B35: 森林暨自然資源學系 | C35: 0 | D35: 0 | E35: 5 | F35: 0 | G35: 0 | H35: 0 | I35: 0 | J35: 5 | K35: 0 | L35: 0
B36: 動物科學系 | C36: 2 | D36: 2 | E36: 5 | F36: 4 | G36: 4 | H36: 0 | I36: 0 | J36: 1 | K36: 1 | L36: 1
B37: 園藝進學班 | C37: 0 | D37: 0 | E37: 0 | F37: 0 | G37: 0 | H37: 0 | I37: 0 | J37: 0 | K37: 0 | L37: 0
B38: 木設進學班 | C38: 0 | D38: 0 | E38: 0 | F38: 0 | G38: 0 | H38: 0 | I38: 0 | J38: 0 | K38: 0 | L38: 0
B39: 動科進學班 | C39: 0 | D39: 0 | E39: 0 | F39: 0 | G39: 0 | H39: 0 | I39: 0 | J39: 0 | K39: 0 | L39: 0
A40: 理工學院 | B40: 應用數學系 | C40: 4 | D40: 3 | E40: 不限 | F40: 1 | G40: 1 | H40: 1 | I40: 1 | J40: 10 | K40: 0 | L40: 0
B41: 電子物理學系 | C41: 0 | D41: 0 | E41: 5 | F41: 2 | G41: 2 | H41: 1 | I41: 0 | J41: 5 | K41: 0 | L41: 0
B42: 應用化學系 | C42: 0 | D42: 0 | E42: 不限 | F42: 1 | G42: 0 | H42: 0 | I42: 0 | J42: 不限 | K42: 0 | L42: 0
B43: 生物機電工程學系 | C43: 1 | D43: 0 | E43: 不限 | F43: 0 | G43: 0 | H43: 1 | I43: 0 | J43: 0 | K43: 0 | L43: 0
B44: 土木與水資源工程學系 | C44: 0 | D44: 0 | E44: 5 | F44: 0 | G44: 0 | H44: 0 | I44: 0 | J44: 0 | K44: 0 | L44: 0
B45: 資訊工程學系 | C45: 1 | D45: 1 | E45: 不限 | F45: 8 | G45: 6 | H45: 0 | I45: 0 | J45: 不限 | K45: 5 | L45: 3
B46: 電機工程學系 | C46: 0 | D46: 0 | E46: 5 | F46: 2 | G46: 0 | H46: 1 | I46: 0 | J46: 0 | K46: 0 | L46: 0
B47: 機械與能源工程學系 | C47: 2 | D47: 1 | E47: 0 | F47: 0 | G47: 0 | H47: 0 | I47: 1 | J47: 5 | K47: 1 | L47: 1
B48: 生機進學班 | C48: 0 | D48: 0 | E48: 不限 | F48: 0 | G48: 0 | H48: 0 | I48: 0 | J48: 0 | K48: 0 | L48: 0
B49: 土木進學班 | C49: 0 | D49: 0 | E49: 5 | F49: 0 | G49: 0 | H49: 0 | I49: 0 | J49: 0 | K49: 0 | L49: 0
B50: 資工進學班 | C50: 0 | D50: 0 | E50: 2 | F50: 0 | G50: 0 | H50: 0 | I50: 0 | J50: 0 | K50: 0 | L50: 0
A51: 生命科學院 | B51: 食品科學系 | C51: 0 | D51: 0 | E51: 5 | F51: 4 | G51: 3 | H51: 1 | I51: 1 | J51: 0 | K51: 0 | L51: 0
B52: 生物資源學系 | C52: 5 | D52: 4 | E52: 不限 | F52: 1 | G52: 1 | H52: 3 | I52: 3 | J52: 10 | K52: 0 | L52: 0
B53: 水生生物科學系 | C53: 5 | D53: 4 | E53: 不限 | F53: 0 | G53: 0 | H53: 0 | I53: 0 | J53: 不限 | K53: 0 | L53: 0
B54: 生化科技學系 | C54: 3 | D54: 3 | E54: 5 | F54: 2 | G54: 2 | H54: 1 | I54: 1 | J54: 3 | K54: 2 | L54: 2
B55: 微生物免疫與生物藥學系 | C55: 5 | D55: 5 | E55: 不限 | F55: 7 | G55: 7 | H55: 2 | I55: 2 | J55: 3 | K55: 0 | L55: 0
B56: 食品進學班 | C56: 0 | D56: 0 | E56: 5 | F56: 0 | G56: 0 | H56: 0 | I56: 0 | J56: 0 | K56: 0 | L56: 0
A57: 獸醫學院 | B57: 獸醫學系 | C57: 1 | D57: 1 | E57: 0 | F57: 0 | G57: 0 | H57: 0 | I57: 0 | J57: 0 | K57: 0 | L57: 0
B58: 總計 | C58: =SUM(C7:C57) -> 103 | D58: =SUM(D7:D57) -> 75 | E58: =SUM(E7:E57) -> 181 | F58: =SUM(F7:F57) -> 103 | G58: =SUM(G7:G57) -> 75 | H58: =SUM(H7:H57) -> 22 | I58: =SUM(I7:I57) -> 17 | J58: =SUM(J7:J57) -> 120 | ... L58: =SUM(L7:L57) -> 17

Sheet 108年
A1: 國立嘉義大學108學年度申請及核准輔系、雙主修人數統計表
A2: 學院 | B2: 學系 | C2: 輔系 | H2: 雙主修
C3: 本系生 | D3: 本系學 | E3: 招收 名額 | F3: 申請此 | G3: 核准修 | H3: 本系學 | I3: 本系學 | J3: 招收 名額 | K3: 申請此 | L3: 核准修
C4: 有申請 | D4: 生核准 | F4: 系為輔 | G4: 讀此系 | H4: 生有申 | I4: 生核准 | K4: 系為雙 | L4: 讀此系
C5: 輔系 | D5: 修讀輔 | F5: 系 | G5: 為輔系 | H5: 請雙修 | I5: 修讀雙 | K5: 修 | L5: 為雙修
D6: 系 | I6: 修
A7: 師範學院 | B7: 教育學系 | C7: 6 | D7: 3 | E7: 0 | F7: 0 | G7: 0 | H7: 1 | I7: 0 | J7: 0 | K7: 0 | L7: 0
B8: 特殊教育學系 | C8: 1 | D8: 0 | E8: 0 | F8: 0 | G8: 0 | H8: 0 | I8: 0 | J8: 0 | K8: 0 | L8: 0
B9: 幼兒教育學系 | C9: 2 | D9: 1 | E9: 0 | F9: 0 | G9: 0 | H9: 0 | I9: 0 | J9: 0 | K9: 0 | L9: 0
B10: 體育與健康休閒學系 | C10: 0 | D10: 0 | E10: 3 | F10: 3 | G10: 0 | H10: 0 | I10: 0 | J10: 0 | K10: 0 | L10: 0
B11: 數位學習設計與管理學系 | C11: 14 | D11: 12 | E11: 2 | F11: 2 | G11: 0 | H11: 1 | I11: 1 | J11: 0 | K11: 0 | L11: 0
B12: 輔導與諮商學系 | C12: 0 | D12: 0 | E12: 2 | F12: 2 | G12: 1 | H12: 0 | I12: 0 | J12: 2 | K12: 0 | L12: 0
B13: 體育進學班 | C13: 0 | D13: 0 | E13: 0 | F13: 0 | G13: 0 | H13: 0 | I13: 0 | J13: 0 | K13: 0 | L13: 0
A14: 人文藝術學院 | B14: 中國文學系 | C14: 1 | D14: 1 | E14: 5 | F14: 1 | G14: 1 | H14: 2 | I14: 2 | J14: 5 | K14: 0 | L14: 0
B15: 外國語言學系 | C15: 25 | D15: 16 | E15: 10 | F15: 1 | G15: 1 | H15: 3 | I15: 3 | J15: 10 | K15: 1 | L15: 0
B16: 應用歷史學系 | C16: 2 | D16: 1 | E16: 不限 | F16: 1 | G16: 1 | H16: 1 | I16: 0 | J16: 不限 | K16: 1 | L16: 0
B17: 視覺藝術學系 | C17: 1 | D17: 0 | E17: 10 | F17: 0 | G17: 0 | H17: 0 | I17: 0 | J17: 2 | K17: 0 | L17: 0
B18: 音樂學系 | C18: 0 | D18: 0 | E18: 3 | F18: 1 | G18: 0 | H18: 0 | I18: 0 | J18: 0 | K18: 0 | L18: 0
B19: 中國進學班 | C19: 1 | D19: 1 | E19: 5 | F19: 0 | G19: 0 | H19: 1 | I19: 0 | J19: 5 | K19: 0 | L19: 0
A20: 管理學院 | B20: 科技管理學系 | C20: 9 | D20: 4 | E20: 不限 | F20: 1 | G20: 1 | H20: 0 | I20: 0 | J20: 不限 | K20: 1 | L20: 0
B21: 應用經濟學系 | C21: 0 | D21: 0 | E21: 20 | F21: 2 | G21: 1 | H21: 0 | I21: 0 | J21: 20 | K21: 0 | L21: 0
B22: 企業管理學系 | C22: 0 | D22: 0 | E22: 10 | F22: 3 | G22: 3 | H22: 0 | I22: 0 | J22: 5 | K22: 1 | L22: 1
B23: 資訊管理學系 | C23: 3 | D23: 2 | E23: 15 | F23: 6 | G23: 6 | H23: 2 | I23: 2 | J23: 0 | K23: 0 | L23: 0
B24: 財務金融學系 | C24: 0 | D24: 0 | E24: 15 | F24: 30 | G24: 15 | H24: 1 | I24: 0 | J24: 5 | K24: 3 | L24: 2
B25: 行銷與觀光管理學系 | C25: 8 | D25: 6 | E25: 10 | F25: 9 | G25: 9 | H25: 0 | I25: 0 | J25: 5 | K25: 1 | L25: 1
B26: 科管進學班 | C26: 0 | D26: 0 | E26: 不限 | F26: 0 | G26: 0 | H26: 0 | I26: 0 | J26: 不限 | K26: 1 | L26: 0
B27: 企管進學班 | C27: 0 | D27: 0 | E27: 10 | F27: 1 | G27: 1 | H27: 0 | I27: 0 | J27: 5 | K27: 1 | L27: 0
B28: 財金進學班 | C28: 0 | D28: 0 | E28: 0 | F28: 0 | G28: 0 | H28: 0 | I28: 0 | J28: 0 | K28: 0 | L28: 0
A29: 農學院 | B29: 農藝學系 | C29: 0 | D29: 0 | E29: 3 | F29: 0 | G29: 0 | H29: 0 | I29: 0 | J29: 3 | K29: 0 | L29: 0
B30: 園藝學系 | C30: 1 | D30: 1 | E30: 5 | F30: 0 | G30: 0 | H30: 0 | I30: 0 | J30: 5 | K30: 0 | L30: 0
B31: 木質材料與設計學系 | C31: 1 | D31: 1 | E31: 0 | F31: 0 | G31: 0 | H31: 0 | I31: 0 | J31: 1 | K31: 0 | L31: 0
B32: 植物醫學系 | C32: 0 | D32: 0 | E32: 0 | F32: 0 | G32: 0 | H32: 0 | I32: 0 | J32: 0 | K32: 0 | L32: 0
B33: 生物農業科技學系 | C33: 1 | D33: 0 | E33: 5 | F33: 4 | G33: 1 | H33: 0 | I33: 0 | J33: 0 | K33: 0 | L33: 0
B34: 景觀學系 | C34: 1 | D34: 1 | E34: 0 | F34: 0 | G34: 0 | H34: 0 | I34: 0 | J34: 0 | K34: 0 | L34: 0
B35: 森林暨自然資源學系 | C35: 2 | D35: 1 | E35: 5 | F35: 3 | G35: 2 | H35: 0 | I35: 0 | J35: 5 | K35: 0 | L35: 0
B36: 動物科學系 | C36: 1 | D36: 0 | E36: 5 | F36: 3 | G36: 3 | H36: 1 | I36: 0 | J36: 1 | K36: 1 | L36: 1
B37: 園藝進學班 | C37: 0 | D37: 0 | E37: 0 | F37: 0 | G37: 0 | H37: 0 | I37: 0 | J37: 0 | K37: 0 | L37: 0
B38: 木設進學班 | C38: 0 | D38: 0 | E38: 0 | F38: 0 | G38: 0 | H38: 0 | I38: 0 | J38: 0 | K38: 0 | L38: 0
B39: 動科進學班 | C39: 0 | D39: 1 | E39: 0 | F39: 0 | G39: 0 | H39: 1 | I39: 0 | J39: 0 | K39: 0 | L39: 0
B40: 農場管理進修學士學位學程 | C40: 1 | D40: 1 | E40: 0 | F40: 0 | G40: 0 | H40: 0 | I40: 0 | J40: 0 | K40: 0 | L40: 0
A41: 理工學院 | B41: 應用數學系 | C41: 1 | D41: 1 | E41: 不限 | F41: 1 | G41: 1 | H41: 1 | I41: 1 | J41: 10 | K41: 0 | L41: 0
B42: 電子物理學系 | C42: 0 | D42: 0 | E42: 5 | F42: 1 | G42: 1 | H42: 0 | I42: 0 | J42: 5 | K42: 1 | L42: 1
B43: 應用化學系 | C43: 0 | D43: 0 | E43: 不限 | F43: 2 | G43: 0 | H43: 0 | I43: 0 | J43: 不限 | K43: 1 | L43: 0
B44: 生物機電工程學系 | C44: 3 | D44: 2 | E44: 不限 | F44: 0 | G44: 0 | H44: 0 | I44: 0 | J44: 0 | K44: 0 | L44: 0
B45: 土木與水資源工程學系 | C45: 1 | D45: 1 | E45: 5 | F45: 0 | G45: 1 | H45: 1 | I45: 1 | J45: 0 | K45: 0 | L45: 0
B46: 資訊工程學系 | C46: 0 | D46: 0 | E46: 不限 | F46: 10 | G46: 9 | H46: 0 | I46: 0 | J46: 不限 | K46: 6 | L46: 6
B47: 電機工程學系 | C47: 0 | D47: 0 | E47: 5 | F47: 4 | G47: 3 | H47: 0 | I47: 0 | J47: 0 | K47: 0 | L47: 0
B48: 機械與能源工程學系 | C48: 1 | D48: 1 | E48: 0 | F48: 0 | G48: 0 | H48: 0 | I48: 0 | J48: 5 | K48: 0 | L48: 0
B49: 生機進學班 | C49: 0 | D49: 0 | E49: 不限 | F49: 0 | G49: 0 | H49: 0 | I49: 0 | J49: 0 | K49: 0 | L49: 0
B50: 土木進學班 | C50: 0 | D50: 0 | E50: 5 | F50: 1 | G50: 0 | H50: 0 | I50: 0 | J50: 0 | K50: 0 | L50: 0
B51: 資工進學班 | C51: 0 | D51: 0 | E51: 2 | F51: 0 | G51: 0 | H51: 0 | I51: 0 | J51: 0 | K51: 0 | L51: 0
A52: 生命科學院 | B52: 食品科學系 | C52: 2 | D52: 1 | E52: 5 | F52: 1 | G52: 1 | H52: 0 | I52: 0 | J52: 0 | K52: 0 | L52: 0
B53: 生物資源學系 | C53: 5 | D53: 4 | E53: 不限 | F53: 3 | G53: 3 | H53: 4 | I53: 3 | J53: 10 | K53: 1 | L53: 0
B54: 水生生物科學系 | C54: 2 | D54: 2 | E54: 不限 | F54: 0 | G54: 0 | H54: 1 | I54: 0 | J54: 不限 | K54: 0 | L54: 0
B55: 生化科技學系 | C55: 2 | D55: 1 | E55: 5 | F55: 2 | G55: 1 | H55: 0 | I55: 0 | J55: 3 | K55: 0 | L55: 0
B56: 微生物免疫與生物藥學系 | C56: 0 | D56: 0 | E56: 不限 | F56: 0 | G56: 0 | H56: 0 | I56: 0 | J56: 3 | K56: 2 | L56: 1
B57: 食品進學班 | C57: 0 | D57: 0 | E57: 5 | F57: 0 | G57: 0 | H57: 0 | I57: 0 | J57: 0 | K57: 0 | L57: 0
B58: 總計 | C58: =SUM(C7:C57) -> 98 | D58: =SUM(D7:D57) -> 66 | E58: =SUM(E7:E57) -> 180 | F58: =SUM(F7:F57) -> 98 | G58: =SUM(G7:G57) -> 66 | H58: =SUM(H7:H57) -> 21 | I58: =SUM(I7:I57) -> 13 | J58: =SUM(J7:J57) -> 115 | ... L58: =SUM(L7:L57) -> 13

Sheet 109年
A1: 國立嘉義大學109學年度申請及核准輔系、雙主修人數統計表
A2: 學院 | B2: 學系 | C2: 輔系 | H2: 雙主修
C3: 本系生 | D3: 本系學 | E3: 招收 名額 | F3: 申請此 | G3: 核准修 | H3: 本系學 | I3: 本系學 | J3: 招收 名額 | K3: 申請此 | L3: 核准修
C4: 有申請 | D4: 生核准 | F4: 系為輔 | G4: 讀此系 | H4: 生有申 | I4: 生核准 | K4: 系為雙 | L4: 讀此系
C5: 輔系 | D5: 修讀輔 | F5: 系 | G5: 為輔系 | H5: 請雙修 | I5: 修讀雙 | K5: 修 | L5: 為雙修
D6: 系 | I6: 修
A7: 師範學院 | B7: 教育學系 | C7: 1 | D7: 0 | E7: 0 | F7: 0 | G7: 0 | H7: 0 | I7: 0 | J7: 0 | K7: 0 | L7: 0
B8: 特殊教育學系 | C8: 1 | D8: 0 | E8: 0 | F8: 0 | G8: 0 | H8: 1 | I8: 1 | J8: 0 | K8: 0 | L8: 0
B9: 幼兒教育學系 | C9: 4 | D9: 2 | E9: 0 | F9: 0 | G9: 0 | H9: 1 | I9: 0 | J9: 0 | K9: 0 | L9: 0
B10: 體育與健康休閒學系 | C10: 0 | D10: 0 | E10: 3 | F10: 0 | G10: 0 | H10: 0 | I10: 0 | J10: 0 | K10: 0 | L10: 0
B11: 數位學習設計與管理學系 | C11: 20 | D11: 17 | E11: 2 | F11: 2 | G11: 1 | H11: 0 | I11: 0 | J11: 0 | K11: 0 | L11: 0
B12: 輔導與諮商學系 | C12: 2 | D12: 0 | E12: 2 | F12: 5 | G12: 1 | H12: 2 | I12: 1 | J12: 2 | K12: 0 | L12: 0
B13: 體育進學班 | C13: 0 | D13: 0 | E13: 0 | F13: 0 | G13: 0 | H13: 0 | I13: 0 | J13: 0 | K13: 0 | L13: 0
A14: 人文藝術學院 | B14: 中國文學系 | C14: 2 | D14: 1 | E14: 5 | F14: 0 | G14: 0 | H14: 1 | I14: 0 | J14: 5 | K14: 1 | L14: 1
B15: 外國語言學系 | C15: 29 | D15: 17 | E15: 10 | F15: 1 | G15: 0 | H15: 3 | I15: 2 | J15: 10 | K15: 3 | L15: 1
B16: 應用歷史學系 | C16: 2 | D16: 0 | E16: 不限 | F16: 2 | G16: 1 | H16: 2 | I16: 2 | J16: 不限 | K16: 0 | L16: 0
B17: 視覺藝術學系 | C17: 1 | D17: 1 | E17: 10 | F17: 2 | G17: 2 | H17: 0 | I17: 0 | J17: 2 | K17: 0 | L17: 0
B18: 音樂學系 | C18: 0 | D18: 0 | E18: 3 | F18: 1 | G18: 0 | H18: 0 | I18: 0 | J18: 0 | K18: 0 | L18: 0
B19: 中國進學班 | C19: 0 | D19: 0 | E19: 5 | F19: 0 | G19: 0 | H19: 0 | I19: 0 | J19: 5 | K19: 0 | L19: 0
A20: 管理學院 | B20: 科技管理學系 | C20: 2 | D20: 1 | E20: 不限 | F20: 0 | G20: 0 | H20: 0 | I20: 0 | J20: 不限 | K20: 2 | L20: 2
B21: 應用經濟學系 | C21: 0 | D21: 0 | E21: 20 | F21: 5 | G21: 4 | H21: 0 | I21: 0 | J21: 20 | K21: 3 | L21: 2
B22: 企業管理學系 | C22: 0 | D22: 0 | E22: 10 | F22: 4 | G22: 3 | H22: 0 | I22: 0 | J22: 5 | K22: 1 | L22: 1
B23: 資訊管理學系 | C23: 7 | D23: 5 | E23: 15 | F23: 8 | G23: 8 | H23: 0 | I23: 0 | J23: 0 | K23: 0 | L23: 0
B24: 財務金融學系 | C24: 2 | D24: 0 | E24: 15 | F24: 28 | G24: 15 | H24: 0 | I24: 0 | J24: 5 | K24: 2 | L24: 0
B25: 行銷與觀光管理學系 | C25: 2 | D25: 1 | E25: 10 | F25: 16 | G25: 10 | H25: 0 | I25: 0 | J25: 5 | K25: 1 | L25: 1
B26: 科管進學班 | C26: 0 | D26: 0 | E26: 不限 | F26: 1 | G26: 0 | H26: 0 | I26: 0 | J26: 不限 | K26: 0 | L26: 0
B27: 企管進學班 | C27: 0 | D27: 0 | E27: 10 | F27: 2 | G27: 0 | H27: 0 | I27: 0 | J27: 5 | K27: 0 | L27: 0
B28: 財金進學班 | C28: 0 | D28: 0 | E28: 0 | F28: 0 | G28: 0 | H28: 0 | I28: 0 | J28: 0 | K28: 0 | L28: 0
A29: 農學院 | B29: 農藝學系 | C29: 0 | D29: 0 | E29: 3 | F29: 0 | G29: 0 | H29: 0 | I29: 0 | J29: 3 | K29: 0 | L29: 0
B30: 園藝學系 | C30: 1 | D30: 0 | E30: 5 | F30: 0 | G30: 0 | H30: 1 | I30: 0 | J30: 5 | K30: 0 | L30: 0
B31: 木質材料與設計學系 | C31: 1 | D31: 1 | E31: 0 | F31: 0 | G31: 0 | H31: 0 | I31: 0 | J31: 1 | K31: 1 | L31: 0
B32: 植物醫學系 | C32: 0 | D32: 0 | E32: 0 | F32: 0 | G32: 0 | H32: 0 | I32: 0 | J32: 0 | K32: 0 | L32: 0
B33: 生物農業科技學系 | C33: 1 | D33: 1 | E33: 5 | F33: 0 | G33: 0 | H33: 1 | I33: 1 | J33: 5 | K33: 0 | L33: 0
B34: 景觀學系 | C34: 0 | D34: 0 | E34: 0 | F34: 0 | G34: 0 | H34: 0 | I34: 0 | J34: 0 | K34: 0 | L34: 0
B35: 森林暨自然資源學系 | C35: 0 | D35: 0 | E35: 5 | F35: 0 | G35: 0 | H35: 0 | I35: 0 | J35: 5 | K35: 0 | L35: 0
B36: 動物科學系 | C36: 0 | D36: 0 | E36: 5 | F36: 6 | G36: 4 | H36: 0 | I36: 0 | J36: 1 | K36: 1 | L36: 1
B37: 園藝進學班 | C37: 0 | D37: 0 | E37: 0 | F37: 0 | G37: 0 | H37: 0 | I37: 0 | J37: 0 | K37: 0 | L37: 0
B38: 木設進學班 | C38: 0 | D38: 0 | E38: 0 | F38: 0 | G38: 0 | H38: 0 | I38: 0 | J38: 0 | K38: 0 | L38: 0
B39: 動科進學班 | C39: 0 | D39: 0 | E39: 0 | F39: 0 | G39: 0 | H39: 0 | I39: 0 | J39: 0 | K39: 0 | L39: 0
B40: 農場管理進修學士學位學程 | C40: 1 | D40: 1 | E40: 0 | F40: 0 | G40: 0 | H40: 1 | I40: 1 | J40: 0 | K40: 0 | L40: 0
A41: 理工學院 | B41: 應用數學系 | C41: 2 | D41: 2 | E41: 不限 | F41: 0 | G41: 0 | H41: 1 | I41: 0 | J41: 10 | K41: 0 | L41: 0
B42: 電子物理學系 | C42: 0 | D42: 0 | E42: 5 | F42: 1 | G42: 1 | H42: 1 | I42: 1 | J42: 5 | K42: 0 | L42: 0
B43: 應用化學系 | C43: 0 | D43: 0 | E43: 不限 | F43: 3 | G43: 3 | H43: 0 | I43: 0 | J43: 不限 | K43: 0 | L43: 0
B44: 生物機電工程學系 | C44: 0 | D44: 0 | E44: 不限 | F44: 0 | G44: 0 | H44: 0 | I44: 0 | J44: 0 | K44: 0 | L44: 0
B45: 土木與水資源工程學系 | C45: 3 | D45: 1 | E45: 5 | F45: 1 | G45: 0 | H45: 0 | I45: 0 | J45: 0 | K45: 0 | L45: 0
B46: 資訊工程學系 | C46: 0 | D46: 0 | E46: 3 | F46: 9 | G46: 3 | H46: 0 | I46: 0 | J46: 3 | K46: 2 | L46: 2
B47: 電機工程學系 | C47: 2 | D47: 1 | E47: 5 | F47: 0 | G47: 0 | H47: 0 | I47: 0 | J47: 0 | K47: 0 | L47: 0
B48: 機械與能源工程學系 | C48: 0 | D48: 0 | E48: 5 | F48: 0 | G48: 0 | H48: 0 | I48: 0 | J48: 5 | K48: 0 | L48: 0
B49: 生機進學班 | C49: 3 | D49: 0 | E49: 不限 | F49: 1 | G49: 0 | H49: 0 | I49: 0 | J49: 0 | K49: 0 | L49: 0
B50: 土木進學班 | C50: 0 | D50: 0 | E50: 5 | F50: 0 | G50: 0 | H50: 0 | I50: 0 | J50: 0 | K50: 0 | L50: 0
B51: 資工進學班 | C51: 0 | D51: 0 | E51: 2 | F51: 0 | G51: 0 | H51: 0 | I51: 0 | J51: 0 | K51: 0 | L51: 0
A52: 生命科學院 | B52: 食品科學系 | C52: 1 | D52: 0 | E52: 5 | F52: 0 | G52: 1 | H52: 3 | I52: 2 | J52: 0 | K52: 0 | L52: 0
B53: 生物資源學系 | C53: 3 | D53: 2 | E53: 不限 | F53: 0 | G53: 0 | H53: 0 | I53: 0 | J53: 不限 | K53: 1 | L53: 1
B54: 水生生物科學系 | C54: 6 | D54: 2 | E54: 不限 | F54: 0 | G54: 0 | H54: 1 | I54: 1 | J54: 不限 | K54: 0 | L54: 0
B55: 生化科技學系 | C55: 2 | D55: 2 | E55: 5 | F55: 2 | G55: 2 | H55: 1 | I55: 1 | J55: 3 | K55: 1 | L55: 1
B56: 微生物免疫與生物藥學系 | C56: 1 | D56: 1 | E56: 不限 | F56: 2 | G56: 0 | H56: 0 | I56: 0 | J56: 3 | K56: 1 | L56: 0
B57: 食品進學班 | C57: 1 | D57: 0 | E57: 5 | F57: 1 | G57: 0 | H57: 0 | I57: 0 | J57: 0 | K57: 0 | L57: 0
B58: 總計 | C58: =SUM(C3:C57) -> 103 | D58: =SUM(D3:D57) -> 59 | E58: =SUM(E3:E57) -> 188 | F58: =SUM(F3:F57) -> 103 | G58: =SUM(G3:G57) -> 59 | H58: =SUM(H3:H57) -> 20 | I58: =SUM(I3:I57) -> 13 | J58: =SUM(J3:J57) -> 113 | ... L58: =SUM(L3:L57) -> 13

Sheet 110年
A1: 國立嘉義大學110學年度申請及核准輔系、雙主修人數統計表
A2: 學院 | B2: 學系 | C2: 輔系 | H2: 雙主修
C3: 本系生 | D3: 本系學 | E3: 招收 名額 | F3: 申請此 | G3: 核准修 | H3: 本系學 | I3: 本系學 | J3: 招收 名額 | K3: 申請此 | L3: 核准修
C4: 有申請 | D4: 生核准 | F4: 系為輔 | G4: 讀此系 | H4: 生有申 | I4: 生核准 | K4: 系為雙 | L4: 讀此系
C5: 輔系 | D5: 修讀輔 | F5: 系 | G5: 為輔系 | H5: 請雙修 | I5: 修讀雙 | K5: 修 | L5: 為雙修
D6: 系 | I6: 修
A7: 師範學院 | B7: 教育學系 | C7: 7 | D7: 5 | E7: 0 | F7: 0 | G7: 0 | H7: 0 | I7: 0 | J7: 0 | K7: 0 | L7: 0
B8: 特殊教育學系 | C8: 15 | D8: 8 | E8: 0 | F8: 0 | G8: 0 | H8: 1 | I8: 1 | J8: 0 | K8: 0 | L8: 0
B9: 幼兒教育學系 | C9: 10 | D9: 4 | E9: 0 | F9: 0 | G9: 0 | H9: 0 | I9: 0 | J9: 0 | K9: 0 | L9: 0
B10: 體育與健康休閒學系 | C10: 2 | D10: 2 | E10: 3 | F10: 4 | G10: 2 | H10: 0 | I10: 0 | J10: 0 | K10: 0 | L10: 0
B11: 數位學習設計與管理學系 | C11: 11 | D11: 6 | E11: 2 | F11: 5 | G11: 2 | H11: 0 | I11: 0 | J11: 0 | K11: 0 | L11: 0
B12: 輔導與諮商學系 | C12: 1 | D12: 0 | E12: 2 | F12: 14 | G12: 2 | H12: 1 | I12: 0 | J12: 2 | K12: 2 | L12: 2
B13: 體育進學班 | C13: 0 | D13: 0 | E13: 0 | F13: 0 | G13: 0 | H13: 0 | I13: 0 | J13: 0 | K13: 0 | L13: 0
A14: 人文藝術學院 | B14: 中國文學系 | C14: 3 | D14: 2 | E14: 5 | F14: 7 | G14: 5 | H14: 1 | I14: 1 | J14: 5 | K14: 1 | L14: 1
B15: 外國語言學系 | C15: 36 | D15: 21 | E15: 10 | F15: 3 | G15: 2 | H15: 5 | I15: 4 | J15: 10 | K15: 0 | L15: 0
B16: 應用歷史學系 | C16: 5 | D16: 3 | E16: 不限 | F16: 4 | G16: 2 | H16: 2 | I16: 2 | J16: 不限 | K16: 0 | L16: 0
B17: 視覺藝術學系 | C17: 4 | D17: 1 | E17: 10 | F17: 6 | G17: 5 | H17: 0 | I17: 0 | J17: 2 | K17: 0 | L17: 0
B18: 音樂學系 | C18: 0 | D18: 0 | E18: 3 | F18: 1 | G18: 1 | H18: 0 | I18: 0 | J18: 0 | K18: 0 | L18: 0
B19: 中國進學班 | C19: 1 | D19: 0 | E19: 5 | F19: 0 | G19: 0 | H19: 0 | I19: 0 | J19: 5 | K19: 0 | L19: 0
A20: 管理學院 | B20: 科技管理學系 | C20: 3 | D20: 1 | E20: 不限 | F20: 0 | G20: 1 | H20: 4 | I20: 3 | J20: 不限 | K20: 0 | L20: 1
B21: 應用經濟學系 | C21: 2 | D21: 1 | E21: 20 | F21: 7 | G21: 6 | H21: 0 | I21: 0 | J21: 20 | K21: 4 | L21: 4
B22: 企業管理學系 | C22: 11 | D22: 6 | E22: 10 | F22: 3 | G22: 2 | H22: 0 | I22: 0 | J22: 5 | K22: 2 | L22: 1
B23: 資訊管理學系 | C23: 3 | D23: 2 | E23: 15 | F23: 12 | G23: 9 | H23: 0 | I23: 0 | J23: 0 | K23: 0 | L23: 0
B24: 財務金融學系 | C24: 1 | D24: 0 | E24: 15 | F24: 42 | G24: 15 | H24: 0 | I24: 0 | J24: 5 | K24: 2 | L24: 1
B25: 行銷與觀光管理學系 | C25: 2 | D25: 1 | E25: 10 | F25: 8 | G25: 5 | H25: 0 | I25: 0 | J25: 5 | K25: 0 | L25: 0
B26: 科管進學班 | C26: 0 | D26: 0 | E26: 不限 | F26: 1 | G26: 0 | H26: 0 | I26: 0 | J26: 不限 | K26: 1 | L26: 0
B27: 企管進學班 | C27: 0 | D27: 0 | E27: 10 | F27: 0 | G27: 0 | H27: 0 | I27: 0 | J27: 5 | K27: 0 | L27: 0
B28: 財金進學班 | C28: 0 | D28: 0 | E28: 0 | F28: 0 | G28: 0 | H28: 0 | I28: 0 | J28: 0 | K28: 0 | L28: 0
A29: 農學院 | B29: 農藝學系 | C29: 1 | D29: 0 | E29: 3 | F29: 0 | G29: 0 | H29: 2 | I29: 0 | J29: 3 | K29: 0 | L29: 0
B30: 園藝學系 | C30: 1 | D30: 0 | E30: 5 | F30: 0 | G30: 0 | H30: 0 | I30: 0 | J30: 5 | K30: 0 | L30: 0
B31: 木質材料與設計學系 | C31: 0 | D31: 0 | E31: 0 | F31: 0 | G31: 0 | H31: 0 | I31: 0 | J31: 1 | K31: 0 | L31: 0
B32: 植物醫學系 | C32: 0 | D32: 0 | E32: 0 | F32: 0 | G32: 0 | H32: 0 | I32: 0 | J32: 0 | K32: 0 | L32: 0
B33: 生物農業科技學系 | C33: 0 | D33: 0 | E33: 5 | F33: 2 | G33: 2 | H33: 0 | I33: 0 | J33: 5 | K33: 1 | L33: 0
B34: 景觀學系 | C34: 1 | D34: 1 | E34: 0 | F34: 0 | G34: 0 | H34: 0 | I34: 0 | J34: 0 | K34: 0 | L34: 0
B35: 森林暨自然資源學系 | C35: 2 | D35: 0 | E35: 5 | F35: 0 | G35: 0 | H35: 1 | I35: 0 | J35: 5 | K35: 1 | L35: 0
B36: 動物科學系 | C36: 0 | D36: 0 | E36: 5 | F36: 2 | G36: 1 | H36: 0 | I36: 0 | J36: 1 | K36: 1 | L36: 0
B37: 園藝進學班 | C37: 0 | D37: 0 | E37: 0 | F37: 0 | G37: 0 | H37: 0 | I37: 0 | J37: 0 | K37: 0 | L37: 0
B38: 木設進學班 | C38: 0 | D38: 0 | E38: 0 | F38: 0 | G38: 0 | H38: 0 | I38: 0 | J38: 0 | K38: 0 | L38: 0
B39: 動科進學班 | C39: 0 | D39: 0 | E39: 0 | F39: 0 | G39: 0 | H39: 1 | I39: 1 | J39: 0 | K39: 0 | L39: 0
A40: 理工學院 | B40: 應用數學系 | C40: 1 | D40: 1 | E40: 不限 | F40: 1 | G40: 1 | H40: 0 | I40: 0 | J40: 10 | K40: 1 | L40: 1
B41: 電子物理學系 | C41: 1 | D41: 0 | E41: 5 | F41: 0 | G41: 0 | H41: 1 | I41: 1 | J41: 5 | K41: 0 | L41: 0
B42: 應用化學系 | C42: 2 | D42: 0 | E42: 不限 | F42: 3 | G42: 3 | H42: 1 | I42: 0 | J42: 不限 | K42: 1 | L42: 0
B43: 生物機電工程學系 | C43: 0 | D43: 0 | E43: 不限 | F43: 0 | G43: 0 | H43: 0 | I43: 0 | J43: 0 | K43: 0 | L43: 0
B44: 土木與水資源工程學系 | C44: 1 | D44: 0 | E44: 不限 | F44: 0 | G44: 0 | H44: 1 | I44: 1 | J44: 不限 | K44: 0 | L44: 0
B45: 資訊工程學系 | C45: 0 | D45: 0 | E45: 3 | F45: 9 | G45: 3 | H45: 1 | I45: 0 | J45: 3 | K45: 1 | L45: 1
B46: 電機工程學系 | C46: 1 | D46: 0 | E46: 5 | F46: 1 | G46: 0 | H46: 0 | I46: 0 | J46: 0 | K46: 0 | L46: 0
B47: 機械與能源工程學系 | C47: 1 | D47: 0 | E47: 5 | F47: 0 | G47: 0 | H47: 0 | I47: 0 | J47: 5 | K47: 0 | L47: 0
B48: 生機進學班 | C48: 0 | D48: 0 | E48: 不限 | F48: 0 | G48: 0 | H48: 0 | I48: 0 | J48: 0 | K48: 0 | L48: 0
B49: 土木進學班 | C49: 0 | D49: 0 | E49: 5 | F49: 0 | G49: 0 | H49: 0 | I49: 0 | J49: 0 | K49: 0 | L49: 0
B50: 資工進學班 | C50: 0 | D50: 0 | E50: 2 | F50: 0 | G50: 0 | H50: 0 | I50: 0 | J50: 0 | K50: 0 | L50: 0
A51: 生命科學院 | B51: 食品科學系 | C51: 4 | D51: 2 | E51: 5 | F51: 0 | G51: 0 | H51: 0 | I51: 0 | J51: 0 | K51: 0 | L51: 0
B52: 生物資源學系 | C52: 1 | D52: 0 | E52: 不限 | F52: 4 | G52: 4 | H52: 0 | I52: 0 | J52: 10 | K52: 1 | L52: 1
B53: 水生生物科學系 | C53: 3 | D53: 2 | E53: 不限 | F53: 0 | G53: 0 | H53: 4 | I53: 3 | J53: 不限 | K53: 0 | L53: 0
B54: 生化科技學系 | C54: 3 | D54: 3 | E54: 5 | F54: 0 | G54: 0 | H54: 0 | I54: 0 | J54: 3 | K54: 2 | L54: 2
B55: 微生物免疫與生物藥學系 | C55: 1 | D55: 1 | E55: 不限 | F55: 2 | G55: 0 | H55: 0 | I55: 0 | J55: 3 | K55: 5 | L55: 2
B56: 食品進學班 | C56: 0 | D56: 0 | E56: 0 | F56: 0 | G56: 0 | H56: 0 | I56: 0 | J56: 0 | K56: 0 | L56: 0
B57: 總計 | C57: =SUM(C2:C56) -> 141 | D57: =SUM(D2:D56) -> 73 | E57: =SUM(E2:E56) -> 178 | F57: =SUM(F2:F56) -> 141 | G57: =SUM(G2:G56) -> 73 | H57: =SUM(H2:H56) -> 26 | I57: =SUM(I2:I56) -> 17 | J57: =SUM(J2:J56) -> 123 | ... L57: =SUM(L2:L56) -> 17

Sheet 111年 
A1: 國立嘉義大學111學年度申請及核准輔系、雙主修人數統計表
A2: 學院 | B2: 學系 | C2: 輔系 | H2: 雙主修
C3: 本系生 | D3: 本系學 | E3: 招收 名額 | F3: 申請此 | G3: 核准修 | H3: 本系學 | I3: 本系學 | J3: 招收 名額 | K3: 申請此 | L3: 核准修
C4: 有申請 | D4: 生核准 | F4: 系為輔 | G4: 讀此系 | H4: 生有申 | I4: 生核准 | K4: 系為雙 | L4: 讀此系
C5: 輔系 | D5: 修讀輔 | F5: 系 | G5: 為輔系 | H5: 請雙修 | I5: 修讀雙 | K5: 修 | L5: 為雙修
D6: 系 | I6: 修
A7: 師範學院 | B7: 教育學系 | C7: 1 | D7: 1 | E7: 2 | F7: 0 | G7: 0 | H7: 1 | I7: 1 | J7: 2 | K7: 0 | L7: 0
B8: 特殊教育學系 | C8: 15 | D8: 8 | E8: 2 | F8: 1 | G8: 1 | H8: 0 | I8: 0 | J8: 2 | K8: 0 | L8: 0
B9: 幼兒教育學系 | C9: 4 | D9: 1 | E9: 0 | F9: 0 | G9: 0 | H9: 0 | I9: 0 | J9: 0 | K9: 0 | L9: 0
B10: 體育與健康休閒學系 | C10: 0 | D10: 0 | E10: 5 | F10: 3 | G10: 3 | H10: 0 | I10: 0 | J10: 5 | K10: 1 | L10: 1
B11: 數位學習設計與管理學系 | C11: 10 | D11: 7 | E11: 2 | F11: 8 | G11: 2 | H11: 2 | I11: 1 | J11: 2 | K11: 0 | L11: 0
B12: 輔導與諮商學系 | C12: 1 | D12: 0 | E12: 2 | F12: 6 | G12: 3 | H12: 0 | I12: 0 | J12: 2 | K12: 0 | L12: 0
B13: 體育進學班 | C13: 0 | D13: 0 | E13: 0 | F13: 0 | G13: 0 | H13: 0 | I13: 0 | J13: 0 | K13: 0 | L13: 0
A14: 人文藝術學院 | B14: 中國文學系 | C14: 15 | D14: 10 | E14: 5 | F14: 8 | G14: 5 | H14: 0 | I14: 0 | J14: 5 | K14: 0 | L14: 0
B15: 外國語言學系 | C15: 40 | D15: 25 | E15: 4 | F15: 2 | G15: 1 | H15: 2 | I15: 1 | J15: 4 | K15: 0 | L15: 0
B16: 應用歷史學系 | C16: 11 | D16: 5 | E16: 不限 | F16: 6 | G16: 6 | H16: 6 | I16: 3 | J16: 不限 | K16: 1 | L16: 0
B17: 視覺藝術學系 | C17: 4 | D17: 3 | E17: 不限 | F17: 4 | G17: 3 | H17: 0 | I17: 0 | J17: 不限 | K17: 0 | L17: 0
B18: 音樂學系 | C18: 0 | D18: 0 | E18: 5 | F18: 0 | G18: 0 | H18: 0 | I18: 0 | J18: 0 | K18: 0 | L18: 0
B19: 中國進學班 | C19: 1 | D19: 0 | E19: 5 | F19: 0 | G19: 0 | H19: 0 | I19: 0 | J19: 5 | K19: 0 | L19: 0
A20: 管理學院 | B20: 科技管理學系 | C20: 10 | D20: 2 | E20: 不限 | F20: 2 | G20: 0 | H20: 4 | I20: 2 | J20: 不限 | K20: 1 | L20: 1
B21: 應用經濟學系 | C21: 5 | D21: 1 | E21: 不限 | F21: 18 | G21: 13 | H21: 3 | I21: 1 | J21: 不限 | K21: 2 | L21: 0
B22: 企業管理學系 | C22: 8 | D22: 4 | E22: 30 | F22: 9 | G22: 9 | H22: 0 | I22: 0 | J22: 不限 | K22: 6 | L22: 5
B23: 資訊管理學系 | C23: 6 | D23: 1 | E23: 15 | F23: 15 | G23: 11 | H23: 0 | I23: 0 | J23: 0 | K23: 0 | L23: 0
B24: 財務金融學系 | C24: 0 | D24: 0 | E24: 15 | F24: 45 | G24: 15 | H24: 6 | I24: 4 | J24: 5 | K24: 2 | L24: 2
B25: 行銷與觀光管理學系 | C25: 9 | D25: 6 | E25: 10 | F25: 18 | G25: 10 | H25: 0 | I25: 0 | J25: 5 | K25: 1 | L25: 0
B26: 科管進學班 | C26: 0 | D26: 0 | E26: 不限 | F26: 0 | G26: 0 | H26: 0 | I26: 0 | J26: 不限 | K26: 0 | L26: 0
B27: 企管進學班 | C27: 0 | D27: 0 | E27: 不限 | F27: 0 | G27: 0 | H27: 0 | I27: 0 | J27: 不限 | K27: 0 | L27: 0
B28: 財金進學班 | C28: 0 | D28: 0 | E28: 0 | F28: 0 | G28: 0 | H28: 0 | I28: 0 | J28: 0 | K28: 0 | L28: 0
A29: 農學院 | B29: 農藝學系 | C29: 2 | D29: 1 | E29: 3 | F29: 2 | G29: 0 | H29: 0 | I29: 0 | J29: 3 | K29: 0 | L29: 0
B30: 園藝學系 | C30: 0 | D30: 0 | E30: 10 | F30: 2 | G30: 0 | H30: 0 | I30: 0 | J30: 10 | K30: 1 | L30: 1
B31: 木質材料與設計學系 | C31: 1 | D31: 1 | E31: 1 | F31: 1 | G31: 0 | H31: 0 | I31: 0 | J31: 1 | K31: 0 | L31: 0
B32: 植物醫學系 | C32: 0 | D32: 0 | E32: 5 | F32: 0 | G32: 0 | H32: 0 | I32: 0 | J32: 2 | K32: 0 | L32: 0
B33: 生物農業科技學系 | C33: 0 | D33: 0 | E33: 2 | F33: 1 | G33: 1 | H33: 3 | I33: 1 | J33: 5 | K33: 1 | L33: 0
B34: 景觀學系 | C34: 6 | D34: 2 | E34: 2 | F34: 0 | G34: 0 | H34: 0 | I34: 0 | J34: 1 | K34: 0 | L34: 0
B35: 森林暨自然資源學系 | C35: 4 | D35: 2 | E35: 5 | F35: 3 | G35: 1 | H35: 0 | I35: 0 | J35: 5 | K35: 0 | L35: 0
B36: 動物科學系 | C36: 0 | D36: 0 | E36: 5 | F36: 1 | G36: 0 | H36: 0 | I36: 0 | J36: 5 | K36: 0 | L36: 0
B37: 園藝進學班 | C37: 0 | D37: 0 | E37: 10 | F37: 0 | G37: 0 | H37: 0 | I37: 0 | J37: 10 | K37: 0 | L37: 0
B38: 木設進學班 | C38: 0 | D38: 0 | E38: 0 | F38: 0 | G38: 0 | H38: 0 | I38: 0 | J38: 0 | K38: 0 | L38: 0
B39: 動科進學班 | C39: 1 | D39: 0 | E39: 0 | F39: 0 | G39: 0 | H39: 1 | I39: 1 | J39: 0 | K39: 0 | L39: 0
A40: 理工學院 | B40: 應用數學系 | C40: 2 | D40: 1 | E40: 不限 | F40: 1 | G40: 0 | H40: 0 | I40: 0 | J40: 10 | K40: 0 | L40: 0
B41: 電子物理學系 | C41: 0 | D41: 0 | E41: 5 | F41: 3 | G41: 1 | H41: 1 | I41: 1 | J41: 5 | K41: 0 | L41: 0
B42: 應用化學系 | C42: 1 | D42: 1 | E42: 不限 | F42: 2 | G42: 2 | H42: 0 | I42: 0 | J42: 不限 | K42: 2 | L42: 1
B43: 生物機電工程學系 | C43: 4 | D43: 3 | E43: 不限 | F43: 1 | G43: 1 | H43: 0 | I43: 0 | J43: 0 | K43: 0 | L43: 0
B44: 土木與水資源工程學系 | C44: 0 | D44: 0 | E44: 不限 | F44: 0 | G44: 0 | H44: 0 | I44: 0 | J44: 不限 | K44: 0 | L44: 0
B45: 資訊工程學系 | C45: 0 | D45: 0 | E45: 不限 | F45: 8 | G45: 3 | H45: 1 | I45: 1 | J45: 3 | K45: 7 | L45: 3
B46: 電機工程學系 | C46: 1 | D46: 1 | E46: 5 | F46: 10 | G46: 5 | H46: 0 | I46: 0 | J46: 0 | K46: 0 | L46: 0
B47: 機械與能源工程學系 | C47: 6 | D47: 2 | E47: 5 | F47: 1 | G47: 1 | H47: 0 | I47: 0 | J47: 5 | K47: 0 | L47: 0
B48: 生機進學班 | C48: 0 | D48: 0 | E48: 不限 | F48: 0 | G48: 0 | H48: 0 | I48: 0 | J48: 0 | K48: 0 | L48: 0
B49: 土木進學班 | C49: 0 | D49: 0 | E49: 5 | F49: 0 | G49: 0 | H49: 0 | I49: 0 | J49: 0 | K49: 0 | L49: 0
B50: 資工進學班 | C50: 0 | D50: 0 | E50: 0 | F50: 0 | G50: 0 | H50: 0 | I50: 0 | J50: 5 | K50: 0 | L50: 0
A51: 生命科學院 | B51: 食品科學系 | C51: 4 | D51: 2 | E51: 5 | F51: 3 | G51: 1 | H51: 0 | I51: 0 | J51: 0 | K51: 0 | L51: 0
B52: 生物資源學系 | C52: 3 | D52: 3 | E52: 不限 | F52: 0 | G52: 0 | H52: 2 | I52: 1 | J52: 10 | K52: 3 | L52: 3
B53: 水生生物科學系 | C53: 3 | D53: 1 | E53: 不限 | F53: 0 | G53: 0 | H53: 3 | I53: 3 | J53: 不限 | K53: 1 | L53: 0
B54: 生化科技學系 | C54: 6 | D54: 4 | E54: 10 | F54: 0 | G54: 0 | H54: 1 | I54: 1 | J54: 5 | K54: 4 | L54: 2
B55: 微生物免疫與生物藥學系 | C55: 0 | D55: 0 | E55: 不限 | F55: 0 | G55: 0 | H55: 0 | I55: 0 | J55: 不限 | K55: 3 | L55: 3
B56: 食品進學班 | C56: 0 | D56: 0 | E56: 不限 | F56: 0 | G56: 0 | H56: 0 | I56: 0 | J56: 不限 | K56: 0 | L56: 0
B57: 總計 | C57: =SUM(C2:C56) -> 184 | D57: =SUM(D2:D56) -> 98 | E57: =SUM(E2:E56) -> 180 | F57: =SUM(F2:F56) -> 184 | G57: =SUM(G2:G56) -> 98 | H57: =SUM(H2:H56) -> 36 | I57: =SUM(I2:I56) -> 22 | J57: =SUM(J2:J56) -> 122 | ... L57: =SUM(L2:L56) -> 22

Sheet 112-1
A1: 國立嘉義大學112學年度第1學期申請及核准輔系、雙主修人數統計表
A2: 學院 | B2: 學系 | C2: 輔系 | H2: 雙主修
C3: 本系生 | D3: 本系學 | E3: 招收 名額 | F3: 申請此 | G3: 核准修 | H3: 本系學 | I3: 本系學 | J3: 招收 名額 | K3: 申請此 | L3: 核准修
C4: 有申請 | D4: 生核准 | F4: 系為輔 | G4: 讀此系 | H4: 生有申 | I4: 生核准 | K4: 系為雙 | L4: 讀此系
C5: 輔系 | D5: 修讀輔 | F5: 系 | G5: 為輔系 | H5: 請雙修 | I5: 修讀雙 | K5: 修 | L5: 為雙修
D6: 系 | I6: 修
A7: 師範學院 | B7: 教育學系 | C7: 6 | D7: 4 | E7: 2 | F7: 0 | G7: 0 | H7: 1 | I7: 1 | J7: 2 | K7: 0 | L7: 0
B8: 特殊教育學系 | C8: 0 | D8: 0 | E8: 2 | F8: 1 | G8: 1 | H8: 0 | I8: 0 | J8: 2 | K8: 1 | L8: 1
B9: 幼兒教育學系 | C9: 1 | D9: 1 | E9: 0 | F9: 0 | G9: 0 | H9: 1 | I9: 1 | J9: 0 | K9: 0 | L9: 0
B10: 體育與健康休閒學系 | C10: 0 | D10: 0 | E10: 5 | F10: 2 | G10: 2 | H10: 0 | I10: 0 | J10: 5 | K10: 0 | L10: 0
B11: 數位學習設計與管理學系 | C11: 24 | D11: 15 | E11: 2 | F11: 4 | G11: 2 | H11: 2 | I11: 1 | J11: 2 | K11: 1 | L11: 0
B12: 輔導與諮商學系 | C12: 2 | D12: 2 | E12: 2 | F12: 5 | G12: 2 | H12: 0 | I12: 0 | J12: 2 | K12: 0 | L12: 0
B13: 體育進學班 | C13: 0 | D13: 0 | E13: 0 | F13: 0 | G13: 0 | H13: 0 | I13: 0 | J13: 0 | K13: 0 | L13: 0
A14: 人文藝術學院 | B14: 中國文學系 | C14: 6 | D14: 5 | E14: 5 | F14: 2 | G14: 1 | H14: 5 | I14: 4 | J14: 5 | K14: 3 | L14: 1
B15: 外國語言學系 | C15: 12 | D15: 8 | E15: 4 | F15: 2 | G15: 2 | H15: 5 | I15: 2 | J15: 4 | K15: 1 | L15: 1
B16: 應用歷史學系 | C16: 15 | D16: 9 | E16: 不限 | F16: 4 | G16: 2 | H16: 8 | I16: 4 | J16: 不限 | K16: 1 | L16: 1
B17: 視覺藝術學系 | C17: 4 | D17: 1 | E17: 不限 | F17: 1 | G17: 0 | H17: 2 | I17: 0 | J17: 不限 | K17: 0 | L17: 2
B18: 音樂學系 | C18: 0 | D18: 0 | E18: 5 | F18: 4 | G18: 4 | H18: 0 | I18: 0 | J18: 0 | K18: 0 | L18: 0
B19: 中國進學班 | C19: 2 | D19: 1 | E19: 5 | F19: 0 | G19: 0 | H19: 0 | I19: 0 | J19: 5 | K19: 0 | L19: 0
A20: 管理學院 | B20: 科技管理學系 | C20: 11 | D20: 6 | E20: 不限 | F20: 2 | G20: 0 | H20: 0 | I20: 0 | J20: 不限 | K20: 1 | L20: 1
B21: 應用經濟學系 | C21: 5 | D21: 3 | E21: 不限 | F21: 12 | G21: 12 | H21: 1 | I21: 1 | J21: 不限 | K21: 2 | L21: 0
B22: 企業管理學系 | C22: 12 | D22: 6 | E22: 10 | F22: 10 | G22: 5 | H22: 2 | I22: 1 | J22: 5 | K22: 5 | L22: 1
B23: 資訊管理學系 | C23: 2 | D23: 1 | E23: 15 | F23: 22 | G23: 15 | H23: 0 | I23: 0 | J23: 0 | K23: 0 | L23: 0
B24: 財務金融學系 | C24: 2 | D24: 1 | E24: 15 | F24: 33 | G24: 15 | H24: 0 | I24: 0 | J24: 5 | K24: 8 | L24: 5
B25: 行銷與觀光管理學系 | C25: 6 | D25: 5 | E25: 10 | F25: 8 | G25: 5 | H25: 1 | I25: 1 | J25: 5 | K25: 2 | L25: 2
B26: 科管進學班 | C26: 0 | D26: 0 | E26: 不限 | F26: 1 | G26: 0 | H26: 0 | I26: 0 | J26: 不限 | K26: 0 | L26: 0
B27: 企管進學班 | C27: 0 | D27: 0 | E27: 10 | F27: 2 | G27: 2 | H27: 0 | I27: 0 | J27: 5 | K27: 0 | L27: 0
B28: 財金進學班 | C28: 0 | D28: 0 | E28: 0 | F28: 0 | G28: 0 | H28: 0 | I28: 0 | J28: 0 | K28: 0 | L28: 0
A29: 農學院 | B29: 農藝學系 | C29: 2 | D29: 1 | E29: 3 | F29: 0 | G29: 0 | H29: 0 | I29: 0 | J29: 3 | K29: 0 | L29: 0
B30: 園藝學系 | C30: 0 | D30: 0 | E30: 10 | F30: 1 | G30: 1 | H30: 0 | I30: 1 | J30: 10 | K30: 1 | L30: 0
B31: 木質材料與設計學系 | C31: 2 | D31: 2 | E31: 1 | F31: 0 | G31: 0 | H31: 0 | I31: 0 | J31: 1 | K31: 0 | L31: 0
B32: 植物醫學系 | C32: 0 | D32: 0 | E32: 2 | F32: 0 | G32: 0 | H32: 1 | I32: 1 | J32: 2 | K32: 1 | L32: 1
B33: 生物農業科技學系 | C33: 3 | D33: 0 | E33: 5 | F33: 0 | G33: 0 | H33: 3 | I33: 1 | J33: 5 | K33: 0 | L33: 0
B34: 景觀學系 | C34: 0 | D34: 0 | E34: 2 | F34: 0 | G34: 0 | H34: 0 | I34: 0 | J34: 1 | K34: 0 | L34: 0
B35: 森林暨自然資源學系 | C35: 0 | D35: 0 | E35: 5 | F35: 0 | G35: 0 | H35: 0 | I35: 0 | J35: 5 | K35: 1 | L35: 1
B36: 動物科學系 | C36: 1 | D36: 1 | E36: 5 | F36: 0 | G36: 0 | H36: 2 | I36: 0 | J36: 5 | K36: 0 | L36: 1
B37: 園藝進學班 | C37: 0 | D37: 0 | E37: 0 | F37: 0 | G37: 0 | H37: 0 | I37: 0 | J37: 0 | K37: 0 | L37: 0
B38: 木設進學班 | C38: 0 | D38: 0 | E38: 0 | F38: 0 | G38: 0 | H38: 0 | I38: 0 | J38: 0 | K38: 0 | L38: 0
B39: 動科進學班 | C39: 2 | D39: 2 | E39: 0 | F39: 0 | G39: 0 | H39: 0 | I39: 0 | J39: 0 | K39: 0 | L39: 0
A40: 理工學院 | B40: 應用數學系 | C40: 6 | D40: 1 | E40: 不限 | F40: 2 | G40: 2 | H40: 0 | I40: 0 | J40: 不限 | K40: 0 | L40: 0
B41: 電子物理學系 | C41: 3 | D41: 3 | E41: 5 | F41: 1 | G41: 0 | H41: 0 | I41: 0 | J41: 5 | K41: 0 | L41: 0
B42: 應用化學系 | C42: 0 | D42: 0 | E42: 不限 | F42: 8 | G42: 7 | H42: 0 | I42: 0 | J42: 不限 | K42: 1 | L42: 1
B43: 生物機電工程學系 | C43: 5 | D43: 2 | E43: 不限 | F43: 1 | G43: 0 | H43: 2 | I43: 1 | J43: 0 | K43: 0 | L43: 0
B44: 土木與水資源工程學系 | C44: 4 | D44: 2 | E44: 不限 | F44: 0 | G44: 0 | H44: 0 | I44: 0 | J44: 不限 | K44: 1 | L44: 1
B45: 資訊工程學系 | C45: 0 | D45: 0 | E45: 3 | F45: 11 | G45: 3 | H45: 0 | I45: 0 | J45: 3 | K45: 10 | L45: 3
B46: 電機工程學系 | C46: 1 | D46: 1 | E46: 5 | F46: 8 | G46: 5 | H46: 0 | I46: 0 | J46: 0 | K46: 0 | L46: 0
B47: 機械與能源工程學系 | C47: 0 | D47: 0 | E47: 5 | F47: 2 | G47: 1 | H47: 0 | I47: 0 | J47: 5 | K47: 1 | L47: 1
B48: 生機進學班 | C48: 0 | D48: 0 | E48: 不限 | F48: 0 | G48: 0 | H48: 0 | I48: 0 | J48: 0 | K48: 0 | L48: 0
B49: 土木進學班 | C49: 0 | D49: 0 | E49: 0 | F49: 0 | G49: 0 | H49: 0 | I49: 0 | J49: 0 | K49: 0 | L49: 0
B50: 資工進學班 | C50: 0 | D50: 0 | E50: 0 | F50: 0 | G50: 0 | H50: 0 | I50: 0 | J50: 0 | K50: 0 | L50: 0
A51: 生命科學院 | B51: 食品科學系 | C51: 2 | D51: 2 | E51: 5 | F51: 0 | G51: 0 | H51: 2 | I51: 1 | J51: 0 | K51: 1 | L51: 0
B52: 生物資源學系 | C52: 1 | D52: 0 | E52: 不限 | F52: 3 | G52: 2 | H52: 1 | I52: 1 | J52: 10 | K52: 2 | L52: 2
B53: 水生生物科學系 | C53: 5 | D53: 3 | E53: 不限 | F53: 0 | G53: 0 | H53: 0 | I53: 0 | J53: 不限 | K53: 0 | L53: 0
B54: 生化科技學系 | C54: 5 | D54: 4 | E54: 10 | F54: 1 | G54: 1 | H54: 5 | I54: 3 | J54: 5 | K54: 0 | L54: 0
B55: 微生物免疫與生物藥學系 | C55: 4 | D55: 2 | E55: 不限 | F55: 3 | G55: 2 | H55: 2 | I55: 2 | J55: 不限 | K55: 2 | L55: 1
B56: 食品進學班 | C56: 0 | D56: 0 | E56: 5 | F56: 1 | G56: 1 | H56: 0 | I56: 0 | J56: 0 | K56: 0 | L56: 0
A57: 獸醫學院 | B57: 獸醫學系 | C57: 1 | D57: 1 | E57: 0 | F57: 0 | G57: 0 | H57: 0 | I57: 0 | J57: 0 | K57: 0 | L57: 0
B58: 總計 | C58: =SUM(C3:C57) -> 157 | D58: =SUM(D3:D57) -> 95 | E58: =SUM(E3:E57) -> 163 | F58: =SUM(F3:F57) -> 157 | G58: =SUM(G3:G57) -> 95 | H58: =SUM(H3:H57) -> 46 | I58: =SUM(I3:I57) -> 27 | J58: =SUM(J3:J57) -> 107 | ... L58: =SUM(L3:L57) -> 27

Sheet 112-2
A1: 國立嘉義大學112學年度第2學期申請及核准輔系、雙主修人數統計表
A2: 學院 | B2: 學系 | C2: 輔系 | H2: 雙主修
C3: 本系生 | D3: 本系學 | E3: 招收 名額 | F3: 申請此 | G3: 核准修 | H3: 本系學 | I3: 本系學 | J3: 招收 名額 | K3: 申請此 | L3: 核准修
C4: 有申請 | D4: 生核准 | F4: 系為輔 | G4: 讀此系 | H4: 生有申 | I4: 生核准 | K4: 系為雙 | L4: 讀此系
C5: 輔系 | D5: 修讀輔 | F5: 系 | G5: 為輔系 | H5: 請雙修 | I5: 修讀雙 | K5: 修 | L5: 為雙修
D6: 系 | I6: 修
A7: 師範學院 | B7: 教育學系 | C7: 0 | D7: 0 | E7: 2 | F7: 2 | G7: 0 | H7: 0 | I7: 0 | J7: 2 | K7: 1 | L7: 0
B8: 特殊教育學系 | C8: 0 | D8: 0 | E8: 2 | F8: 1 | G8: 1 | H8: 0 | I8: 0 | J8: 2 | K8: 1 | L8: 1
B9: 幼兒教育學系 | C9: 6 | D9: 3 | E9: 0 | F9: 0 | G9: 0 | H9: 2 | I9: 1 | J9: 0 | K9: 0 | L9: 0
B10: 體育與健康休閒學系 | C10: 1 | D10: 1 | E10: 5 | F10: 0 | G10: 0 | H10: 0 | I10: 0 | J10: 5 | K10: 0 | L10: 0
B11: 數位學習設計與管理學系 | C11: 10 | D11: 9 | E11: 2 | F11: 4 | G11: 2 | H11: 1 | I11: 1 | J11: 0 | K11: 0 | L11: 0
B12: 輔導與諮商學系 | C12: 2 | D12: 1 | E12: 2 | F12: 2 | G12: 1 | H12: 0 | I12: 0 | J12: 2 | K12: 2 | L12: 1
B13: 體育進學班 | C13: 0 | D13: 0 | E13: 0 | F13: 0 | G13: 0 | H13: 0 | I13: 0 | J13: 0 | K13: 0 | L13: 0
B14: 教育學系教育研究碩士在職專班 | C14: 1 | D14: 1 | E14: 2 | F14: 0 | G14: 0 | H14: 0 | I14: 0 | J14: 2 | K14: 0 | L14: 0
B15: 教育學系教育研究數理教育碩士在職專班 | C15: 0 | D15: 0 | E15: 5 | F15: 1 | G15: 1 | H15: 0 | I15: 0 | J15: 3 | K15: 0 | L15: 0
A16: 人文藝術學院 | B16: 中國文學系 | C16: 0 | D16: 0 | E16: 5 | F16: 0 | G16: 0 | H16: 0 | I16: 0 | J16: 5 | K16: 0 | L16: 0
B17: 外國語言學系 | C17: 4 | D17: 2 | E17: 6 | F17: 1 | G17: 0 | H17: 2 | I17: 0 | J17: 6 | K17: 0 | L17: 0
B18: 應用歷史學系 | C18: 1 | D18: 1 | E18: 不限 | F18: 1 | G18: 1 | H18: 0 | I18: 0 | J18: 不限 | K18: 0 | L18: 0
B19: 視覺藝術學系 | C19: 2 | D19: 2 | E19: 不限 | F19: 1 | G19: 1 | H19: 2 | I19: 2 | J19: 不限 | K19: 0 | L19: 0
B20: 音樂學系 | C20: 0 | D20: 0 | E20: 5 | F20: 1 | G20: 1 | H20: 0 | I20: 0 | J20: 0 | K20: 0 | L20: 0
B21: 中國進學班 | C21: 0 | D21: 0 | E21: 5 | F21: 0 | G21: 0 | H21: 0 | I21: 0 | J21: 5 | K21: 0 | L21: 0
A22: 管理學院 | B22: 科技管理學系 | C22: 4 | D22: 2 | E22: 不限 | F22: 2 | G22: 2 | H22: 1 | I22: 1 | J22: 不限 | K22: 2 | L22: 2
B23: 應用經濟學系 | C23: 0 | D23: 0 | E23: 不限 | F23: 1 | G23: 1 | H23: 0 | I23: 0 | J23: 不限 | K23: 1 | L23: 1
B24: 企業管理學系 | C24: 1 | D24: 1 | E24: 10 | F24: 4 | G24: 4 | H24: 1 | I24: 1 | J24: 5 | K24: 1 | L24: 1
B25: 資訊管理學系 | C25: 0 | D25: 0 | E25: 15 | F25: 8 | G25: 8 | H25: 1 | I25: 0 | J25: 0 | K25: 0 | L25: 0
B26: 財務金融學系 | C26: 0 | D26: 0 | E26: 0 | F26: 0 | G26: 0 | H26: 0 | I26: 0 | J26: 0 | K26: 0 | L26: 0
B27: 行銷與觀光管理學系 | C27: 1 | D27: 1 | E27: 10 | F27: 3 | G27: 2 | H27: 0 | I27: 0 | J27: 5 | K27: 0 | L27: 0
B28: 科管進學班 | C28: 0 | D28: 1 | E28: 不限 | F28: 0 | G28: 0 | H28: 0 | I28: 0 | J28: 不限 | K28: 0 | L28: 0
B29: 企管進學班 | C29: 0 | D29: 0 | E29: 10 | F29: 0 | G29: 0 | H29: 0 | I29: 0 | J29: 5 | K29: 0 | L29: 0
B30: 財金進學班 | C30: 0 | D30: 0 | E30: 0 | F30: 0 | G30: 0 | H30: 0 | I30: 0 | J30: 0 | K30: 0 | L30: 0
A31: 農學院 | B31: 農藝學系 | C31: 3 | D31: 2 | E31: 3 | F31: 0 | G31: 0 | H31: 0 | I31: 0 | J31: 3 | K31: 0 | L31: 0
B32: 園藝學系 | C32: 3 | D32: 2 | E32: 10 | F32: 0 | G32: 0 | H32: 4 | I32: 2 | J32: 10 | K32: 0 | L32: 0
B33: 木質材料與設計學系 | C33: 0 | D33: 0 | E33: 1 | F33: 0 | G33: 0 | H33: 1 | I33: 1 | J33: 1 | K33: 0 | L33: 0
B34: 植物醫學系 | C34: 1 | D34: 1 | E34: 2 | F34: 0 | G34: 0 | H34: 0 | I34: 0 | J34: 2 | K34: 2 | L34: 2
B35: 生物農業科技學系 | C35: 0 | D35: 0 | E35: 5 | F35: 1 | G35: 1 | H35: 0 | I35: 0 | J35: 5 | K35: 0 | L35: 0
B36: 景觀學系 | C36: 0 | D36: 0 | E36: 1 | F36: 0 | G36: 0 | H36: 0 | I36: 0 | J36: 1 | K36: 0 | L36: 0
B37: 森林暨自然資源學系 | C37: 0 | D37: 0 | E37: 5 | F37: 0 | G37: 0 | H37: 0 | I37: 0 | J37: 5 | K37: 0 | L37: 0
B38: 動物科學系 | C38: 0 | D38: 0 | E38: 5 | F38: 2 | G38: 0 | H38: 2 | I38: 0 | J38: 5 | K38: 2 | L38: 1
B39: 農場管理進修學士學位學程 | C39: 0 | D39: 0 | E39: 0 | F39: 0 | G39: 0 | H39: 1 | I39: 1 | J39: 0 | K39: 0 | L39: 0
B40: 園藝進學班 | C40: 0 | D40: 0 | E40: 0 | F40: 0 | G40: 0 | H40: 0 | I40: 0 | J40: 0 | K40: 0 | L40: 0
B41: 木設進學班 | C41: 0 | D41: 0 | E41: 0 | F41: 0 | G41: 0 | H41: 0 | I41: 0 | J41: 0 | K41: 0 | L41: 0
B42: 動科進學班 | C42: 0 | D42: 0 | E42: 0 | F42: 0 | G42: 0 | H42: 0 | I42: 0 | J42: 0 | K42: 0 | L42: 0
A43: 理工學院 | B43: 應用數學系 | C43: 1 | D43: 1 | E43: 不限 | F43: 2 | G43: 2 | H43: 0 | I43: 0 | J43: 不限 | K43: 0 | L43: 0
B44: 電子物理學系 | C44: 2 | D44: 2 | E44: 5 | F44: 2 | G44: 1 | H44: 1 | I44: 0 | J44: 5 | K44: 0 | L44: 0
B45: 應用化學系 | C45: 0 | D45: 0 | E45: 5 | F45: 4 | G45: 3 | H45: 0 | I45: 0 | J45: 5 | K45: 0 | L45: 0
B46: 生物機電工程學系 | C46: 0 | D46: 0 | E46: 不限 | F46: 3 | G46: 2 | H46: 1 | I46: 1 | J46: 0 | K46: 0 | L46: 0
B47: 土木與水資源工程學系 | C47: 0 | D47: 0 | E47: 不限 | F47: 0 | G47: 0 | H47: 0 | I47: 0 | J47: 不限 | K47: 0 | L47: 0
B48: 資訊工程學系 | C48: 0 | D48: 0 | E48: 3 | F48: 4 | G48: 3 | H48: 0 | I48: 0 | J48: 3 | K48: 7 | L48: 3
B49: 電機工程學系 | C49: 3 | D49: 2 | E49: 5 | F49: 4 | G49: 4 | H49: 0 | I49: 0 | J49: 0 | K49: 0 | L49: 0
B50: 機械與能源工程學系 | C50: 3 | D50: 3 | E50: 5 | F50: 1 | G50: 1 | H50: 0 | I50: 0 | J50: 5 | K50: 2 | L50: 0
B51: 生機進學班 | C51: 0 | D51: 0 | E51: 不限 | F51: 0 | G51: 1 | H51: 0 | I51: 0 | J51: 0 | K51: 0 | L51: 0
B52: 土木進學班 | C52: 0 | D52: 0 | E52: 0 | F52: 0 | G52: 0 | H52: 0 | I52: 0 | J52: 0 | K52: 0 | L52: 0
B53: 資工進學班 | C53: 0 | D53: 0 | E53: 0 | F53: 0 | G53: 0 | H53: 0 | I53: 0 | J53: 0 | K53: 0 | L53: 0
A54: 生命科學院 | B54: 食品科學系 | C54: 0 | D54: 0 | E54: 0 | F54: 0 | G54: 0 | H54: 2 | I54: 2 | J54: 0 | K54: 0 | L54: 0
B55: 生物資源學系 | C55: 2 | D55: 2 | E55: 不限 | F55: 1 | G55: 1 | H55: 1 | I55: 0 | J55: 10 | K55: 1 | L55: 1
B56: 水生生物科學系 | C56: 0 | D56: 0 | E56: 不限 | F56: 0 | G56: 0 | H56: 0 | I56: 0 | J56: 不限 | K56: 0 | L56: 0
B57: 生化科技學系 | C57: 5 | D57: 5 | E57: 16 | F57: 0 | G57: 0 | H57: 2 | I57: 2 | J57: 5 | K57: 1 | L57: 0
B58: 微生物免疫與生物藥學系 | C58: 0 | D58: 0 | E58: 不限 | F58: 2 | G58: 1 | H58: 0 | I58: 0 | J58: 不限 | K58: 3 | L58: 3
B59: 食品進學班 | C59: 0 | D59: 0 | E59: 0 | F59: 0 | G59: 0 | H59: 0 | I59: 0 | J59: 0 | K59: 0 | L59: 0
A60: 獸醫學院 | B60: 獸醫學系 | C60: 2 | D60: 0 | E60: 0 | F60: 0 | G60: 0 | H60: 1 | I60: 1 | J60: 0 | K60: 0 | L60: 0
B61: 總計 | C61: =SUM(C6:C60) -> 58 | D61: =SUM(D6:D60) -> 45 | E61: =SUM(E6:E60) -> 157 | F61: =SUM(F6:F60) -> 58 | G61: =SUM(G6:G60) -> 45 | H61: =SUM(H6:H60) -> 26 | I61: =SUM(I6:I60) -> 16 | J61: =SUM(J6:J60) -> 112 | ... L61: =SUM(L6:L60) -> 16

Sheet 113-1
A1: 國立嘉義大學113學年度第1學期申請及核准輔系、雙主修人數統計表
A2: 學院 | B2: 學系 | C2: 輔系 | H2: 雙主修
C3: 本系生 | D3: 本系學 | E3: 招收 名額 | F3: 申請此 | G3: 核准修 | H3: 本系學 | I3: 本系學 | J3: 招收 名額 | K3: 申請此 | L3: 核准修
C4: 有申請 | D4: 生核准 | F4: 系為輔 | G4: 讀此系 | H4: 生有申 | I4: 生核准 | K4: 系為雙 | L4: 讀此系
C5: 輔系 | D5: 修讀輔 | F5: 系 | G5: 為輔系 | H5: 請雙修 | I5: 修讀雙 | K5: 修 | L5: 為雙修
D6: 系 | I6: 修
A7: 師範學院 | B7: 教育學系 | C7: 6 | D7: =IFERROR(VLOOKUP(B7,[1]核准修讀此系為輔系!A$4:B$30,2,0),"0") -> 0 | E7: 2 | F7: =IFERROR(VLOOKUP(B7,[2]申請此系為輔系!A$4:B$32,2,0)," 0") -> 0 | G7: =IFERROR(VLOOKUP(B7,[1]本系學生核准修讀輔系!A$4:B$30,2,0),"0") -> 5 | H7: =IFERROR(VLOOKUP(B7,[2]本系學生有申請雙修!A$4:B$23,2,0),"0") -> 2 | I7: =IFERROR(VLOOKUP(B7,[1]本系學生核准修讀雙修!A$4:B$21,2,0),"0") -> 2 | J7: 2 | K7: =IFERROR(VLOOKUP(B7,[2]申請此系為雙修!A$4:B$25,2,0),"0") -> 0 | L7: =IFERROR(VLOOKUP(B7,[1]核准修讀此系為雙修!A$4:B$19,2,0),"0") -> 0
B8: 特殊教育學系 | C8: =IFERROR(VLOOKUP(B8,[2]本系生有申請輔系!A$4:B$32,2,0),"0") -> 0 | D8: =IFERROR(VLOOKUP(B8,[1]核准修讀此系為輔系!A$4:B$30,2,0),"0") -> 0 | E8: 2 | F8: =IFERROR(VLOOKUP(B8,[2]申請此系為輔系!A$4:B$32,2,0)," 0") -> 0 | G8: =IFERROR(VLOOKUP(B8,[1]本系學生核准修讀輔系!A$4:B$30,2,0),"0") -> 0 | H8: =IFERROR(VLOOKUP(B8,[2]本系學生有申請雙修!A$4:B$23,2,0),"0") -> 2 | I8: =IFERROR(VLOOKUP(B8,[1]本系學生核准修讀雙修!A$4:B$21,2,0),"0") -> 2 | J8: 2 | K8: =IFERROR(VLOOKUP(B8,[2]申請此系為雙修!A$4:B$25,2,0),"0") -> 1 | L8: =IFERROR(VLOOKUP(B8,[1]核准修讀此系為雙修!A$4:B$19,2,0),"0") -> 1
B9: 幼兒教育學系 | C9: =IFERROR(VLOOKUP(B9,[2]本系生有申請輔系!A$4:B$32,2,0),"0") -> 1 | D9: =IFERROR(VLOOKUP(B9,[1]核准修讀此系為輔系!A$4:B$30,2,0),"0") -> 0 | E9: 0 | F9: 0 | G9: =IFERROR(VLOOKUP(B9,[1]本系學生核准修讀輔系!A$4:B$30,2,0),"0") -> 1 | H9: =IFERROR(VLOOKUP(B9,[2]本系學生有申請雙修!A$4:B$23,2,0),"0") -> 0 | I9: =IFERROR(VLOOKUP(B9,[1]本系學生核准修讀雙修!A$4:B$21,2,0),"0") -> 0 | J9: 0 | K9: =IFERROR(VLOOKUP(B9,[2]申請此系為雙修!A$4:B$25,2,0),"0") -> 0 | L9: =IFERROR(VLOOKUP(B9,[1]核准修讀此系為雙修!A$4:B$19,2,0),"0") -> 0
B10: 體育與健康休閒學系 | C10: =IFERROR(VLOOKUP(B10,[2]本系生有申請輔系!A$4:B$32,2,0),"0") -> 0 | D10: =IFERROR(VLOOKUP(B10,[1]核准修讀此系為輔系!A$4:B$30,2,0),"0") -> 0 | E10: 5 | F10: 0 | G10: =IFERROR(VLOOKUP(B10,[1]本系學生核准修讀輔系!A$4:B$30,2,0),"0") -> 0 | H10: =IFERROR(VLOOKUP(B10,[2]本系學生有申請雙修!A$4:B$23,2,0),"0") -> 2 | I10: =IFERROR(VLOOKUP(B10,[1]本系學生核准修讀雙修!A$4:B$21,2,0),"0") -> 1 | J10: 5 | K10: =IFERROR(VLOOKUP(B10,[2]申請此系為雙修!A$4:B$25,2,0),"0") -> 0 | L10: =IFERROR(VLOOKUP(B10,[1]核准修讀此系為雙修!A$4:B$19,2,0),"0") -> 0
B11: 數位學習設計與管理學系 | C11: =IFERROR(VLOOKUP(B11,[2]本系生有申請輔系!A$4:B$32,2,0),"0") -> 9 | D11: =IFERROR(VLOOKUP(B11,[1]核准修讀此系為輔系!A$4:B$30,2,0),"0") -> 2 | E11: 2 | F11: =IFERROR(VLOOKUP(B11,[2]申請此系為輔系!A$4:B$32,2,0)," 0") -> 3 | G11: =IFERROR(VLOOKUP(B11,[1]本系學生核准修讀輔系!A$4:B$30,2,0),"0") -> 5 | H11: =IFERROR(VLOOKUP(B11,[2]本系學生有申請雙修!A$4:B$23,2,0),"0") -> 5 | I11: =IFERROR(VLOOKUP(B11,[1]本系學生核准修讀雙修!A$4:B$21,2,0),"0") -> 2 | J11: 2 | K11: =IFERROR(VLOOKUP(B11,[2]申請此系為雙修!A$4:B$25,2,0),"0") -> 3 | L11: =IFERROR(VLOOKUP(B11,[1]核准修讀此系為雙修!A$4:B$19,2,0),"0") -> 2
B12: 輔導與諮商學系 | C12: =IFERROR(VLOOKUP(B12,[2]本系生有申請輔系!A$4:B$32,2,0),"0") -> 0 | D12: =IFERROR(VLOOKUP(B12,[1]核准修讀此系為輔系!A$4:B$30,2,0),"0") -> 2 | E12: 2 | F12: =IFERROR(VLOOKUP(B12,[2]申請此系為輔系!A$4:B$32,2,0)," 0") -> 3 | G12: =IFERROR(VLOOKUP(B12,[1]本系學生核准修讀輔系!A$4:B$30,2,0),"0") -> 0 | H12: =IFERROR(VLOOKUP(B12,[2]本系學生有申請雙修!A$4:B$23,2,0),"0") -> 2 | I12: =IFERROR(VLOOKUP(B12,[1]本系學生核准修讀雙修!A$4:B$21,2,0),"0") -> 2 | J12: 2 | K12: =IFERROR(VLOOKUP(B12,[2]申請此系為雙修!A$4:B$25,2,0),"0") -> 1 | L12: =IFERROR(VLOOKUP(B12,[1]核准修讀此系為雙修!A$4:B$19,2,0),"0") -> 1
B13: 體育與健康休閒學系進修學士班 | C13: =IFERROR(VLOOKUP(B13,[2]本系生有申請輔系!A$4:B$32,2,0),"0") -> 0 | D13: =IFERROR(VLOOKUP(B13,[1]核准修讀此系為輔系!A$4:B$30,2,0),"0") -> 0 | E13: 5 | F13: =IFERROR(VLOOKUP(B13,[2]申請此系為輔系!A$4:B$32,2,0)," 0") -> 0 | G13: =IFERROR(VLOOKUP(B13,[1]本系學生核准修讀輔系!A$4:B$30,2,0),"0") -> 0 | H13: =IFERROR(VLOOKUP(B13,[2]本系學生有申請雙修!A$4:B$23,2,0),"0") -> 0 | I13: =IFERROR(VLOOKUP(B13,[1]本系學生核准修讀雙修!A$4:B$21,2,0),"0") -> 0 | J13: 5 | K13: =IFERROR(VLOOKUP(B13,[2]申請此系為雙修!A$4:B$25,2,0),"0") -> 0 | L13: =IFERROR(VLOOKUP(B13,[1]核准修讀此系為雙修!A$4:B$19,2,0),"0") -> 0
B14: 教育學系教育研究碩士班 | C14: =IFERROR(VLOOKUP(B14,[2]本系生有申請輔系!A$4:B$32,2,0),"0") -> 1 | D14: =IFERROR(VLOOKUP(B14,[1]核准修讀此系為輔系!A$4:B$30,2,0),"0") -> 0 | E14: 2 | F14: =IFERROR(VLOOKUP(B14,[2]申請此系為輔系!A$4:B$32,2,0)," 0") -> 0 | G14: =IFERROR(VLOOKUP(B14,[1]本系學生核准修讀輔系!A$4:B$30,2,0),"0") -> 1 | H14: =IFERROR(VLOOKUP(B14,[2]本系學生有申請雙修!A$4:B$23,2,0),"0") -> 0 | I14: =IFERROR(VLOOKUP(B14,[1]本系學生核准修讀雙修!A$4:B$21,2,0),"0") -> 0 | J14: 2 | K14: =IFERROR(VLOOKUP(B14,[2]申請此系為雙修!A$4:B$25,2,0),"0") -> 0 | L14: =IFERROR(VLOOKUP(B14,[1]核准修讀此系為雙修!A$4:B$19,2,0),"0") -> 0
A15: 人文藝術學院 | B15: 中國文學系 | C15: =IFERROR(VLOOKUP(B15,[2]本系生有申請輔系!A$4:B$32,2,0),"0") -> 6 | D15: =IFERROR(VLOOKUP(B15,[1]核准修讀此系為輔系!A$4:B$30,2,0),"0") -> 3 | E15: 5 | F15: =IFERROR(VLOOKUP(B15,[2]申請此系為輔系!A$4:B$32,2,0)," 0") -> 5 | G15: =IFERROR(VLOOKUP(B15,[1]本系學生核准修讀輔系!A$4:B$30,2,0),"0") -> 3 | H15: =IFERROR(VLOOKUP(B15,[2]本系學生有申請雙修!A$4:B$23,2,0),"0") -> 0 | I15: =IFERROR(VLOOKUP(B15,[1]本系學生核准修讀雙修!A$4:B$21,2,0),"0") -> 0 | J15: 5 | K15: =IFERROR(VLOOKUP(B15,[2]申請此系為雙修!A$4:B$25,2,0),"0") -> 2 | L15: =IFERROR(VLOOKUP(B15,[1]核准修讀此系為雙修!A$4:B$19,2,0),"0") -> 2
B16: 外國語言學系 | C16: =IFERROR(VLOOKUP(B16,[2]本系生有申請輔系!A$4:B$32,2,0),"0") -> 12 | D16: =IFERROR(VLOOKUP(B16,[1]核准修讀此系為輔系!A$4:B$30,2,0),"0") -> 3 | E16: 6 | F16: =IFERROR(VLOOKUP(B16,[2]申請此系為輔系!A$4:B$32,2,0)," 0") -> 4 | G16: =IFERROR(VLOOKUP(B16,[1]本系學生核准修讀輔系!A$4:B$30,2,0),"0") -> 6 | H16: =IFERROR(VLOOKUP(B16,[2]本系學生有申請雙修!A$4:B$23,2,0),"0") -> 1 | I16: =IFERROR(VLOOKUP(B16,[1]本系學生核准修讀雙修!A$4:B$21,2,0),"0") -> 1 | J16: 6 | K16: =IFERROR(VLOOKUP(B16,[2]申請此系為雙修!A$4:B$25,2,0),"0") -> 0 | L16: =IFERROR(VLOOKUP(B16,[1]核准修讀此系為雙修!A$4:B$19,2,0),"0") -> 0
B17: 應用歷史學系 | C17: =IFERROR(VLOOKUP(B17,[2]本系生有申請輔系!A$4:B$32,2,0),"0") -> 22 | D17: =IFERROR(VLOOKUP(B17,[1]核准修讀此系為輔系!A$4:B$30,2,0),"0") -> 2 | E17: 不限 | F17: 2 | G17: =IFERROR(VLOOKUP(B17,[1]本系學生核准修讀輔系!A$4:B$30,2,0),"0") -> 15 | H17: =IFERROR(VLOOKUP(B17,[2]本系學生有申請雙修!A$4:B$23,2,0),"0") -> 3 | I17: =IFERROR(VLOOKUP(B17,[1]本系學生核准修讀雙修!A$4:B$21,2,0),"0") -> 1 | J17: 不限 | K17: =IFERROR(VLOOKUP(B17,[2]申請此系為雙修!A$4:B$25,2,0),"0") -> 0 | L17: =IFERROR(VLOOKUP(B17,[1]核准修讀此系為雙修!A$4:B$19,2,0),"0") -> 0
B18: 視覺藝術學系 | C18: =IFERROR(VLOOKUP(B18,[2]本系生有申請輔系!A$4:B$32,2,0),"0") -> 4 | D18: =IFERROR(VLOOKUP(B18,[1]核准修讀此系為輔系!A$4:B$30,2,0),"0") -> 2 | E18: 不限 | F18: =IFERROR(VLOOKUP(B18,[2]申請此系為輔系!A$4:B$32,2,0)," 0") -> 2 | G18: =IFERROR(VLOOKUP(B18,[1]本系學生核准修讀輔系!A$4:B$30,2,0),"0") -> 2 | H18: =IFERROR(VLOOKUP(B18,[2]本系學生有申請雙修!A$4:B$23,2,0),"0") -> 3 | I18: =IFERROR(VLOOKUP(B18,[1]本系學生核准修讀雙修!A$4:B$21,2,0),"0") -> 2 | J18: 不限 | K18: =IFERROR(VLOOKUP(B18,[2]申請此系為雙修!A$4:B$25,2,0),"0") -> 5 | L18: =IFERROR(VLOOKUP(B18,[1]核准修讀此系為雙修!A$4:B$19,2,0),"0") -> 4
B19: 音樂學系 | C19: =IFERROR(VLOOKUP(B19,[2]本系生有申請輔系!A$4:B$32,2,0),"0") -> 0 | D19: =IFERROR(VLOOKUP(B19,[1]核准修讀此系為輔系!A$4:B$30,2,0),"0") -> 1 | E19: 5 | F19: =IFERROR(VLOOKUP(B19,[2]申請此系為輔系!A$4:B$32,2,0)," 0") -> 2 | G19: =IFERROR(VLOOKUP(B19,[1]本系學生核准修讀輔系!A$4:B$30,2,0),"0") -> 0 | H19: =IFERROR(VLOOKUP(B19,[2]本系學生有申請雙修!A$4:B$23,2,0),"0") -> 0 | I19: =IFERROR(VLOOKUP(B19,[1]本系學生核准修讀雙修!A$4:B$21,2,0),"0") -> 0 | J19: 5 | K19: =IFERROR(VLOOKUP(B19,[2]申請此系為雙修!A$4:B$25,2,0),"0") -> 0 | L19: =IFERROR(VLOOKUP(B19,[1]核准修讀此系為雙修!A$4:B$19,2,0),"0") -> 0
B20: 中國文學系進修學士班 | C20: =IFERROR(VLOOKUP(B20,[2]本系生有申請輔系!A$4:B$32,2,0),"0") -> 0 | D20: =IFERROR(VLOOKUP(B20,[1]核准修讀此系為輔系!A$4:B$30,2,0),"0") -> 0 | E20: 5 | F20: 0 | G20: =IFERROR(VLOOKUP(B20,[1]本系學生核准修讀輔系!A$4:B$30,2,0),"0") -> 0 | H20: =IFERROR(VLOOKUP(B20,[2]本系學生有申請雙修!A$4:B$23,2,0),"0") -> 0 | I20: =IFERROR(VLOOKUP(B20,[1]本系學生核准修讀雙修!A$4:B$21,2,0),"0") -> 0 | J20: 5 | K20: =IFERROR(VLOOKUP(B20,[2]申請此系為雙修!A$4:B$25,2,0),"0") -> 0 | L20: =IFERROR(VLOOKUP(B20,[1]核准修讀此系為雙修!A$4:B$19,2,0),"0") -> 0
A21: 管理學院 | B21: 科技管理學系 | C21: =IFERROR(VLOOKUP(B21,[2]本系生有申請輔系!A$4:B$32,2,0),"0") -> 7 | D21: =IFERROR(VLOOKUP(B21,[1]核准修讀此系為輔系!A$4:B$30,2,0),"0") -> 7 | E21: 不限 | F21: =IFERROR(VLOOKUP(B21,[2]申請此系為輔系!A$4:B$32,2,0)," 0") -> 7 | G21: =IFERROR(VLOOKUP(B21,[1]本系學生核准修讀輔系!A$4:B$30,2,0),"0") -> 4 | H21: =IFERROR(VLOOKUP(B21,[2]本系學生有申請雙修!A$4:B$23,2,0),"0") -> 1 | I21: =IFERROR(VLOOKUP(B21,[1]本系學生核准修讀雙修!A$4:B$21,2,0),"0") -> 1 | J21: 不限 | K21: =IFERROR(VLOOKUP(B21,[2]申請此系為雙修!A$4:B$25,2,0),"0") -> 1 | L21: =IFERROR(VLOOKUP(B21,[1]核准修讀此系為雙修!A$4:B$19,2,0),"0") -> 1
B22: 應用經濟學系 | C22: =IFERROR(VLOOKUP(B22,[2]本系生有申請輔系!A$4:B$32,2,0),"0") -> 7 | D22: =IFERROR(VLOOKUP(B22,[1]核准修讀此系為輔系!A$4:B$30,2,0),"0") -> 11 | E22: 不限 | F22: =IFERROR(VLOOKUP(B22,[2]申請此系為輔系!A$4:B$32,2,0)," 0") -> 12 | G22: =IFERROR(VLOOKUP(B22,[1]本系學生核准修讀輔系!A$4:B$30,2,0),"0") -> 7 | H22: =IFERROR(VLOOKUP(B22,[2]本系學生有申請雙修!A$4:B$23,2,0),"0") -> 0 | I22: =IFERROR(VLOOKUP(B22,[1]本系學生核准修讀雙修!A$4:B$21,2,0),"0") -> 0 | J22: 不限 | K22: =IFERROR(VLOOKUP(B22,[2]申請此系為雙修!A$4:B$25,2,0),"0") -> 3 | L22: =IFERROR(VLOOKUP(B22,[1]核准修讀此系為雙修!A$4:B$19,2,0),"0") -> 2
B23: 企業管理學系 | C23: =IFERROR(VLOOKUP(B23,[2]本系生有申請輔系!A$4:B$32,2,0),"0") -> 10 | D23: =IFERROR(VLOOKUP(B23,[1]核准修讀此系為輔系!A$4:B$30,2,0),"0") -> 4 | E23: 不限 | F23: =IFERROR(VLOOKUP(B23,[2]申請此系為輔系!A$4:B$32,2,0)," 0") -> 4 | G23: =IFERROR(VLOOKUP(B23,[1]本系學生核准修讀輔系!A$4:B$30,2,0),"0") -> 5 | H23: =IFERROR(VLOOKUP(B23,[2]本系學生有申請雙修!A$4:B$23,2,0),"0") -> 1 | I23: =IFERROR(VLOOKUP(B23,[1]本系學生核准修讀雙修!A$4:B$21,2,0),"0") -> 1 | J23: 不限 | K23: =IFERROR(VLOOKUP(B23,[2]申請此系為雙修!A$4:B$25,2,0),"0") -> 1 | L23: =IFERROR(VLOOKUP(B23,[1]核准修讀此系為雙修!A$4:B$19,2,0),"0") -> 0
B24: 資訊管理學系 | C24: =IFERROR(VLOOKUP(B24,[2]本系生有申請輔系!A$4:B$32,2,0),"0") -> 1 | D24: =IFERROR(VLOOKUP(B24,[1]核准修讀此系為輔系!A$4:B$30,2,0),"0") -> 13 | E24: 15 | F24: =IFERROR(VLOOKUP(B24,[2]申請此系為輔系!A$4:B$32,2,0)," 0") -> 15 | G24: =IFERROR(VLOOKUP(B24,[1]本系學生核准修讀輔系!A$4:B$30,2,0),"0") -> 0 | H24: =IFERROR(VLOOKUP(B24,[2]本系學生有申請雙修!A$4:B$23,2,0),"0") -> 0 | I24: =IFERROR(VLOOKUP(B24,[1]本系學生核准修讀雙修!A$4:B$21,2,0),"0") -> 0 | J24: 0 | K24: =IFERROR(VLOOKUP(B24,[2]申請此系為雙修!A$4:B$25,2,0),"0") -> 0 | L24: =IFERROR(VLOOKUP(B24,[1]核准修讀此系為雙修!A$4:B$19,2,0),"0") -> 0
B25: 資訊管理學系碩士班 | C25: =IFERROR(VLOOKUP(B25,[2]本系生有申請輔系!A$4:B$32,2,0),"0") -> 0 | D25: 1 | E25: 10 | F25: =IFERROR(VLOOKUP(B25,[2]申請此系為輔系!A$4:B$32,2,0)," 0") -> 1 | G25: =IFERROR(VLOOKUP(B25,[1]本系學生核准修讀輔系!A$4:B$30,2,0),"0") -> 0 | H25: =IFERROR(VLOOKUP(B25,[2]本系學生有申請雙修!A$4:B$23,2,0),"0") -> 0 | I25: =IFERROR(VLOOKUP(B25,[1]本系學生核准修讀雙修!A$4:B$21,2,0),"0") -> 0 | J25: 0 | K25: =IFERROR(VLOOKUP(B25,[2]申請此系為雙修!A$4:B$25,2,0),"0") -> 0 | L25: =IFERROR(VLOOKUP(B25,[1]核准修讀此系為雙修!A$4:B$19,2,0),"0") -> 0
B26: 財務金融學系 | C26: =IFERROR(VLOOKUP(B26,[2]本系生有申請輔系!A$4:B$32,2,0),"0") -> 2 | D26: =IFERROR(VLOOKUP(B26,[1]核准修讀此系為輔系!A$4:B$30,2,0),"0") -> 14 | E26: 15 | F26: =IFERROR(VLOOKUP(B26,[2]申請此系為輔系!A$4:B$32,2,0)," 0") -> 31 | G26: =IFERROR(VLOOKUP(B26,[1]本系學生核准修讀輔系!A$4:B$30,2,0),"0") -> 2 | H26: =IFERROR(VLOOKUP(B26,[2]本系學生有申請雙修!A$4:B$23,2,0),"0") -> 0 | I26: =IFERROR(VLOOKUP(B26,[1]本系學生核准修讀雙修!A$4:B$21,2,0),"0") -> 0 | J26: 5 | K26: =IFERROR(VLOOKUP(B26,[2]申請此系為雙修!A$4:B$25,2,0),"0") -> 2 | L26: =IFERROR(VLOOKUP(B26,[1]核准修讀此系為雙修!A$4:B$19,2,0),"0") -> 2
B27: 行銷與觀光管理學系 | C27: =IFERROR(VLOOKUP(B27,[2]本系生有申請輔系!A$4:B$32,2,0),"0") -> 13 | D27: =IFERROR(VLOOKUP(B27,[1]核准修讀此系為輔系!A$4:B$30,2,0),"0") -> 5 | E27: 5 | F27: =IFERROR(VLOOKUP(B27,[2]申請此系為輔系!A$4:B$32,2,0)," 0") -> 11 | G27: =IFERROR(VLOOKUP(B27,[1]本系學生核准修讀輔系!A$4:B$30,2,0),"0") -> 9 | H27: =IFERROR(VLOOKUP(B27,[2]本系學生有申請雙修!A$4:B$23,2,0),"0") -> 1 | I27: =IFERROR(VLOOKUP(B27,[1]本系學生核准修讀雙修!A$4:B$21,2,0),"0") -> 1 | J27: 5 | K27: =IFERROR(VLOOKUP(B27,[2]申請此系為雙修!A$4:B$25,2,0),"0") -> 1 | L27: =IFERROR(VLOOKUP(B27,[1]核准修讀此系為雙修!A$4:B$19,2,0),"0") -> 0
B28: 科技管理學系進修學士班 | C28: =IFERROR(VLOOKUP(B28,[2]本系生有申請輔系!A$4:B$32,2,0),"0") -> 2 | D28: =IFERROR(VLOOKUP(B28,[1]核准修讀此系為輔系!A$4:B$30,2,0),"0") -> 0 | E28: 不限 | F28: =IFERROR(VLOOKUP(B28,[2]申請此系為輔系!A$4:B$32,2,0)," 0") -> 0 | G28: =IFERROR(VLOOKUP(B28,[1]本系學生核准修讀輔系!A$4:B$30,2,0),"0") -> 2 | H28: =IFERROR(VLOOKUP(B28,[2]本系學生有申請雙修!A$4:B$23,2,0),"0") -> 0 | I28: =IFERROR(VLOOKUP(B28,[1]本系學生核准修讀雙修!A$4:B$21,2,0),"0") -> 0 | J28: 0 | K28: =IFERROR(VLOOKUP(B28,[2]申請此系為雙修!A$4:B$25,2,0),"0") -> 0 | L28: =IFERROR(VLOOKUP(B28,[1]核准修讀此系為雙修!A$4:B$19,2,0),"0") -> 0
B29: 企業管理學系進修學士班 | C29: =IFERROR(VLOOKUP(B29,[2]本系生有申請輔系!A$4:B$32,2,0),"0") -> 0 | D29: =IFERROR(VLOOKUP(B29,[1]核准修讀此系為輔系!A$4:B$30,2,0),"0") -> 0 | E29: 不限 | F29: =IFERROR(VLOOKUP(B29,[2]申請此系為輔系!A$4:B$32,2,0)," 0") -> 0 | G29: =IFERROR(VLOOKUP(B29,[1]本系學生核准修讀輔系!A$4:B$30,2,0),"0") -> 0 | H29: =IFERROR(VLOOKUP(B29,[2]本系學生有申請雙修!A$4:B$23,2,0),"0") -> 0 | I29: =IFERROR(VLOOKUP(B29,[1]本系學生核准修讀雙修!A$4:B$21,2,0),"0") -> 0 | J29: 0 | K29: =IFERROR(VLOOKUP(B29,[2]申請此系為雙修!A$4:B$25,2,0),"0") -> 0 | L29: =IFERROR(VLOOKUP(B29,[1]核准修讀此系為雙修!A$4:B$19,2,0),"0") -> 0
B30: 財務金融學系碩士班 | C30: =IFERROR(VLOOKUP(B30,[2]本系生有申請輔系!A$4:B$32,2,0),"0") -> 1 | D30: =IFERROR(VLOOKUP(B30,[1]核准修讀此系為輔系!A$4:B$30,2,0),"0") -> 0 | E30: 0 | F30: =IFERROR(VLOOKUP(B30,[2]申請此系為輔系!A$4:B$32,2,0)," 0") -> 0 | G30: 1 | H30: =IFERROR(VLOOKUP(B30,[2]本系學生有申請雙修!A$4:B$23,2,0),"0") -> 0 | I30: =IFERROR(VLOOKUP(B30,[1]本系學生核准修讀雙修!A$4:B$21,2,0),"0") -> 0 | J30: 0 | K30: =IFERROR(VLOOKUP(B30,[2]申請此系為雙修!A$4:B$25,2,0),"0") -> 0 | L30: =IFERROR(VLOOKUP(B30,[1]核准修讀此系為雙修!A$4:B$19,2,0),"0") -> 0
A31: 農學院 | B31: 農藝學系 | C31: =IFERROR(VLOOKUP(B31,[2]本系生有申請輔系!A$4:B$32,2,0),"0") -> 3 | D31: =IFERROR(VLOOKUP(B31,[1]核准修讀此系為輔系!A$4:B$30,2,0),"0") -> 0 | E31: 3 | F31: =IFERROR(VLOOKUP(B31,[2]申請此系為輔系!A$4:B$32,2,0)," 0") -> 0 | G31: =IFERROR(VLOOKUP(B31,[1]本系學生核准修讀輔系!A$4:B$30,2,0),"0") -> 2 | H31: =IFERROR(VLOOKUP(B31,[2]本系學生有申請雙修!A$4:B$23,2,0),"0") -> 0 | I31: =IFERROR(VLOOKUP(B31,[1]本系學生核准修讀雙修!A$4:B$21,2,0),"0") -> 0 | J31: 3 | K31: =IFERROR(VLOOKUP(B31,[2]申請此系為雙修!A$4:B$25,2,0),"0") -> 1 | L31: =IFERROR(VLOOKUP(B31,[1]核准修讀此系為雙修!A$4:B$19,2,0),"0") -> 0
B32: 園藝學系 | C32: =IFERROR(VLOOKUP(B32,[2]本系生有申請輔系!A$4:B$32,2,0),"0") -> 0 | D32: =IFERROR(VLOOKUP(B32,[1]核准修讀此系為輔系!A$4:B$30,2,0),"0") -> 1 | E32: 10 | F32: =IFERROR(VLOOKUP(B32,[2]申請此系為輔系!A$4:B$32,2,0)," 0") -> 2 | G32: =IFERROR(VLOOKUP(B32,[1]本系學生核准修讀輔系!A$4:B$30,2,0),"0") -> 0 | H32: =IFERROR(VLOOKUP(B32,[2]本系學生有申請雙修!A$4:B$23,2,0),"0") -> 0 | I32: =IFERROR(VLOOKUP(B32,[1]本系學生核准修讀雙修!A$4:B$21,2,0),"0") -> 0 | J32: 10 | K32: =IFERROR(VLOOKUP(B32,[2]申請此系為雙修!A$4:B$25,2,0),"0") -> 2 | L32: =IFERROR(VLOOKUP(B32,[1]核准修讀此系為雙修!A$4:B$19,2,0),"0") -> 0
B33: 木質材料與設計學系 | C33: =IFERROR(VLOOKUP(B33,[2]本系生有申請輔系!A$4:B$32,2,0),"0") -> 0 | D33: =IFERROR(VLOOKUP(B33,[1]核准修讀此系為輔系!A$4:B$30,2,0),"0") -> 1 | E33: 10 | F33: =IFERROR(VLOOKUP(B33,[2]申請此系為輔系!A$4:B$32,2,0)," 0") -> 1 | G33: =IFERROR(VLOOKUP(B33,[1]本系學生核准修讀輔系!A$4:B$30,2,0),"0") -> 0 | H33: =IFERROR(VLOOKUP(B33,[2]本系學生有申請雙修!A$4:B$23,2,0),"0") -> 3 | I33: =IFERROR(VLOOKUP(B33,[1]本系學生核准修讀雙修!A$4:B$21,2,0),"0") -> 1 | J33: 1 | K33: =IFERROR(VLOOKUP(B33,[2]申請此系為雙修!A$4:B$25,2,0),"0") -> 1 | L33: =IFERROR(VLOOKUP(B33,[1]核准修讀此系為雙修!A$4:B$19,2,0),"0") -> 1
B34: 植物醫學系 | C34: =IFERROR(VLOOKUP(B34,[2]本系生有申請輔系!A$4:B$32,2,0),"0") -> 2 | D34: =IFERROR(VLOOKUP(B34,[1]核准修讀此系為輔系!A$4:B$30,2,0),"0") -> 0 | E34: 2 | F34: =IFERROR(VLOOKUP(B34,[2]申請此系為輔系!A$4:B$32,2,0)," 0") -> 0 | G34: =IFERROR(VLOOKUP(B34,[1]本系學生核准修讀輔系!A$4:B$30,2,0),"0") -> 2 | H34: =IFERROR(VLOOKUP(B34,[2]本系學生有申請雙修!A$4:B$23,2,0),"0") -> 5 | I34: =IFERROR(VLOOKUP(B34,[1]本系學生核准修讀雙修!A$4:B$21,2,0),"0") -> 3 | J34: 2 | K34: =IFERROR(VLOOKUP(B34,[2]申請此系為雙修!A$4:B$25,2,0),"0") -> 0 | L34: =IFERROR(VLOOKUP(B34,[1]核准修讀此系為雙修!A$4:B$19,2,0),"0") -> 0
B35: 農業生物科技學系 | C35: =IFERROR(VLOOKUP(B35,[2]本系生有申請輔系!A$4:B$32,2,0),"0") -> 5 | D35: =IFERROR(VLOOKUP(B35,[1]核准修讀此系為輔系!A$4:B$30,2,0),"0") -> 0 | E35: 5 | F35: =IFERROR(VLOOKUP(B35,[2]申請此系為輔系!A$4:B$32,2,0)," 0") -> 0 | G35: =IFERROR(VLOOKUP(B35,[1]本系學生核准修讀輔系!A$4:B$30,2,0),"0") -> 4 | H35: =IFERROR(VLOOKUP(B35,[2]本系學生有申請雙修!A$4:B$23,2,0),"0") -> 0 | I35: =IFERROR(VLOOKUP(B35,[1]本系學生核准修讀雙修!A$4:B$21,2,0),"0") -> 0 | J35: 5 | K35: =IFERROR(VLOOKUP(B35,[2]申請此系為雙修!A$4:B$25,2,0),"0") -> 0 | L35: =IFERROR(VLOOKUP(B35,[1]核准修讀此系為雙修!A$4:B$19,2,0),"0") -> 0
B36: 景觀學系 | C36: =IFERROR(VLOOKUP(B36,[2]本系生有申請輔系!A$4:B$32,2,0),"0") -> 0 | D36: =IFERROR(VLOOKUP(B36,[1]核准修讀此系為輔系!A$4:B$30,2,0),"0") -> 0 | E36: 2 | F36: =IFERROR(VLOOKUP(B36,[2]申請此系為輔系!A$4:B$32,2,0)," 0") -> 0 | G36: =IFERROR(VLOOKUP(B36,[1]本系學生核准修讀輔系!A$4:B$30,2,0),"0") -> 0 | H36: =IFERROR(VLOOKUP(B36,[2]本系學生有申請雙修!A$4:B$23,2,0),"0") -> 0 | I36: =IFERROR(VLOOKUP(B36,[1]本系學生核准修讀雙修!A$4:B$21,2,0),"0") -> 0 | J36: 1 | K36: =IFERROR(VLOOKUP(B36,[2]申請此系為雙修!A$4:B$25,2,0),"0") -> 0 | L36: =IFERROR(VLOOKUP(B36,[1]核准修讀此系為雙修!A$4:B$19,2,0),"0") -> 0
B37: 森林暨自然資源學系 | C37: =IFERROR(VLOOKUP(B37,[2]本系生有申請輔系!A$4:B$32,2,0),"0") -> 0 | D37: =IFERROR(VLOOKUP(B37,[1]核准修讀此系為輔系!A$4:B$30,2,0),"0") -> 1 | E37: 5 | F37: =IFERROR(VLOOKUP(B37,[2]申請此系為輔系!A$4:B$32,2,0)," 0") -> 1 | G37: =IFERROR(VLOOKUP(B37,[1]本系學生核准修讀輔系!A$4:B$30,2,0),"0") -> 0 | H37: =IFERROR(VLOOKUP(B37,[2]本系學生有申請雙修!A$4:B$23,2,0),"0") -> 0 | I37: =IFERROR(VLOOKUP(B37,[1]本系學生核准修讀雙修!A$4:B$21,2,0),"0") -> 0 | J37: 5 | K37: =IFERROR(VLOOKUP(B37,[2]申請此系為雙修!A$4:B$25,2,0),"0") -> 1 | L37: =IFERROR(VLOOKUP(B37,[1]核准修讀此系為雙修!A$4:B$19,2,0),"0") -> 0
B38: 動物科學系 | C38: =IFERROR(VLOOKUP(B38,[2]本系生有申請輔系!A$4:B$32,2,0),"0") -> 2 | D38: =IFERROR(VLOOKUP(B38,[1]核准修讀此系為輔系!A$4:B$30,2,0),"0") -> 0 | E38: 5 | F38: =IFERROR(VLOOKUP(B38,[2]申請此系為輔系!A$4:B$32,2,0)," 0") -> 0 | G38: =IFERROR(VLOOKUP(B38,[1]本系學生核准修讀輔系!A$4:B$30,2,0),"0") -> 2 | H38: =IFERROR(VLOOKUP(B38,[2]本系學生有申請雙修!A$4:B$23,2,0),"0") -> 1 | I38: =IFERROR(VLOOKUP(B38,[1]本系學生核准修讀雙修!A$4:B$21,2,0),"0") -> 1 | J38: 5 | K38: =IFERROR(VLOOKUP(B38,[2]申請此系為雙修!A$4:B$25,2,0),"0") -> 1 | L38: =IFERROR(VLOOKUP(B38,[1]核准修讀此系為雙修!A$4:B$19,2,0),"0") -> 1
B39: 農場管理進修學士學位學程 | C39: =IFERROR(VLOOKUP(B39,[2]本系生有申請輔系!A$4:B$32,2,0),"0") -> 0 | D39: =IFERROR(VLOOKUP(B39,[1]核准修讀此系為輔系!A$4:B$30,2,0),"0") -> 0 | E39: 0 | F39: =IFERROR(VLOOKUP(B39,[2]申請此系為輔系!A$4:B$32,2,0)," 0") -> 0 | G39: =IFERROR(VLOOKUP(B39,[1]本系學生核准修讀輔系!A$4:B$30,2,0),"0") -> 0 | H39: =IFERROR(VLOOKUP(B39,[2]本系學生有申請雙修!A$4:B$23,2,0),"0") -> 0 | I39: =IFERROR(VLOOKUP(B39,[1]本系學生核准修讀雙修!A$4:B$21,2,0),"0") -> 0 | J39: 0 | K39: =IFERROR(VLOOKUP(B39,[2]申請此系為雙修!A$4:B$25,2,0),"0") -> 0 | L39: =IFERROR(VLOOKUP(B39,[1]核准修讀此系為雙修!A$4:B$19,2,0),"0") -> 0
B40: 園藝學系進修學士班 | C40: =IFERROR(VLOOKUP(B40,[2]本系生有申請輔系!A$4:B$32,2,0),"0") -> 0 | D40: =IFERROR(VLOOKUP(B40,[1]核准修讀此系為輔系!A$4:B$30,2,0),"0") -> 0 | E40: 0 | F40: =IFERROR(VLOOKUP(B40,[2]申請此系為輔系!A$4:B$32,2,0)," 0") -> 0 | G40: =IFERROR(VLOOKUP(B40,[1]本系學生核准修讀輔系!A$4:B$30,2,0),"0") -> 0 | H40: =IFERROR(VLOOKUP(B40,[2]本系學生有申請雙修!A$4:B$23,2,0),"0") -> 0 | I40: =IFERROR(VLOOKUP(B40,[1]本系學生核准修讀雙修!A$4:B$21,2,0),"0") -> 0 | J40: 0 | K40: =IFERROR(VLOOKUP(B40,[2]申請此系為雙修!A$4:B$25,2,0),"0") -> 0 | L40: =IFERROR(VLOOKUP(B40,[1]核准修讀此系為雙修!A$4:B$19,2,0),"0") -> 0
B41: 木質材料與設計學系進修學士班 | C41: =IFERROR(VLOOKUP(B41,[2]本系生有申請輔系!A$4:B$32,2,0),"0") -> 0 | D41: =IFERROR(VLOOKUP(B41,[1]核准修讀此系為輔系!A$4:B$30,2,0),"0") -> 0 | E41: 0 | F41: =IFERROR(VLOOKUP(B41,[2]申請此系為輔系!A$4:B$32,2,0)," 0") -> 0 | G41: =IFERROR(VLOOKUP(B41,[1]本系學生核准修讀輔系!A$4:B$30,2,0),"0") -> 0 | H41: =IFERROR(VLOOKUP(B41,[2]本系學生有申請雙修!A$4:B$23,2,0),"0") -> 0 | I41: =IFERROR(VLOOKUP(B41,[1]本系學生核准修讀雙修!A$4:B$21,2,0),"0") -> 0 | J41: 0 | K41: =IFERROR(VLOOKUP(B41,[2]申請此系為雙修!A$4:B$25,2,0),"0") -> 0 | L41: =IFERROR(VLOOKUP(B41,[1]核准修讀此系為雙修!A$4:B$19,2,0),"0") -> 0
B42: 動物科學系進修學士班 | C42: =IFERROR(VLOOKUP(B42,[2]本系生有申請輔系!A$4:B$32,2,0),"0") -> 0 | D42: =IFERROR(VLOOKUP(B42,[1]核准修讀此系為輔系!A$4:B$30,2,0),"0") -> 0 | E42: 0 | F42: =IFERROR(VLOOKUP(B42,[2]申請此系為輔系!A$4:B$32,2,0)," 0") -> 0 | G42: =IFERROR(VLOOKUP(B42,[1]本系學生核准修讀輔系!A$4:B$30,2,0),"0") -> 0 | H42: =IFERROR(VLOOKUP(B42,[2]本系學生有申請雙修!A$4:B$23,2,0),"0") -> 0 | I42: =IFERROR(VLOOKUP(B42,[1]本系學生核准修讀雙修!A$4:B$21,2,0),"0") -> 0 | J42: 0 | K42: =IFERROR(VLOOKUP(B42,[2]申請此系為雙修!A$4:B$25,2,0),"0") -> 0 | L42: =IFERROR(VLOOKUP(B42,[1]核准修讀此系為雙修!A$4:B$19,2,0),"0") -> 0
A43: 理工學院 | B43: 應用數學系 | C43: =IFERROR(VLOOKUP(B43,[2]本系生有申請輔系!A$4:B$32,2,0),"0") -> 3 | D43: =IFERROR(VLOOKUP(B43,[1]核准修讀此系為輔系!A$4:B$30,2,0),"0") -> 0 | E43: 不限 | F43: =IFERROR(VLOOKUP(B43,[2]申請此系為輔系!A$4:B$32,2,0)," 0") -> 0 | G43: =IFERROR(VLOOKUP(B43,[1]本系學生核准修讀輔系!A$4:B$30,2,0),"0") -> 3 | H43: =IFERROR(VLOOKUP(B43,[2]本系學生有申請雙修!A$4:B$23,2,0),"0") -> 1 | I43: =IFERROR(VLOOKUP(B43,[1]本系學生核准修讀雙修!A$4:B$21,2,0),"0") -> 1 | J43: 不限 | K43: =IFERROR(VLOOKUP(B43,[2]申請此系為雙修!A$4:B$25,2,0),"0") -> 0 | L43: =IFERROR(VLOOKUP(B43,[1]核准修讀此系為雙修!A$4:B$19,2,0),"0") -> 0
B44: 電子物理學系 | C44: =IFERROR(VLOOKUP(B44,[2]本系生有申請輔系!A$4:B$32,2,0),"0") -> 2 | D44: =IFERROR(VLOOKUP(B44,[1]核准修讀此系為輔系!A$4:B$30,2,0),"0") -> 2 | E44: 5 | F44: =IFERROR(VLOOKUP(B44,[2]申請此系為輔系!A$4:B$32,2,0)," 0") -> 2 | G44: =IFERROR(VLOOKUP(B44,[1]本系學生核准修讀輔系!A$4:B$30,2,0),"0") -> 2 | H44: =IFERROR(VLOOKUP(B44,[2]本系學生有申請雙修!A$4:B$23,2,0),"0") -> 0 | I44: =IFERROR(VLOOKUP(B44,[1]本系學生核准修讀雙修!A$4:B$21,2,0),"0") -> 0 | J44: 5 | K44: =IFERROR(VLOOKUP(B44,[2]申請此系為雙修!A$4:B$25,2,0),"0") -> 0 | L44: =IFERROR(VLOOKUP(B44,[1]核准修讀此系為雙修!A$4:B$19,2,0),"0") -> 0
B45: 應用化學系 | C45: =IFERROR(VLOOKUP(B45,[2]本系生有申請輔系!A$4:B$32,2,0),"0") -> 0 | D45: =IFERROR(VLOOKUP(B45,[1]核准修讀此系為輔系!A$4:B$30,2,0),"0") -> 3 | E45: 5 | F45: =IFERROR(VLOOKUP(B45,[2]申請此系為輔系!A$4:B$32,2,0)," 0") -> 3 | G45: =IFERROR(VLOOKUP(B45,[1]本系學生核准修讀輔系!A$4:B$30,2,0),"0") -> 0 | H45: =IFERROR(VLOOKUP(B45,[2]本系學生有申請雙修!A$4:B$23,2,0),"0") -> 0 | I45: =IFERROR(VLOOKUP(B45,[1]本系學生核准修讀雙修!A$4:B$21,2,0),"0") -> 0 | J45: 5 | K45: =IFERROR(VLOOKUP(B45,[2]申請此系為雙修!A$4:B$25,2,0),"0") -> 1 | L45: =IFERROR(VLOOKUP(B45,[1]核准修讀此系為雙修!A$4:B$19,2,0),"0") -> 1
B46: 生物機電工程學系 | C46: =IFERROR(VLOOKUP(B46,[2]本系生有申請輔系!A$4:B$32,2,0),"0") -> 3 | D46: =IFERROR(VLOOKUP(B46,[1]核准修讀此系為輔系!A$4:B$30,2,0),"0") -> 0 | E46: 不限 | F46: =IFERROR(VLOOKUP(B46,[2]申請此系為輔系!A$4:B$32,2,0)," 0") -> 0 | G46: =IFERROR(VLOOKUP(B46,[1]本系學生核准修讀輔系!A$4:B$30,2,0),"0") -> 2 | H46: =IFERROR(VLOOKUP(B46,[2]本系學生有申請雙修!A$4:B$23,2,0),"0") -> 1 | I46: =IFERROR(VLOOKUP(B46,[1]本系學生核准修讀雙修!A$4:B$21,2,0),"0") -> 0 | J46: 0 | K46: =IFERROR(VLOOKUP(B46,[2]申請此系為雙修!A$4:B$25,2,0),"0") -> 0 | L46: =IFERROR(VLOOKUP(B46,[1]核准修讀此系為雙修!A$4:B$19,2,0),"0") -> 0
B47: 土木與水資源工程學系 | C47: =IFERROR(VLOOKUP(B47,[2]本系生有申請輔系!A$4:B$32,2,0),"0") -> 0 | D47: =IFERROR(VLOOKUP(B47,[1]核准修讀此系為輔系!A$4:B$30,2,0),"0") -> 0 | E47: 不限 | F47: =IFERROR(VLOOKUP(B47,[2]申請此系為輔系!A$4:B$32,2,0)," 0") -> 0 | G47: =IFERROR(VLOOKUP(B47,[1]本系學生核准修讀輔系!A$4:B$30,2,0),"0") -> 0 | H47: =IFERROR(VLOOKUP(B47,[2]本系學生有申請雙修!A$4:B$23,2,0),"0") -> 1 | I47: =IFERROR(VLOOKUP(B47,[1]本系學生核准修讀雙修!A$4:B$21,2,0),"0") -> 1 | J47: 不限 | K47: =IFERROR(VLOOKUP(B47,[2]申請此系為雙修!A$4:B$25,2,0),"0") -> 3 | L47: =IFERROR(VLOOKUP(B47,[1]核准修讀此系為雙修!A$4:B$19,2,0),"0") -> 3
B48: 資訊工程學系 | C48: =IFERROR(VLOOKUP(B48,[2]本系生有申請輔系!A$4:B$32,2,0),"0") -> 1 | D48: =IFERROR(VLOOKUP(B48,[1]核准修讀此系為輔系!A$4:B$30,2,0),"0") -> 2 | E48: 2 | F48: =IFERROR(VLOOKUP(B48,[2]申請此系為輔系!A$4:B$32,2,0)," 0") -> 7 | G48: =IFERROR(VLOOKUP(B48,[1]本系學生核准修讀輔系!A$4:B$30,2,0),"0") -> 1 | H48: =IFERROR(VLOOKUP(B48,[2]本系學生有申請雙修!A$4:B$23,2,0),"0") -> 0 | I48: =IFERROR(VLOOKUP(B48,[1]本系學生核准修讀雙修!A$4:B$21,2,0),"0") -> 0 | J48: 不限 | K48: =IFERROR(VLOOKUP(B48,[2]申請此系為雙修!A$4:B$25,2,0),"0") -> 6 | L48: =IFERROR(VLOOKUP(B48,[1]核准修讀此系為雙修!A$4:B$19,2,0),"0") -> 2
B49: 電機工程學系 | C49: =IFERROR(VLOOKUP(B49,[2]本系生有申請輔系!A$4:B$32,2,0),"0") -> 2 | D49: =IFERROR(VLOOKUP(B49,[1]核准修讀此系為輔系!A$4:B$30,2,0),"0") -> 5 | E49: 5 | F49: =IFERROR(VLOOKUP(B49,[2]申請此系為輔系!A$4:B$32,2,0)," 0") -> 6 | G49: =IFERROR(VLOOKUP(B49,[1]本系學生核准修讀輔系!A$4:B$30,2,0),"0") -> 2 | H49: =IFERROR(VLOOKUP(B49,[2]本系學生有申請雙修!A$4:B$23,2,0),"0") -> 1 | I49: =IFERROR(VLOOKUP(B49,[1]本系學生核准修讀雙修!A$4:B$21,2,0),"0") -> 0 | J49: 0 | K49: =IFERROR(VLOOKUP(B49,[2]申請此系為雙修!A$4:B$25,2,0),"0") -> 0 | L49: =IFERROR(VLOOKUP(B49,[1]核准修讀此系為雙修!A$4:B$19,2,0),"0") -> 0
B50: 機械與能源工程學系 | C50: =IFERROR(VLOOKUP(B50,[2]本系生有申請輔系!A$4:B$32,2,0),"0") -> 0 | D50: =IFERROR(VLOOKUP(B50,[1]核准修讀此系為輔系!A$4:B$30,2,0),"0") -> 1 | E50: 5 | F50: =IFERROR(VLOOKUP(B50,[2]申請此系為輔系!A$4:B$32,2,0)," 0") -> 1 | G50: =IFERROR(VLOOKUP(B50,[1]本系學生核准修讀輔系!A$4:B$30,2,0),"0") -> 0 | H50: =IFERROR(VLOOKUP(B50,[2]本系學生有申請雙修!A$4:B$23,2,0),"0") -> 0 | I50: =IFERROR(VLOOKUP(B50,[1]本系學生核准修讀雙修!A$4:B$21,2,0),"0") -> 0 | J50: 5 | K50: =IFERROR(VLOOKUP(B50,[2]申請此系為雙修!A$4:B$25,2,0),"0") -> 0 | L50: =IFERROR(VLOOKUP(B50,[1]核准修讀此系為雙修!A$4:B$19,2,0),"0") -> 0
B51: 生物機電工程學系進修學士班 | C51: =IFERROR(VLOOKUP(B51,[2]本系生有申請輔系!A$4:B$32,2,0),"0") -> 0 | D51: =IFERROR(VLOOKUP(B51,[1]核准修讀此系為輔系!A$4:B$30,2,0),"0") -> 1 | E51: 不限 | F51: =IFERROR(VLOOKUP(B51,[2]申請此系為輔系!A$4:B$32,2,0)," 0") -> 1 | G51: =IFERROR(VLOOKUP(B51,[1]本系學生核准修讀輔系!A$4:B$30,2,0),"0") -> 0 | H51: =IFERROR(VLOOKUP(B51,[2]本系學生有申請雙修!A$4:B$23,2,0),"0") -> 0 | I51: =IFERROR(VLOOKUP(B51,[1]本系學生核准修讀雙修!A$4:B$21,2,0),"0") -> 0 | J51: 0 | K51: =IFERROR(VLOOKUP(B51,[2]申請此系為雙修!A$4:B$25,2,0),"0") -> 0 | L51: =IFERROR(VLOOKUP(B51,[1]核准修讀此系為雙修!A$4:B$19,2,0),"0") -> 0
B52: 土木與水資源工程學系進修學士班 | C52: =IFERROR(VLOOKUP(B52,[2]本系生有申請輔系!A$4:B$32,2,0),"0") -> 0 | D52: =IFERROR(VLOOKUP(B52,[1]核准修讀此系為輔系!A$4:B$30,2,0),"0") -> 0 | E52: 0 | F52: =IFERROR(VLOOKUP(B52,[2]申請此系為輔系!A$4:B$32,2,0)," 0") -> 0 | G52: =IFERROR(VLOOKUP(B52,[1]本系學生核准修讀輔系!A$4:B$30,2,0),"0") -> 0 | H52: =IFERROR(VLOOKUP(B52,[2]本系學生有申請雙修!A$4:B$23,2,0),"0") -> 0 | I52: =IFERROR(VLOOKUP(B52,[1]本系學生核准修讀雙修!A$4:B$21,2,0),"0") -> 0 | J52: 0 | K52: =IFERROR(VLOOKUP(B52,[2]申請此系為雙修!A$4:B$25,2,0),"0") -> 0 | L52: =IFERROR(VLOOKUP(B52,[1]核准修讀此系為雙修!A$4:B$19,2,0),"0") -> 0
B53: 資訊工程學系進修學士班 | C53: =IFERROR(VLOOKUP(B53,[2]本系生有申請輔系!A$4:B$32,2,0),"0") -> 0 | D53: =IFERROR(VLOOKUP(B53,[1]核准修讀此系為輔系!A$4:B$30,2,0),"0") -> 0 | E53: 0 | F53: =IFERROR(VLOOKUP(B53,[2]申請此系為輔系!A$4:B$32,2,0)," 0") -> 0 | G53: =IFERROR(VLOOKUP(B53,[1]本系學生核准修讀輔系!A$4:B$30,2,0),"0") -> 0 | H53: =IFERROR(VLOOKUP(B53,[2]本系學生有申請雙修!A$4:B$23,2,0),"0") -> 0 | I53: =IFERROR(VLOOKUP(B53,[1]本系學生核准修讀雙修!A$4:B$21,2,0),"0") -> 0 | J53: 0 | K53: =IFERROR(VLOOKUP(B53,[2]申請此系為雙修!A$4:B$25,2,0),"0") -> 0 | L53: =IFERROR(VLOOKUP(B53,[1]核准修讀此系為雙修!A$4:B$19,2,0),"0") -> 0
A54: 生命科學院 | B54: 食品科學系 | C54: =IFERROR(VLOOKUP(B54,[2]本系生有申請輔系!A$4:B$32,2,0),"0") -> 0 | D54: =IFERROR(VLOOKUP(B54,[1]核准修讀此系為輔系!A$4:B$30,2,0),"0") -> 2 | E54: 5 | F54: =IFERROR(VLOOKUP(B54,[2]申請此系為輔系!A$4:B$32,2,0)," 0") -> 2 | G54: =IFERROR(VLOOKUP(B54,[1]本系學生核准修讀輔系!A$4:B$30,2,0),"0") -> 0 | H54: =IFERROR(VLOOKUP(B54,[2]本系學生有申請雙修!A$4:B$23,2,0),"0") -> 3 | I54: =IFERROR(VLOOKUP(B54,[1]本系學生核准修讀雙修!A$4:B$21,2,0),"0") -> 2 | J54: 0 | K54: =IFERROR(VLOOKUP(B54,[2]申請此系為雙修!A$4:B$25,2,0),"0") -> 0 | L54: =IFERROR(VLOOKUP(B54,[1]核准修讀此系為雙修!A$4:B$19,2,0),"0") -> 0
B55: 生物資源學系 | C55: =IFERROR(VLOOKUP(B55,[2]本系生有申請輔系!A$4:B$32,2,0),"0") -> 1 | D55: =IFERROR(VLOOKUP(B55,[1]核准修讀此系為輔系!A$4:B$30,2,0),"0") -> 2 | E55: 5 | F55: =IFERROR(VLOOKUP(B55,[2]申請此系為輔系!A$4:B$32,2,0)," 0") -> 2 | G55: =IFERROR(VLOOKUP(B55,[1]本系學生核准修讀輔系!A$4:B$30,2,0),"0") -> 0 | H55: =IFERROR(VLOOKUP(B55,[2]本系學生有申請雙修!A$4:B$23,2,0),"0") -> 3 | I55: =IFERROR(VLOOKUP(B55,[1]本系學生核准修讀雙修!A$4:B$21,2,0),"0") -> 3 | J55: 2 | K55: =IFERROR(VLOOKUP(B55,[2]申請此系為雙修!A$4:B$25,2,0),"0") -> 1 | L55: =IFERROR(VLOOKUP(B55,[1]核准修讀此系為雙修!A$4:B$19,2,0),"0") -> 1
B56: 水生生物科學系 | C56: =IFERROR(VLOOKUP(B56,[2]本系生有申請輔系!A$4:B$32,2,0),"0") -> 2 | D56: =IFERROR(VLOOKUP(B56,[1]核准修讀此系為輔系!A$4:B$30,2,0),"0") -> 0 | E56: 0 | F56: =IFERROR(VLOOKUP(B56,[2]申請此系為輔系!A$4:B$32,2,0)," 0") -> 0 | G56: =IFERROR(VLOOKUP(B56,[1]本系學生核准修讀輔系!A$4:B$30,2,0),"0") -> 2 | H56: =IFERROR(VLOOKUP(B56,[2]本系學生有申請雙修!A$4:B$23,2,0),"0") -> 0 | I56: =IFERROR(VLOOKUP(B56,[1]本系學生核准修讀雙修!A$4:B$21,2,0),"0") -> 0 | J56: 0 | K56: =IFERROR(VLOOKUP(B56,[2]申請此系為雙修!A$4:B$25,2,0),"0") -> 0 | L56: =IFERROR(VLOOKUP(B56,[1]核准修讀此系為雙修!A$4:B$19,2,0),"0") -> 0
B57: 生化科技學系 | C57: =IFERROR(VLOOKUP(B57,[2]本系生有申請輔系!A$4:B$32,2,0),"0") -> 3 | D57: =IFERROR(VLOOKUP(B57,[1]核准修讀此系為輔系!A$4:B$30,2,0),"0") -> 0 | E57: 10 | F57: =IFERROR(VLOOKUP(B57,[2]申請此系為輔系!A$4:B$32,2,0)," 0") -> 0 | G57: =IFERROR(VLOOKUP(B57,[1]本系學生核准修讀輔系!A$4:B$30,2,0),"0") -> 3 | H57: =IFERROR(VLOOKUP(B57,[2]本系學生有申請雙修!A$4:B$23,2,0),"0") -> 0 | I57: =IFERROR(VLOOKUP(B57,[1]本系學生核准修讀雙修!A$4:B$21,2,0),"0") -> 0 | J57: 5 | K57: =IFERROR(VLOOKUP(B57,[2]申請此系為雙修!A$4:B$25,2,0),"0") -> 3 | L57: =IFERROR(VLOOKUP(B57,[1]核准修讀此系為雙修!A$4:B$19,2,0),"0") -> 3
B58: 微生物免疫與生物藥學系 | C58: =IFERROR(VLOOKUP(B58,[2]本系生有申請輔系!A$4:B$32,2,0),"0") -> 3 | D58: =IFERROR(VLOOKUP(B58,[1]核准修讀此系為輔系!A$4:B$30,2,0),"0") -> 4 | E58: 不限 | F58: =IFERROR(VLOOKUP(B58,[2]申請此系為輔系!A$4:B$32,2,0)," 0") -> 4 | G58: =IFERROR(VLOOKUP(B58,[1]本系學生核准修讀輔系!A$4:B$30,2,0),"0") -> 3 | H58: =IFERROR(VLOOKUP(B58,[2]本系學生有申請雙修!A$4:B$23,2,0),"0") -> 0 | I58: =IFERROR(VLOOKUP(B58,[1]本系學生核准修讀雙修!A$4:B$21,2,0),"0") -> 0 | J58: 不限 | K58: =IFERROR(VLOOKUP(B58,[2]申請此系為雙修!A$4:B$25,2,0),"0") -> 1 | L58: =IFERROR(VLOOKUP(B58,[1]核准修讀此系為雙修!A$4:B$19,2,0),"0") -> 1
B59: 食品科學系進修學士班 | C59: =IFERROR(VLOOKUP(B59,[2]本系生有申請輔系!A$4:B$32,2,0),"0") -> 0 | D59: =IFERROR(VLOOKUP(B59,[1]核准修讀此系為輔系!A$4:B$30,2,0),"0") -> 1 | E59: 5 | F59: =IFERROR(VLOOKUP(B59,[2]申請此系為輔系!A$4:B$32,2,0)," 0") -> 1 | G59: =IFERROR(VLOOKUP(B59,[1]本系學生核准修讀輔系!A$4:B$30,2,0),"0") -> 0 | H59: =IFERROR(VLOOKUP(B59,[2]本系學生有申請雙修!A$4:B$23,2,0),"0") -> 0 | I59: =IFERROR(VLOOKUP(B59,[1]本系學生核准修讀雙修!A$4:B$21,2,0),"0") -> 0 | J59: 0 | K59: =IFERROR(VLOOKUP(B59,[2]申請此系為雙修!A$4:B$25,2,0),"0") -> 0 | L59: =IFERROR(VLOOKUP(B59,[1]核准修讀此系為雙修!A$4:B$19,2,0),"0") -> 0
A60: 獸醫學院 | B60: 獸醫學系 | C60: =IFERROR(VLOOKUP(B60,[2]本系生有申請輔系!A$4:B$32,2,0),"0") -> 0 | D60: =IFERROR(VLOOKUP(B60,[1]核准修讀此系為輔系!A$4:B$30,2,0),"0") -> 0 | E60: 0 | F60: =IFERROR(VLOOKUP(B60,[2]申請此系為輔系!A$4:B$32,2,0)," 0") -> 0 | G60: =IFERROR(VLOOKUP(B60,[1]本系學生核准修讀輔系!A$4:B$30,2,0),"0") -> 0 | H60: =IFERROR(VLOOKUP(B60,[2]本系學生有申請雙修!A$4:B$23,2,0),"0") -> 0 | I60: =IFERROR(VLOOKUP(B60,[1]本系學生核准修讀雙修!A$4:B$21,2,0),"0") -> 0 | J60: 0 | K60: =IFERROR(VLOOKUP(B60,[2]申請此系為雙修!A$4:B$25,2,0),"0") -> 1 | L60: =IFERROR(VLOOKUP(B60,[1]核准修讀此系為雙修!A$4:B$19,2,0),"0") -> 0
B61: 總計 | C61: =SUM(C6:C60) -> 136 | D61: =SUM(D6:D60) -> 96 | E61: =SUM(E6:E60) -> 175 | F61: =SUM(F6:F60) -> 135 | G61: =SUM(G6:G60) -> 96 | H61: =SUM(H6:H60) -> 42 | I61: =SUM(I6:I60) -> 28 | J61: =SUM(J6:J60) -> 105 | ... L61: =SUM(L6:L60) -> 28

Sheet 113-2
A1: 國立嘉義大學113學年度第2學期申請及核准輔系、雙主修人數統計表
A2: 學院 | B2: 學系 | C2: 輔系 | H2: 雙主修
C3: 本系生 | D3: 本系學 | E3: 招收 名額 | F3: 申請此 | G3: 核准修 | H3: 本系學 | I3: 本系學 | J3: 招收 名額 | K3: 申請此 | L3: 核准修
C4: 有申請 | D4: 生核准 | F4: 系為輔 | G4: 讀此系 | H4: 生有申 | I4: 生核准 | K4: 系為雙 | L4: 讀此系
C5: 輔系 | D5: 修讀輔 | F5: 系 | G5: 為輔系 | H5: 請雙修 | I5: 修讀雙 | K5: 修 | L5: 為雙修
D6: 系 | I6: 修
A7: 師範學院 | B7: 教育學系 | C7: 1 | D7: 1 | E7: 2 | F7: 0 | G7: 0 | H7: 1 | I7: 1 | J7: 2 | K7: 0 | L7: 0
B8: 特殊教育學系 | C8: 1 | D8: 1 | E8: 2 | F8: 1 | G8: 1 | H8: 0 | I8: 0 | J8: 2 | K8: 1 | L8: 1
B9: 幼兒教育學系 | C9: 0 | D9: 0 | E9: 0 | F9: 0 | G9: 0 | H9: 1 | I9: 1 | J9: 0 | K9: 0 | L9: 0
B10: 體育與健康休閒學系 | C10: 0 | D10: 0 | E10: 5 | F10: 0 | G10: 0 | H10: 0 | I10: 0 | J10: 5 | K10: 0 | L10: 0
B11: 數位學習設計與管理學系 | C11: 18 | D11: 11 | E11: 2 | F11: 1 | G11: 1 | H11: 5 | I11: 3 | J11: 2 | K11: 1 | L11: 1
B12: 輔導與諮商學系 | C12: 1 | D12: 1 | E12: 2 | F12: 5 | G12: 0 | H12: 2 | I12: 2 | J12: 2 | K12: 0 | L12: 0
B13: 體育與健康休閒學系進修學士班 | C13: 0 | D13: 0 | E13: 5 | F13: 0 | G13: 0 | H13: 0 | I13: 0 | J13: 5 | K13: 0 | L13: 0
B14: 教育學系教育研究碩士班 | C14: 3 | D14: 0 | E14: 2 | F14: 0 | G14: 0 | H14: 0 | I14: 0 | J14: 2 | K14: 0 | L14: 0
B15: 輔導與諮商學系碩士班 | C15: 0 | D15: 0 | E15: 0 | F15: 0 | G15: 0 | H15: 0 | I15: 0 | J15: 0 | K15: 0 | L15: 0
A16: 人文藝術學院 | B16: 中國文學系 | C16: 0 | D16: 0 | E16: 5 | F16: 2 | G16: 2 | H16: 0 | I16: 0 | J16: 5 | K16: 2 | L16: 2
B17: 外國語言學系 | C17: 16 | D17: 12 | E17: 6 | F17: 1 | G17: 1 | H17: 1 | I17: 1 | J17: 6 | K17: 0 | L17: 0
B18: 應用歷史學系 | C18: 1 | D18: 1 | E18: 不限 | F18: 1 | G18: 1 | H18: 2 | I18: 1 | J18: 不限 | K18: 0 | L18: 0
B19: 視覺藝術學系 | C19: 2 | D19: 2 | E19: 不限 | F19: 2 | G19: 1 | H19: 1 | I19: 1 | J19: 不限 | K19: 1 | L19: 1
B20: 音樂學系 | C20: 1 | D20: 0 | E20: 5 | F20: 1 | G20: 0 | H20: 0 | I20: 0 | J20: 5 | K20: 0 | L20: 0
B21: 中國文學系進修學士班 | C21: 0 | D21: 0 | E21: 5 | F21: 0 | G21: 0 | H21: 0 | I21: 0 | J21: 5 | K21: 0 | L21: 0
B22: 音樂學系碩士班 | C22: 1 | D22: 0 | E22: 0 | F22: 0 | G22: 0 | H22: 0 | I22: 0 | J22: 0 | K22: 0 | L22: 0
A23: 管理學院 | B23: 科技管理學系 | C23: 2 | D23: 2 | E23: 不限 | F23: 5 | G23: 2 | H23: 0 | I23: 0 | J23: 不限 | K23: 0 | L23: 0
B24: 應用經濟學系 | C24: 0 | D24: 0 | E24: 不限 | F24: 4 | G24: 4 | H24: 0 | I24: 0 | J24: 不限 | K24: 1 | L24: 0
B25: 企業管理學系 | C25: 1 | D25: 1 | E25: 不限 | F25: 9 | G25: 8 | H25: 0 | I25: 0 | J25: 不限 | K25: 3 | L25: 3
B26: 資訊管理學系 | C26: 0 | D26: 0 | E26: 15 | F26: 11 | G26: 10 | H26: 0 | I26: 0 | J26: 0 | K26: 0 | L26: 0
B27: 財務金融學系 | C27: 0 | D27: 0 | E27: 0 | F27: 0 | G27: 0 | H27: 0 | I27: 0 | J27: 0 | K27: 0 | L27: 0
B28: 行銷與觀光管理學系 | C28: 0 | D28: 0 | E28: 5 | F28: 7 | G28: 5 | H28: 0 | I28: 0 | J28: 5 | K28: 1 | L28: 1
B29: 科技管理學系進修學士班 | C29: 0 | D29: 0 | E29: 不限 | F29: 0 | G29: 0 | H29: 0 | I29: 0 | J29: 不限 | K29: 0 | L29: 0
B30: 企業管理學系進修學士班 | C30: 0 | D30: 0 | E30: 不限 | F30: 0 | G30: 0 | H30: 0 | I30: 0 | J30: 不限 | K30: 0 | L30: 0
B31: 財務金融學系進修學士班 | C31: 0 | D31: 0 | E31: 0 | F31: 0 | G31: 0 | H31: 0 | I31: 0 | J31: 0 | K31: 0 | L31: 0
A32: 農學院 | B32: 農藝學系 | C32: 0 | D32: 0 | E32: 3 | F32: 0 | G32: 0 | H32: 0 | I32: 0 | J32: 3 | K32: 0 | L32: 0
B33: 園藝學系 | C33: 4 | D33: 3 | E33: 10 | F33: 1 | G33: 1 | H33: 0 | I33: 0 | J33: 10 | K33: 0 | L33: 0
B34: 木質材料與設計學系 | C34: 4 | D34: 0 | E34: 1 | F34: 1 | G34: 1 | H34: 0 | I34: 0 | J34: 1 | K34: 0 | L34: 0
B35: 植物醫學系 | C35: 0 | D35: 0 | E35: 2 | F35: 1 | G35: 1 | H35: 0 | I35: 0 | J35: 2 | K35: 1 | L35: 0
B36: 農業生物科技學系 | C36: 3 | D36: 2 | E36: 5 | F36: 1 | G36: 1 | H36: 4 | I36: 2 | J36: 5 | K36: 0 | L36: 0
B37: 景觀學系 | C37: 2 | D37: 2 | E37: 2 | F37: 0 | G37: 0 | H37: 0 | I37: 0 | J37: 1 | K37: 0 | L37: 0
B38: 森林暨自然資源學系 | C38: 0 | D38: 0 | E38: 5 | F38: 1 | G38: 1 | H38: 0 | I38: 0 | J38: 5 | K38: 0 | L38: 0
B39: 動物科學系 | C39: 2 | D39: 2 | E39: 5 | F39: 0 | G39: 0 | H39: 0 | I39: 0 | J39: 5 | K39: 2 | L39: 2
B40: 農場管理進修學士學位學程 | C40: 0 | D40: 0 | E40: 0 | F40: 0 | G40: 0 | H40: 0 | I40: 0 | J40: 0 | K40: 0 | L40: 0
B41: 園藝學系進修學士班 | C41: 0 | D41: 0 | E41: 0 | F41: 0 | G41: 0 | H41: 0 | I41: 0 | J41: 0 | K41: 0 | L41: 0
B42: 木質材料與設計學系進修學士班 | C42: 0 | D42: 3 | E42: 0 | F42: 0 | G42: 0 | H42: 0 | I42: 0 | J42: 0 | K42: 0 | L42: 0
B43: 動物科學系進修學士班 | C43: 0 | D43: 0 | E43: 0 | F43: 0 | G43: 0 | H43: 0 | I43: 0 | J43: 0 | K43: 0 | L43: 0
A44: 理工學院 | B44: 應用數學系 | C44: 7 | D44: 3 | E44: 不限 | F44: 3 | G44: 1 | H44: 0 | I44: 0 | J44: 不限 | K44: 0 | L44: 0
B45: 電子物理學系 | C45: 0 | D45: 0 | E45: 5 | F45: 0 | G45: 0 | H45: 0 | I45: 0 | J45: 5 | K45: 0 | L45: 0
B46: 應用化學系 | C46: 0 | D46: 0 | E46: 5 | F46: 1 | G46: 1 | H46: 0 | I46: 0 | J46: 5 | K46: 0 | L46: 0
B47: 生物機電工程學系 | C47: 7 | D47: 4 | E47: 不限 | F47: 1 | G47: 1 | H47: 0 | I47: 0 | J47: 0 | K47: 0 | L47: 0
B48: 土木與水資源工程學系 | C48: 0 | D48: 0 | E48: 不限 | F48: 1 | G48: 0 | H48: 0 | I48: 0 | J48: 不限 | K48: 0 | L48: 0
B49: 資訊工程學系 | C49: 0 | D49: 0 | E49: 2 | F49: 11 | G49: 2 | H49: 0 | I49: 0 | J49: 2 | K49: 3 | L49: 2
B50: 電機工程學系 | C50: 2 | D50: 0 | E50: 5 | F50: 7 | G50: 4 | H50: 0 | I50: 0 | J50: 0 | K50: 0 | L50: 0
B51: 機械與能源工程學系 | C51: 0 | D51: 0 | E51: 5 | F51: 2 | G51: 2 | H51: 0 | I51: 0 | J51: 5 | K51: 2 | L51: 1
B52: 生物機電工程學系進修學士班 | C52: 0 | D52: 0 | E52: 不限 | F52: 0 | G52: 0 | H52: 0 | I52: 0 | J52: 0 | K52: 0 | L52: 0
B53: 土木與水資源工程學系進修學士班 | C53: 0 | D53: 0 | E53: 0 | F53: 0 | G53: 0 | H53: 0 | I53: 0 | J53: 0 | K53: 0 | L53: 0
B54: 資訊工程學系進修學士班 | C54: 0 | D54: 0 | E54: 0 | F54: 0 | G54: 0 | H54: 0 | I54: 0 | J54: 0 | K54: 0 | L54: 0
A55: 生命科學院 | B55: 食品科學系 | C55: 0 | D55: 0 | E55: 0 | F55: 0 | G55: 0 | H55: 1 | I55: 0 | J55: 0 | K55: 0 | L55: 0
B56: 生物資源學系 | C56: 1 | D56: 0 | E56: 5 | F56: 2 | G56: 2 | H56: 1 | I56: 1 | J56: 2 | K56: 0 | L56: 0
B57: 水生生物科學系 | C57: 0 | D57: 0 | E57: 不限 | F57: 4 | G57: 3 | H57: 1 | I57: 1 | J57: 不限 | K57: 0 | L57: 0
B58: 生化科技學系 | C58: 4 | D58: 3 | E58: 10 | F58: 0 | G58: 0 | H58: 0 | I58: 0 | J58: 5 | K58: 1 | L58: 0
B59: 微生物免疫與生物藥學系 | C59: 2 | D59: 2 | E59: 不限 | F59: 0 | G59: 0 | H59: 1 | I59: 1 | J59: 不限 | K59: 3 | L59: 3
B60: 食品科學系進修學士班 | C60: 0 | D60: 0 | E60: 0 | F60: 0 | G60: 0 | H60: 0 | I60: 1 | J60: 0 | K60: 0 | L60: 0
A61: 獸醫學院 | B61: 獸醫學系 | C61: 1 | D61: 1 | E61: 0 | F61: 0 | G61: 0 | H61: 1 | I61: 1 | J61: 0 | K61: 0 | L61: 0
B62: 總計 | C62: =SUM(C7:C61) -> 87 | D62: =SUM(D7:D61) -> 57 | E62: =SUM(E7:E61) -> 131 | F62: =SUM(F7:F61) -> 87 | G62: =SUM(G7:G61) -> 57 | H62: =SUM(H7:H61) -> 22 | I62: =SUM(I7:I61) -> 17 | J62: =SUM(J7:J61) -> 102 | ... L62: =SUM(L7:L61) -> 17

Sheet 114-1
A1: 國立嘉義大學114學年度第1學期申請及核准輔系、雙主修人數統計表
A2: 學院 | B2: 學系 | C2: 輔系 | H2: 雙主修
C3: 本系生 | D3: 本系學 | E3: 招收 名額 | F3: 申請此 | G3: 核准修 | H3: 本系學 | I3: 本系學 | J3: 招收 名額 | K3: 申請此 | L3: 核准修
C4: 有申請 | D4: 生核准 | F4: 系為輔 | G4: 讀此系 | H4: 生有申 | I4: 生核准 | K4: 系為雙 | L4: 讀此系
C5: 輔系 | D5: 修讀輔 | F5: 系 | G5: 為輔系 | H5: 請雙修 | I5: 修讀雙 | K5: 修 | L5: 為雙修
D6: 系 | I6: 修
A7: 師範學院 | B7: 教育學系 | C7: 5 | D7: 3 | E7: 2 | F7: 0 | G7: 0 | H7: 1 | I7: 0 | J7: 2 | K7: 0 | L7: 0
B8: 特殊教育學系 | C8: 0 | D8: 0 | E8: 2 | F8: 2 | G8: 2 | H8: 0 | I8: 0 | J8: 2 | K8: 0 | L8: 0
B9: 幼兒教育學系 | C9: 0 | D9: 0 | E9: 0 | F9: 0 | G9: 0 | H9: 0 | I9: 0 | J9: 0 | K9: 0 | L9: 0
B10: 體育與健康休閒學系 | C10: 8 | D10: 4 | E10: 5 | F10: 0 | G10: 0 | H10: 0 | I10: 0 | J10: 5 | K10: 1 | L10: 1
B11: 數位學習設計與管理學系 | C11: 0 | D11: 0 | E11: 2 | F11: 7 | G11: 2 | H11: 1 | I11: 1 | J11: 2 | K11: 0 | L11: 0
B12: 輔導與諮商學系 | C12: 1 | D12: 0 | E12: 2 | F12: 5 | G12: 2 | H12: 1 | I12: 0 | J12: 2 | K12: 5 | L12: 2
B13: 體育與健康休閒學系進修學士班 | C13: 0 | D13: 0 | E13: 5 | F13: 0 | G13: 0 | H13: 0 | I13: 0 | J13: 5 | K13: 0 | L13: 0
B14: 教育學系教育研究碩士班 | C14: 2 | D14: 2 | E14: 2 | F14: 0 | G14: 0 | H14: 0 | I14: 0 | J14: 2 | K14: 0 | L14: 0
B15: 輔導與諮商學系碩士班 | C15: 0 | D15: 0 | E15: 0 | F15: 0 | G15: 0 | H15: 0 | I15: 0 | J15: 0 | K15: 0 | L15: 0
A16: 人文藝術學院 | B16: 中國文學系 | C16: 1 | D16: 0 | E16: 5 | F16: 0 | G16: 0 | H16: 0 | I16: 0 | J16: 5 | K16: 1 | L16: 0
B17: 外國語言學系 | C17: 26 | D17: 17 | E17: 6 | F17: 1 | G17: 0 | H17: 3 | I17: 2 | J17: 6 | K17: 2 | L17: 1
B18: 應用歷史學系 | C18: 19 | D18: 16 | E18: 不限 | F18: 0 | G18: 0 | H18: 3 | I18: 1 | J18: 不限 | K18: 0 | L18: 0
B19: 視覺藝術學系 | C19: 4 | D19: 2 | E19: 不限 | F19: 0 | G19: 0 | H19: 1 | I19: 0 | J19: 不限 | K19: 0 | L19: 0
B20: 音樂學系 | C20: 0 | D20: 0 | E20: 5 | F20: 3 | G20: 2 | H20: 1 | I20: 1 | J20: 5 | K20: 0 | L20: 0
B21: 中國文學系進修學士班 | C21: 0 | D21: 0 | E21: 5 | F21: 0 | G21: 0 | H21: 0 | I21: 0 | J21: 5 | K21: 0 | L21: 0
B22: 音樂學系碩士班 | C22: 0 | D22: 0 | E22: 0 | F22: 0 | G22: 0 | H22: 0 | I22: 0 | J22: 0 | K22: 0 | L22: 0
A23: 管理學院 | B23: 科技管理學系 | C23: 0 | D23: 0 | E23: 不限 | F23: 4 | G23: 3 | H23: 0 | I23: 0 | J23: 不限 | K23: 0 | L23: 0
B24: 應用經濟學系 | C24: 0 | D24: 0 | E24: 不限 | F24: 10 | G24: 10 | H24: 0 | I24: 0 | J24: 不限 | K24: 1 | L24: 1
B25: 企業管理學系 | C25: 7 | D25: 7 | E25: 不限 | F25: 14 | G25: 11 | H25: 0 | I25: 0 | J25: 不限 | K25: 2 | L25: 1
B26: 資訊管理學系 | C26: 0 | D26: 0 | E26: 15 | F26: 11 | G26: 9 | H26: 0 | I26: 0 | J26: 0 | K26: 0 | L26: 0
B27: 財務金融學系 | C27: 0 | D27: 0 | E27: 15 | F27: 23 | G27: 15 | H27: 0 | I27: 0 | J27: 5 | K27: 2 | L27: 1
B28: 行銷與觀光管理學系 | C28: 1 | D28: 1 | E28: 5 | F28: 7 | G28: 5 | H28: 0 | I28: 0 | J28: 5 | K28: 1 | L28: 1
B29: 科技管理學系進修學士班 | C29: 0 | D29: 0 | E29: 0 | F29: 0 | G29: 0 | H29: 0 | I29: 0 | J29: 0 | K29: 0 | L29: 0
B30: 企業管理學系進修學士班 | C30: 0 | D30: 0 | E30: 不限 | F30: 0 | G30: 0 | H30: 0 | I30: 0 | J30: 不限 | K30: 0 | L30: 0
B31: 財務金融學系進修學士班 | C31: 0 | D31: 0 | E31: 0 | F31: 0 | G31: 0 | H31: 0 | I31: 0 | J31: 0 | K31: 0 | L31: 0
B32: 企業管理學系碩士班 | C32: 1 | D32: 1 | E32: 0 | F32: 0 | G32: 0 | H32: 0 | I32: 0 | J32: 0 | K32: 0 | L32: 0
A33: 農學院 | B33: 農藝學系 | C33: 1 | D33: 0 | E33: 3 | F33: 2 | G33: 1 | H33: 0 | I33: 0 | J33: 3 | K33: 0 | L33: 0
B34: 園藝學系 | C34: 13 | D34: 8 | E34: 10 | F34: 1 | G34: 1 | H34: 6 | I34: 2 | J34: 10 | K34: 0 | L34: 0
B35: 木質材料與設計學系 | C35: 1 | D35: 1 | E35: 1 | F35: 0 | G35: 0 | H35: 2 | I35: 2 | J35: 1 | K35: 1 | L35: 0
B36: 植物醫學系 | C36: 2 | D36: 2 | E36: 2 | F36: 0 | G36: 0 | H36: 2 | I36: 2 | J36: 2 | K36: 2 | L36: 0
B37: 農業生物科技學系 | C37: 0 | D37: 0 | E37: 5 | F37: 0 | G37: 0 | H37: 0 | I37: 0 | J37: 5 | K37: 0 | L37: 0
B38: 景觀學系 | C38: 2 | D38: 2 | E38: 10 | F38: 1 | G38: 1 | H38: 0 | I38: 0 | J38: 5 | K38: 1 | L38: 1
B39: 森林暨自然資源學系 | C39: 0 | D39: 0 | E39: 5 | F39: 3 | G39: 2 | H39: 0 | I39: 0 | J39: 5 | K39: 0 | L39: 0
B40: 動物科學系 | C40: 1 | D40: 1 | E40: 5 | F40: 3 | G40: 2 | H40: 4 | I40: 3 | J40: 5 | K40: 4 | L40: 3
B41: 農場管理進修學士學位學程 | C41: 1 | D41: 1 | E41: 0 | F41: 0 | G41: 0 | H41: 0 | I41: 0 | J41: 0 | K41: 0 | L41: 0
B42: 園藝學系進修學士班 | C42: 0 | D42: 0 | E42: 0 | F42: 0 | G42: 0 | H42: 0 | I42: 0 | J42: 0 | K42: 0 | L42: 0
B43: 木質材料與設計學系進修學士班 | C43: 0 | D43: 0 | E43: 0 | F43: 0 | G43: 0 | H43: 0 | I43: 0 | J43: 0 | K43: 0 | L43: 0
B44: 動物科學系進修學士班 | C44: 0 | D44: 0 | E44: 0 | F44: 0 | G44: 0 | H44: 0 | I44: 0 | J44: 0 | K44: 0 | L44: 0
A45: 理工學院 | B45: 應用數學系 | C45: 6 | D45: 3 | E45: 不限 | F45: 3 | G45: 3 | H45: 1 | I45: 1 | J45: 不限 | K45: 0 | L45: 0
B46: 電子物理學系 | C46: 0 | D46: 0 | E46: 5 | F46: 4 | G46: 3 | H46: 1 | I46: 1 | J46: 5 | K46: 0 | L46: 0
B47: 應用化學系 | C47: 0 | D47: 0 | E47: 5 | F47: 1 | G47: 1 | H47: 0 | I47: 0 | J47: 5 | K47: 1 | L47: 1
B48: 生物機電工程學系 | C48: 5 | D48: 4 | E48: 不限 | F48: 3 | G48: 1 | H48: 0 | I48: 0 | J48: 0 | K48: 0 | L48: 0
B49: 土木與水資源工程學系 | C49: 3 | D49: 2 | E49: 不限 | F49: 1 | G49: 0 | H49: 0 | I49: 0 | J49: 不限 | K49: 0 | L49: 0
B50: 資訊工程學系 | C50: 0 | D50: 0 | E50: 2 | F50: 9 | G50: 2 | H50: 0 | I50: 0 | J50: 2 | K50: 2 | L50: 2
B51: 電機工程學系 | C51: 1 | D51: 1 | E51: 5 | F51: 5 | G51: 5 | H51: 0 | I51: 0 | J51: 0 | K51: 0 | L51: 0
B52: 機械與能源工程學系 | C52: 0 | D52: 0 | E52: 5 | F52: 1 | G52: 1 | H52: 0 | I52: 0 | J52: 5 | K52: 0 | L52: 0
B53: 生物機電工程學系進修學士班 | C53: 0 | D53: 0 | E53: 不限 | F53: 0 | G53: 0 | H53: 0 | I53: 0 | J53: 0 | K53: 0 | L53: 0
B54: 土木與水資源工程學系進修學士班 | C54: 0 | D54: 0 | E54: 0 | F54: 0 | G54: 0 | H54: 0 | I54: 0 | J54: 0 | K54: 0 | L54: 0
B55: 資訊工程學系進修學士班 | C55: 0 | D55: 0 | E55: 0 | F55: 0 | G55: 0 | H55: 0 | I55: 0 | J55: 0 | K55: 0 | L55: 0
A56: 生命科學院 | B56: 食品科學系 | C56: 1 | D56: 1 | E56: 5 | F56: 3 | G56: 3 | H56: 1 | I56: 1 | J56: 0 | K56: 0 | L56: 0
B57: 生物資源學系 | C57: 4 | D57: 2 | E57: 5 | F57: 5 | G57: 3 | H57: 2 | I57: 1 | J57: 2 | K57: 0 | L57: 0
B58: 水生生物科學系 | C58: 1 | D58: 1 | E58: 不限 | F58: 3 | G58: 3 | H58: 0 | I58: 0 | J58: 不限 | K58: 0 | L58: 0
B59: 生化科技學系 | C59: 1 | D59: 1 | E59: 10 | F59: 2 | G59: 2 | H59: 1 | I59: 1 | J59: 5 | K59: 0 | L59: 0
B60: 微生物免疫與生物藥學系 | C60: 19 | D60: 12 | E60: 不限 | F60: 1 | G60: 1 | H60: 0 | I60: 0 | J60: 不限 | K60: 5 | L60: 4
B61: 食品科學系進修學士班 | C61: 0 | D61: 0 | E61: 5 | F61: 1 | G61: 1 | H61: 0 | I61: 0 | J61: 5 | K61: 0 | L61: 0
B62: 生化科技學系碩士班 | C62: 1 | D62: 1 | E62: 0 | F62: 0 | G62: 0 | H62: 0 | I62: 0 | J62: 0 | K62: 0 | L62: 0
A63: 獸醫學院 | B63: 獸醫學系 | C63: 1 | D63: 1 | E63: 0 | F63: 0 | G63: 0 | H63: 0 | I63: 0 | J63: 0 | K63: 0 | L63: 0
B64: 總計 | C64: =SUM(C7:C63) -> 139 | D64: =SUM(D7:D63) -> 97 | F64: =SUM(F7:F63) -> 139 | G64: =SUM(G7:G63) -> 97 | H64: =SUM(H7:H63) -> 31 | I64: =SUM(I7:I63) -> 19 | K64: =SUM(K7:K63) -> 31 | L64: =SUM(L7:L63) -> 19

Sheet 114-2
A1: 國立嘉義大學114學年度第2學期申請及核准輔系、雙主修人數統計表
A2: 學院 | B2: 學系 | C2: 輔系 | H2: 雙主修
C3: 本系生 | D3: 本系學 | E3: 招收 名額 | F3: 申請此 | G3: 核准修 | H3: 本系學 | I3: 本系學 | J3: 招收 名額 | K3: 申請此 | L3: 核准修
C4: 有申請 | D4: 生核准 | F4: 系為輔 | G4: 讀此系 | H4: 生有申 | I4: 生核准 | K4: 系為雙 | L4: 讀此系
C5: 輔系 | D5: 修讀輔 | F5: 系 | G5: 為輔系 | H5: 請雙修 | I5: 修讀雙 | K5: 修 | L5: 為雙修
D6: 系 | I6: 修
A7: 師範學院 | B7: 教育學系 | C7: 2 | D7: 1 | E7: 2 | F7: 0 | G7: 0 | H7: 0 | I7: 0 | J7: 2 | K7: 0 | L7: 0
B8: 特殊教育學系 | C8: 0 | D8: 0 | E8: 2 | F8: 1 | G8: 1 | H8: 0 | I8: 0 | J8: 2 | K8: 2 | L8: 1
B9: 幼兒教育學系 | C9: 1 | D9: 0 | E9: 0 | F9: 0 | G9: 0 | H9: 0 | I9: 0 | J9: 0 | K9: 0 | L9: 0
B10: 體育與健康休閒學系 | C10: 1 | D10: 1 | E10: 5 | F10: 0 | G10: 0 | H10: 0 | I10: 0 | J10: 5 | K10: 1 | L10: 1
B11: 數位學習設計與管理學系 | C11: 10 | D11: 8 | E11: 2 | F11: 0 | G11: 0 | H11: 2 | I11: 1 | J11: 2 | K11: 1 | L11: 1
B12: 輔導與諮商學系 | C12: 0 | D12: 0 | E12: 2 | F12: 4 | G12: 2 | H12: 0 | I12: 0 | J12: 2 | K12: 0 | L12: 0
B13: 體育與健康休閒學系進修學士班 | C13: 0 | D13: 0 | E13: 5 | F13: 0 | G13: 0 | H13: 0 | I13: 0 | J13: 5 | K13: 0 | L13: 0
B14: 體育與健康休閒學系碩士班 | C14: 0 | D14: 0 | E14: 0 | F14: 1 | G14: 1 | H14: 0 | I14: 0 | J14: 0 | K14: 0 | L14: 0
B15: 數理碩班 | C15: 0 | D15: 0 | E15: 0 | F15: 1 | G15: 0 | H15: 0 | I15: 0 | J15: 0 | K15: 0 | L15: 0
A16: 人文藝術學院 | B16: 中國文學系 | C16: 1 | D16: 1 | E16: 5 | F16: 1 | G16: 0 | H16: 0 | I16: 0 | J16: 5 | K16: 1 | L16: 1
B17: 外國語言學系 | C17: 8 | D17: 6 | E17: 6 | F17: 0 | G17: 0 | H17: 0 | I17: 0 | J17: 6 | K17: 0 | L17: 0
B18: 應用歷史學系 | C18: 0 | D18: 0 | E18: 不限 | F18: 0 | G18: 0 | H18: 2 | I18: 2 | J18: 不限 | K18: 0 | L18: 0
B19: 視覺藝術學系 | C19: 0 | D19: 0 | E19: 不限 | F19: 0 | G19: 0 | H19: 0 | I19: 0 | J19: 不限 | K19: 0 | L19: 0
B20: 音樂學系 | C20: 0 | D20: 0 | E20: 5 | F20: 0 | G20: 0 | H20: 1 | I20: 1 | J20: 5 | K20: 0 | L20: 0
B21: 中國文學系進修學士班 | C21: 0 | D21: 0 | E21: 5 | F21: 0 | G21: 0 | H21: 0 | I21: 0 | J21: 5 | K21: 0 | L21: 0
A22: 管理學院 | B22: 科技管理學系 | C22: 0 | D22: 0 | E22: 不限 | F22: 3 | G22: 2 | H22: 3 | I22: 1 | J22: 不限 | K22: 0 | L22: 0
B23: 應用經濟學系 | C23: 2 | D23: 2 | E23: 不限 | F23: 3 | G23: 2 | H23: 0 | I23: 0 | J23: 不限 | K23: 1 | L23: 0
B24: 企業管理學系 | C24: 0 | D24: 0 | E24: 不限 | F24: 3 | G24: 2 | H24: 0 | I24: 0 | J24: 不限 | K24: 1 | L24: 1
B25: 資訊管理學系 | C25: 1 | D25: 0 | E25: 15 | F25: 4 | G25: 3 | H25: 0 | I25: 0 | J25: 0 | K25: 0 | L25: 0
B26: 財務金融學系 | C26: 0 | D26: 0 | E26: 0 | F26: 0 | G26: 0 | H26: 0 | I26: 0 | J26: 0 | K26: 0 | L26: 0
B27: 行銷與觀光管理學系 | C27: 0 | D27: 0 | E27: 5 | F27: 5 | G27: 5 | H27: 0 | I27: 0 | J27: 5 | K27: 1 | L27: 0
B28: 科技管理學系進修學士班 | C28: 0 | D28: 0 | E28: 不限 | F28: 0 | G28: 0 | H28: 0 | I28: 0 | J28: 不限 | K28: 0 | L28: 0
B29: 企業管理學系進修學士班 | C29: 0 | D29: 0 | E29: 不限 | F29: 0 | G29: 0 | H29: 0 | I29: 0 | J29: 不限 | K29: 0 | L29: 0
B30: 財務金融學系進修學士班 | C30: 0 | D30: 0 | E30: 0 | F30: 0 | G30: 0 | H30: 0 | I30: 0 | J30: 0 | K30: 0 | L30: 0
B31: 企業管理學系碩士班 | C31: 3 | D31: 2 | E31: 0 | F31: 0 | G31: 0 | H31: 0 | I31: 0 | J31: 0 | K31: 0 | L31: 0
B32: 資訊管理學系碩士班 | C32: 0 | D32: 0 | E32: 0 | F32: 1 | G32: 1 | H32: 0 | I32: 0 | J32: 0 | K32: 0 | L32: 0
A33: 農學院 | B33: 農藝學系 | C33: 2 | D33: 2 | E33: 3 | F33: 1 | G33: 1 | H33: 0 | I33: 0 | J33: 3 | K33: 0 | L33: 0
B34: 園藝學系 | C34: 0 | D34: 0 | E34: 10 | F34: 0 | G34: 0 | H34: 0 | I34: 0 | J34: 10 | K34: 1 | L34: 1
B35: 木質材料與設計學系 | C35: 1 | D35: 1 | E35: 1 | F35: 2 | G35: 0 | H35: 2 | I35: 1 | J35: 1 | K35: 0 | L35: 0
B36: 植物醫學系 | C36: 1 | D36: 1 | E36: 2 | F36: 2 | G36: 2 | H36: 1 | I36: 1 | J36: 2 | K36: 0 | L36: 0
B37: 農業生物科技學系 | C37: 11 | D37: 8 | E37: 5 | F37: 0 | G37: 0 | H37: 1 | I37: 1 | J37: 5 | K37: 0 | L37: 0
B38: 景觀學系 | C38: 0 | D38: 0 | E38: 10 | F38: 4 | G38: 4 | H38: 1 | I38: 1 | J38: 5 | K38: 0 | L38: 0
B39: 森林暨自然資源學系 | C39: 0 | D39: 0 | E39: 5 | F39: 1 | G39: 1 | H39: 0 | I39: 0 | J39: 5 | K39: 0 | L39: 0
B40: 動物科學系 | C40: 0 | D40: 0 | E40: 5 | F40: 0 | G40: 0 | H40: 1 | I40: 1 | J40: 5 | K40: 1 | L40: 1
B41: 農場管理進修學士學位學程 | C41: 0 | D41: 0 | E41: 0 | F41: 0 | G41: 0 | H41: 0 | I41: 0 | J41: 0 | K41: 0 | L41: 0
B42: 園藝學系進修學士班 | C42: 0 | D42: 0 | E42: 0 | F42: 0 | G42: 0 | H42: 0 | I42: 0 | J42: 0 | K42: 0 | L42: 0
B43: 木質材料與設計學系進修學士班 | C43: 0 | D43: 0 | E43: 0 | F43: 0 | G43: 0 | H43: 0 | I43: 0 | J43: 0 | K43: 0 | L43: 0
B44: 動物科學系進修學士班 | C44: 0 | D44: 0 | E44: 0 | F44: 0 | G44: 0 | H44: 0 | I44: 0 | J44: 0 | K44: 0 | L44: 0
A45: 理工學院 | B45: 應用數學系 | C45: 1 | D45: 1 | E45: 不限 | F45: 1 | G45: 1 | H45: 5 | I45: 2 | J45: 不限 | K45: 1 | L45: 0
B46: 電子物理學系 | C46: 0 | D46: 0 | E46: 5 | F46: 1 | G46: 1 | H46: 0 | I46: 0 | J46: 5 | K46: 1 | L46: 1
B47: 應用化學系 | C47: 0 | D47: 0 | E47: 5 | F47: 2 | G47: 1 | H47: 0 | I47: 0 | J47: 5 | K47: 3 | L47: 3
B48: 生物機電工程學系 | C48: 5 | D48: 4 | E48: 不限 | F48: 1 | G48: 1 | H48: 0 | I48: 0 | J48: 0 | K48: 0 | L48: 0
B49: 土木與水資源工程學系 | C49: 0 | D49: 0 | E49: 不限 | F49: 1 | G49: 1 | H49: 0 | I49: 0 | J49: 不限 | K49: 0 | L49: 0
B50: 資訊工程學系 | C50: 0 | D50: 0 | E50: 2 | F50: 3 | G50: 2 | H50: 0 | I50: 0 | J50: 2 | K50: 3 | L50: 2
B51: 電機工程學系 | C51: 0 | D51: 0 | E51: 5 | F51: 4 | G51: 3 | H51: 1 | I51: 1 | J51: 0 | K51: 0 | L51: 0
B52: 機械與能源工程學系 | C52: 0 | D52: 0 | E52: 5 | F52: 1 | G52: 1 | H52: 0 | I52: 0 | J52: 5 | K52: 2 | L52: 0
B53: 生物機電工程學系進修學士班 | C53: 0 | D53: 0 | E53: 不限 | F53: 0 | G53: 0 | H53: 0 | I53: 0 | J53: 0 | K53: 0 | L53: 0
B54: 土木與水資源工程學系進修學士班 | C54: 0 | D54: 0 | E54: 0 | F54: 0 | G54: 0 | H54: 0 | I54: 0 | J54: 0 | K54: 0 | L54: 0
B55: 資訊工程學系進修學士班 | C55: 0 | D55: 0 | E55: 0 | F55: 0 | G55: 0 | H55: 0 | I55: 0 | J55: 0 | K55: 0 | L55: 0
A56: 生命科學院 | B56: 食品科學系 | C56: 3 | D56: 2 | E56: 0 | F56: 0 | G56: 0 | H56: 1 | I56: 1 | J56: 0 | K56: 0 | L56: 0
B57: 生物資源學系 | C57: 2 | D57: 2 | E57: 5 | F57: 2 | G57: 2 | H57: 0 | I57: 0 | J57: 2 | K57: 0 | L57: 0
B58: 水生生物科學系 | C58: 0 | D58: 0 | E58: 0 | F58: 0 | G58: 0 | H58: 1 | I58: 1 | J58: 0 | K58: 0 | L58: 0
B59: 生化科技學系 | C59: 0 | D59: 0 | E59: 10 | F59: 3 | G59: 3 | H59: 1 | I59: 1 | J59: 5 | K59: 1 | L59: 1
B60: 微生物免疫與生物藥學系 | C60: 4 | D60: 3 | E60: 不限 | F60: 3 | G60: 2 | H60: 0 | I60: 0 | J60: 不限 | K60: 2 | L60: 2
B61: 食品科學系進修學士班 | C61: 0 | D61: 0 | E61: 0 | F61: 0 | G61: 0 | H61: 0 | I61: 0 | J61: 0 | K61: 0 | L61: 0
A62: 獸醫學院 | B62: 獸醫學系 | C62: 0 | D62: 0 | E62: 0 | F62: 0 | G62: 0 | H62: 0 | I62: 0 | J62: 0 | K62: 0 | L62: 0
B63: 總計 | C63: =SUM(C7:C62) -> 59 | D63: =SUM(D7:D62) -> 45 | F63: =SUM(F7:F62) -> 59 | G63: =SUM(G7:G62) -> 45 | H63: =SUM(H7:H62) -> 23 | I63: =SUM(I7:I62) -> 16 | K63: =SUM(K7:K62) -> 23 | L63: =SUM(L7:L62) -> 16
